{"text_format":"1","workbook":"xlsx","n_sheets":27,"sheets":["MENU","筐体温度計算(4.1.3)","筐体温度計算実験式（4.1.1)","熱回路網法_筐体熱回路モデル (4.1.4)","日射の計算（6.4.1)","熱回路網法_筐体熱回路モデル　日射(6.4.2)","モータ計算シート（7.4.2)","サーマルビア(8.5.2)","ジュール発熱計算(8.6.1)","PCBの等価熱伝達率","ヒートシンクの非定常計算(10.8)","アルミ板の定常熱解析","アルミ板のの非定常計算","水冷ヒートシンク計算(11.2.3)","ペルチェモジュール　熱回路モデル(11.3.2)","【事例1】　密閉機器筐体","【事例1】　密閉機器基板","【事例1】危険部品判断シート","LEEの式 (2)","【事例2】　自然空冷通風機器","【事例2】危険部品判断シート","LEEの式 (3)","【事例3】危険部品判断シート","ダクト計算","平板の対流放射","平板の強制対流","LEEの式 (4)"],"not_rendered":{"charts":8,"images":17,"macros":1,"external_links":0,"defined_names":0,"comments":7,"pivot_tables":0},"unopened":[],"bounds":{"document_bytes":16777216,"sheet_cells":100000,"rows_first":2000,"rows_last":500,"rows_between":2000,"halvings":0,"cell_chars":16384,"cell_head_chars":4096},"cells_cut":0,"cells_raw":0,"read":"whole","date_system":"1900"}

{"sheet":"MENU","index":0,"n_rows":29,"n_cols":14,"rows_kept":29,"cut":false,"hidden":false,"merged":[]}
[]
[null,null,null,null,null,null,null,"熱計算Excelシート　メニュー",null,null,null,null,null,"作成：国峰尚樹"]
[null,null,null,null,null,null,null,null,null,null,null,null,null,"2023年11月21日　修正"]
[]
[null,null,null,"第4章",null,null,null,null,null,"第１０章"]
[]
[]
[]
[]
[null,null,null,null,null,null,null,null,null,"第１１章"]
[]
[]
[]
[]
[]
[null,null,null,"第６章"]
[]
[null,null,null,null,null,null,null,null,null,"第１２章"]
[]
[]
[]
[]
[]
[null,null,null,"第７章"]
[]
[]
[]
[]
[null,null,null,"第８章"]

{"sheet":"筐体温度計算(4.1.3)","index":1,"n_rows":22,"n_cols":5,"rows_kept":22,"cut":false,"hidden":false,"merged":[[9,2,9,3],[10,2,10,3],[11,2,11,3]]}
["自然空冷筐体温度計算　(4.1.3項で解説） 伝熱基礎式の組み合わせによる計算"]
["筐体幅(m)",0.08]
["筐体奥行(m)",0.1,"上面代表長",{"$f":"MIN(B2,B3)","v":0.08}]
["筐体高さ(m)",0.15,"Stop",{"$f":"B2*B3+F4","v":8.0000000000000002E-3}]
["表面放射率",0.85,"Sside",{"$f":"(B2+B3)*2*B4","v":5.3999999999999999E-2}]
["発熱量 (W)",20,"Sbot",{"$f":"B2*B3","v":8.0000000000000002E-3}]
["通風口面積　(m2)",3.2000000000000002E-3,"σ",5.6699999999999998E-8]
["周囲空気温度℃",35,"煙突長",{"$f":"B4/2","v":7.4999999999999997E-2}]
[]
["表面温度上昇ΔＴ（仮定値）",9.3693967452591309,"内部空気温度上昇",null,{"$f":"B10*2","v":18.738793490518262}]
["周囲温度（K）",{"$f":"B8+273.15","v":308.14999999999998},"内部空気温度",null,{"$f":"E10+B8","v":53.738793490518262}]
["表面温度（K)",{"$f":"B8+B10+273.15","v":317.51939674525909},"表面温度",null,{"$f":"B10+B8","v":44.369396745259131}]
[]
[null,"熱伝達率","熱ｺﾝﾀﾞｸﾀﾝｽ","放熱量"]
["上面の対流熱伝達率",{"$f":"2.51*0.54*(B10/D3)^0.25","v":4.458850301927189},{"$f":"B15*D4","v":3.5670802415417514E-2},{"$f":"C15*$B$10","v":0.33421390005179441}]
["側面の対流熱伝達率",{"$f":"2.51*0.56*(B10/B4)^0.25","v":3.9515441725498937},{"$f":"B16*D5","v":0.21338338531769427},{"$f":"C16*$B$10","v":1.9992735958879797}]
["底面の対流熱伝達率",{"$f":"2.51*0.27*(B10/D3)^0.25","v":2.2294251509635945},{"$f":"B17*D6","v":1.7835401207708757E-2},{"$f":"C17*$B$10","v":0.16710695002589721}]
["全面の放射熱伝達率",{"$f":"D7*B5*(B12^2+B11^2)*(B12+B11)","v":5.9034257809068329},{"$f":"B18*(D4+D5+D6)","v":0.41323980466347832},{"$f":"C18*$B$10","v":3.8718076808255129}]
["換気による放熱量",null,null,{"$f":"1150*B7*0.1667*(D8*E10)^0.5*E10","v":13.627823113477717}]
["合計放熱量",null,null,{"$f":"SUM(D15:D19)","v":20.0002252402689}]
[]
["ＥＲＲ",{"$f":"B6-D20","v":-2.2524026890025084E-4}]

{"sheet":"筐体温度計算実験式（4.1.1)","index":2,"n_rows":13,"n_cols":5,"rows_kept":13,"cut":false,"hidden":false,"merged":[]}
["自然空冷筐体温度計算　(4.1.3項で解説）筐体温度上昇計算式（実験式）"]
["筐体縦(m)",0.08]
["筐体横(m)",0.1]
["筐体高さ(m)",0.15,"Stop",{"$f":"B2*B3","v":8.0000000000000002E-3},"筐体上面面積"]
["表面放射率",0.85,"Sside",{"$f":"(B2+B3)*2*B4","v":5.3999999999999999E-2},"筐体側面面積"]
["発熱量 (W)",19,"Sbot",{"$f":"B2*B3","v":8.0000000000000002E-3},"筐体底面面積"]
["通風口面積　(m2)",3.2000000000000002E-3,"σ",5.6699999999999998E-8,"ステファンボルツマン定数"]
["周囲空気温度℃",35,"煙突高さ",{"$f":"B4/2","v":7.4999999999999997E-2},"筐体高さの1/2としている"]
[]
["ΔＴ（仮定値）",18.089476775336234]
[]
["Ｗ",{"$f":"(2.8*D4+2.2*D5+1.5*D6)*(B10/2)^1.25+4*D7*B5*((D4+D5+D6)*(B8+B10/4+273)^3)*(B10/2)+1150*B7*0.166*(D8*B10)^0.5*B10","v":19.000019716480558}]
["ＥＲＲ",{"$f":"B6-B12","v":-1.9716480558429339E-5}]

{"sheet":"熱回路網法_筐体熱回路モデル (4.1.4)","index":3,"n_rows":41,"n_cols":7,"rows_kept":41,"cut":false,"hidden":false,"merged":[]}
["熱回路網法 筐体熱回路モデル（4.1.4項）で解説"]
[]
["節点数","要素数","発熱節点数","温度固定節点数","計算反復回数"]
[8,25,1,1,5]
[]
["節点１","節点２","熱ｺﾝﾀﾞｸﾀﾝｽ","発熱点番号","発熱量","固定点番号","固定温度"]
[1,8,{"$f":"G17*G18*(0.54*2.51*(ABS(B34-$B$41)/MIN(G17,G18))^0.25+G22*0.0000000567*((B34+273.15)^2+($B$41+273.15)^2)*((B34+273.15)+($B$41+273.15)))","v":8.3103702876448152E-2},7,{"$f":"G25","v":20},8,{"$f":"G26","v":35}]
[2,8,{"$f":"G17*G19*(0.56*2.51*(ABS(B35-$B$41)/G19)^0.25+G22*0.0000000567*((B35+273.15)^2+($B$41+273.15)^2)*((B35+273.15)+($B$41+273.15)))","v":0.11855908383561574}]
[3,8,{"$f":"G18*G19*(0.56*2.51*(ABS(B36-$B$41)/G19)^0.25+G22*0.0000000567*((B36+273.15)^2+($B$41+273.15)^2)*((B36+273.15)+($B$41+273.15)))","v":0.14819886237573276}]
[4,8,{"$f":"G17*G19*(0.56*2.51*(ABS(B37-$B$41)/G19)^0.25+G22*0.0000000567*((B37+273.15)^2+($B$41+273.15)^2)*((B37+273.15)+($B$41+273.15)))","v":0.11855908383561574}]
[5,8,{"$f":"G18*G19*(0.56*2.51*(ABS(B38-$B$41)/G19)^0.25+G22*0.0000000567*((B38+273.15)^2+($B$41+273.15)^2)*((B38+273.15)+($B$41+273.15)))","v":0.14819885479451966}]
[6,8,{"$f":"G17*G18*(0.27*2.51*(ABS(B39-B41)/MIN(G17,G18))^0.25+G22*0.0000000567*((B39+273.15)^2+(B41+273.15)^2)*((B39+273.15)+(B41+273.15)))","v":6.523148392456056E-2}]
[1,2,{"$f":" G17* G20* G21/( G18/2+ G19/2)","v":5.7600000000000001E-4}]
[1,3,{"$f":" G18*G20*G21/(G17/2+G19/2)","v":7.8260869565217406E-4}]
[1,4,{"$f":"C13","v":5.7600000000000001E-4}]
[1,5,{"$f":"C14","v":7.8260869565217406E-4},null,null,"入力"]
[2,3,{"$f":"G19*G20*G21/(G17/2+G18/2)","v":1.5E-3},null,null,"筐体幅(m)",0.08]
[3,4,{"$f":"C17","v":1.5E-3},null,null,"筐体奥行(m)",0.1]
[4,5,{"$f":"C18","v":1.5E-3},null,null,"筐体高さ(m)",0.15]
[5,2,{"$f":"C19","v":1.5E-3},null,null,"筐体厚み(m)",3.0000000000000001E-3]
[2,6,{"$f":"C13","v":5.7600000000000001E-4},null,null,"筺体熱伝導率(W/mK)",0.3]
[3,6,{"$f":"C14","v":7.8260869565217406E-4},null,null,"外表面放射率",0.85]
[4,6,{"$f":"C15","v":5.7600000000000001E-4},null,null,"内表面放射率",0.85]
[5,6,{"$f":"C16","v":7.8260869565217406E-4},null,null,"通風口面積(m2)",3.2000000000000002E-3]
[1,7,{"$f":"G17*G18*(0.54*2.51*(ABS(B34-$B$40)/MIN(G17,G18))^0.25+G23*0.0000000567*((B34+273.15)^2+($B$40+273.15)^2)*((B34+273.15)+($B$40+273.15)))","v":8.7043471356157323E-2},null,null,"発熱量(W)",20]
[2,7,{"$f":"G17*G19*(0.56*2.51*(ABS(B35-$B$40)/G19)^0.25+G23*0.0000000567*((B35+273.15)^2+($B$40+273.15)^2)*((B35+273.15)+($B$40+273.15)))","v":0.12450833726664372},null,null,"周囲温度(℃)",35]
[3,7,{"$f":"G18*G19*(0.56*2.51*(ABS(B36-$B$40)/G19)^0.25+G23*0.0000000567*((B36+273.15)^2+($B$40+273.15)^2)*((B36+273.15)+($B$40+273.15)))","v":0.15563541711884493}]
[4,7,{"$f":"C26","v":0.12450833726664372}]
[5,7,{"$f":"C27","v":0.15563541711884493}]
[6,7,{"$f":"G17*G18*(0.27*2.51*(ABS(B39-$B$40)/MIN(G17,G18))^0.25+G23*0.0000000567*((B39+273.15)^2+($B$40+273.15)^2)*((B39+273.15)+($B$40+273.15)))","v":6.9315404293627619E-2}]
[8,7,{"$f":"1150*G24*0.166*(G19/2*(B40-B41))^0.5","v":0.7226059885628372}]
[]
["節点番号","温度","温度上昇"]
[1,44.544441223144531,{"$f":"B34-B41","v":9.5444412231445313},"上面"]
[2,44.556663513183594,{"$f":"B35-B41","v":9.5566635131835938},"前面"]
[3,44.556667327880859,{"$f":"B36-B41","v":9.5566673278808594},"左面"]
[4,44.556663513183594,{"$f":"B37-B41","v":9.5566635131835938},"後面"]
[5,44.556663513183594,{"$f":"B38-B41","v":9.5566635131835938},"右面"]
[6,44.610305786132813,{"$f":"B39-B41","v":9.6103057861328125},"底面","風速"]
[7,53.656494140625,{"$f":"B40-B41","v":18.656494140625},"内部空気",{"$f":"0.166*(G19/2*(B40-B41))^0.5","v":0.19636032297903183},"m/s"]
[8,35,{"$f":"B41-B41","v":0},"外気"]

{"sheet":"日射の計算（6.4.1)","index":4,"n_rows":43,"n_cols":14,"rows_kept":43,"cut":false,"hidden":false,"merged":[]}
["屋外設置筐体の日射受熱量(6.4.1項)"]
[]
[null,null,null,"太陽定数",1353,"(W/m2)"]
["■機器設置地域と時間/天気",null,null,"度/ﾗｼﾞｱﾝ",{"$f":"3.14159/180","v":1.7453277777777776E-2}]
["   土地の緯度（度）",38]
["春分の日からの経過日数(日)",100," 太陽赤緯°",{"$f":"25*SIN(3.14159*2*(B6/365))","v":24.716945210377911},"(春分/秋分日０、±２５度）"]
["     時刻  (時:24H表示）",14," 時角（°）",{"$f":"(B7-12)*15","v":30},"(正午が０、１時間１５度）"]
["    日射量透過率Ｐ",0.78,"（晴れ0.78,もや晴れ0.66,うす晴れ0.53)"]
[]
["■機器設置方向","南","東","北","西","上","底面"]
[" 南壁面の方位角（度）",0,{"$f":"B11+90","v":90},{"$f":"B11-180","v":-180},{"$f":"B11-90","v":-90},{"$f":"B11","v":0},{"$f":"B11","v":0}]
["■筐体寸法","幅(m)","高さ (m)","奥行き (m)"]
["  横、高さ、奥行き",0.22,0.1,0.2]
["各面","南面","西面","北面","東面","上面","底面"]
["  各外壁面の太陽吸収率",0.75,{"$f":"B15","v":0.75},{"$f":"B15","v":0.75},{"$f":"B15","v":0.75},{"$f":"B15","v":0.75},{"$f":"B15","v":0.75}]
["日除け有無（有:1,無:0）",0,0,0,0,0,0]
["■計算結果"]
[null,"南面","西面","北面","東面","上面","底面","合計(W)"]
["各面の日射受熱量（Ｗ）",{"$f":"I25","v":3.500098840823151},{"$f":"I26","v":7.7589739868574732},{"$f":"I27","v":0.89597378126391347},{"$f":"I28","v":0.81452161933083045},{"$f":"I29","v":33.095428628130279},{"$f":"I30","v":0},{"$f":"SUM(B19:G19)","v":46.064996856405649}]
[]
[]
["      太陽高度H(度）",{"$f":"(ASIN(C22))/E4","v":61.323873170491353},{"$f":"SIN(D6*E4)*SIN(B5*E4)+COS(D6*E4)*COS(B5*E4)*COS(D7*E4)","v":0.87734574627379769},"（SIN(H))","法線面直達日射量",null,"水平天空輻射量"]
["    太陽方位角A(度）",{"$f":"(ASIN(C23))/E4","v":71.175641734464946},{"$f":"COS(D6*E4)*SIN(D7*E4)*(1/COS(B22*E4))","v":0.94651183056358823},null,{"$f":"E3*B8^(1/SIN(B22*E4))","v":1019.3118252760971},null,{"$f":"IF(B22>0,1/2*$E$3*$C$22*((1-$B$8^(1/$C$22))/(1-1.4*LN($B$8))),0)","v":108.60288257744405}]
[null,"(度）","COS(θ)","直達日射量","天空幅射量","全日射量","面面積","全日射受熱","吸収熱"]
["   各面の入射角 南",{"$f":"IF((ASIN(C25))/E4>0,(ASIN(C25))/E4,0)","v":8.9072694217037895},{"$f":"IF(B22>0,COS(B22*E4)*COS(B23*E4-B11*E4),0)","v":0.15483560307235586},{"$f":"MAX($E$23*C25,0)","v":157.82576118540831},{"$f":"$G$23/2","v":54.301441288722025},{"$f":"IF(B16=1,E25,D25+E25)","v":212.12720247413034},{"$f":"B13*C13","v":2.2000000000000002E-2},{"$f":"F25*G25","v":4.666798454430868},{"$f":"H25*B15","v":3.500098840823151}]
["       (θ)    西",{"$f":"IF((ASIN(C26))/E4>0,(ASIN(C26))/E4,0)","v":27.012994489840402},{"$f":"IF(B22>0,COS(B22*E4)*COS(B23*E4-C11*E4),0)","v":0.45419221055641296},{"$f":"MAX($E$23*C26,0)","v":462.96349116844272},{"$f":"$G$23/2","v":54.301441288722025},{"$f":"IF(C16=1,E26,D26+E26)","v":517.26493245716472},{"$f":"D13*C13","v":2.0000000000000004E-2},10.345298649143297,{"$f":"H26*C15","v":7.7589739868574732}]
["               北",{"$f":"IF((ASIN(C27))/E4>0,(ASIN(C27))/E4,0)","v":0},{"$f":"IF(B22>0,COS($B$22*$E$4)*COS($B$23*$E$4-D11*$E$4),0)","v":-0.15483680831107949},{"$f":"MAX($E$23*C27,0)","v":0},{"$f":"$G$23/2","v":54.301441288722025},{"$f":"IF(D16=1,E27,D27+E27)","v":54.301441288722025},{"$f":"B13*C13","v":2.2000000000000002E-2},1.1946317083518847,{"$f":"H27*D15","v":0.89597378126391347}]
["               東",{"$f":"IF((ASIN(C28))/E4>0,(ASIN(C28))/E4,0)","v":0},{"$f":"IF(B22>0,COS($B$22*$E$4)*COS($B$23*$E$4-E11*$E$4),0)","v":-0.45419179968623696},{"$f":"MAX($E$23*C28,0)","v":0},{"$f":"$G$23/2","v":54.301441288722025},{"$f":"IF(E16=1,E28,D28+E28)","v":54.301441288722025},{"$f":"D13*C13","v":2.0000000000000004E-2},1.0860288257744406,{"$f":"H28*E15","v":0.81452161933083045}]
["               上",{"$f":"IF((ASIN(C29))/E4>0,(ASIN(C29))/E4,0)","v":8.9072694217037895},{"$f":"IF(B22>0,COS($B$22*$E$4)*COS($B$23*$E$4-F11*$E$4),0)","v":0.15483560307235586},{"$f":"IF(B22>0,E23*SIN(B22*E4),0)","v":894.28889403256426},{"$f":"IF(B22>0,1/2*$E$3*$C$22*((1-$B$8^(1/$C$22))/(1-1.4*LN($B$8))),0)","v":108.60288257744405},{"$f":"IF(F16=1,E29,D29+E29)","v":1002.8917766100083},{"$f":"B13*D13","v":4.4000000000000004E-2},44.127238170840371,{"$f":"H29*F15","v":33.095428628130279}]
["               底",{"$f":"IF((ASIN(C30))/E4>0,(ASIN(C30))/E4,0)","v":8.9072694217037895},{"$f":"IF(B22>0,COS($B$22*$E$4)*COS($B$23*$E$4-G11*$E$4),0)","v":0.15483560307235586},0,0,{"$f":"IF(G16=1,E30,D30+E30)","v":0},{"$f":"B13*D13","v":4.4000000000000004E-2},0,{"$f":"G15*H30","v":0}]
[null,null,null,null,"(W/m2)","(W/m2)","(m2)","(W)","(W)"]
[null,"合計値",null,null,null,null,null,{"$f":"SUM(H25:H30)","v":61.419995808540861},{"$f":"SUM(I25:I30)","v":46.064996856405649}]
[]
["◆筐体の熱計算に使用する熱伝達率"]
["屋外設置機器に使用する熱伝達率基準値",null,null,"熱伝達率\n使用値","面の位置","日射量","面の面積","筐体外面熱伝達率","筐体内面熱伝達率","太陽吸収率","相当外気温度上昇","熱通過率","熱通過率×面積","侵入熱量"]
[null,"条件","熱伝達率\n(W/m2℃)",null,null,"(W/m2)","(m2)","(W/m2K)","(W/m2K)",null,"（Ｋ）","(W/m2K)","(W/℃)","(W)"]
[null,"垂直面","７～１０",{"$f":"#REF!","v":{"$error":"#REF!"}},"上面",{"$f":"F29","v":1002.8917766100083},{"$f":"G29","v":4.4000000000000004E-2},{"$f":"#REF!","v":{"$error":"#REF!"}},{"$f":"#REF!","v":{"$error":"#REF!"}},{"$f":"F15","v":0.75},{"$f":"F37*J37/H37","v":{"$error":"#REF!"}},{"$f":"1/(1/H37+#REF!/#REF!+1/I37)","v":{"$error":"#REF!"}},{"$f":"L37*G37","v":{"$error":"#REF!"}},{"$f":"L37*G37*K37","v":{"$error":"#REF!"}}]
["筐体内側熱伝達率","水平面（熱流上向）","７～１０",{"$f":"#REF!","v":{"$error":"#REF!"}},"南面",{"$f":"F25","v":212.12720247413034},{"$f":"G25","v":2.2000000000000002E-2},{"$f":"#REF!","v":{"$error":"#REF!"}},{"$f":"#REF!","v":{"$error":"#REF!"}},{"$f":"B15","v":0.75},{"$error":"#REF!"},{"$f":"1/(1/H38+#REF!/#REF!+1/I38)","v":{"$error":"#REF!"}},{"$error":"#REF!"},{"$error":"#REF!"}]
[null,"水平面（熱流下向）","５～７",{"$f":"#REF!","v":{"$error":"#REF!"}},"北面",{"$f":"F27","v":54.301441288722025},{"$f":"G27","v":2.2000000000000002E-2},{"$f":"#REF!","v":{"$error":"#REF!"}},{"$f":"#REF!","v":{"$error":"#REF!"}},{"$f":"D15","v":0.75},{"$error":"#REF!"},{"$f":"1/(1/H39+#REF!/#REF!+1/I39)","v":{"$error":"#REF!"}},{"$error":"#REF!"},{"$error":"#REF!"}]
[null,"空気に接する面","１０～３０",{"$f":"#REF!","v":{"$error":"#REF!"}},"西面",{"$f":"F26","v":517.26493245716472},{"$f":"G26","v":2.0000000000000004E-2},{"$f":"#REF!","v":{"$error":"#REF!"}},{"$f":"#REF!","v":{"$error":"#REF!"}},{"$f":"C15","v":0.75},{"$error":"#REF!"},{"$f":"1/(1/H40+#REF!/#REF!+1/I40)","v":{"$error":"#REF!"}},{"$error":"#REF!"},{"$error":"#REF!"}]
["筐体外側熱伝達率","（風速0～6m/s）",null,null,"東面",{"$f":"F28","v":54.301441288722025},{"$f":"G28","v":2.0000000000000004E-2},{"$f":"#REF!","v":{"$error":"#REF!"}},{"$f":"#REF!","v":{"$error":"#REF!"}},{"$f":"E15","v":0.75},{"$error":"#REF!"},{"$f":"1/(1/H41+#REF!/#REF!+1/I41)","v":{"$error":"#REF!"}},{"$error":"#REF!"},{"$error":"#REF!"}]
[null,"水に接する面","６０",null,"下面",{"$f":"F30","v":0},{"$f":"G30","v":4.4000000000000004E-2},{"$f":"#REF!","v":{"$error":"#REF!"}},{"$f":"#REF!","v":{"$error":"#REF!"}},{"$f":"G15","v":0.75},{"$error":"#REF!"},{"$f":"1/(1/H42+#REF!/#REF!+1/I42)","v":{"$error":"#REF!"}},{"$error":"#REF!"},{"$error":"#REF!"}]
[null,"土に接する面","１．８",null,"合計",null,{"$f":"SUM(G37:G42)","v":0.17200000000000001},null,null,null,null,{"$f":"SUM(L37:L42)","v":{"$error":"#REF!"}},{"$f":"SUM(M37:M42)","v":{"$error":"#REF!"}},{"$f":"SUM(N37:N42)","v":{"$error":"#REF!"}}]

{"sheet":"熱回路網法_筐体熱回路モデル　日射(6.4.2)","index":5,"n_rows":41,"n_cols":9,"rows_kept":41,"cut":false,"hidden":false,"merged":[]}
["熱回路網法 筐体熱回路モデル（日射受熱）"]
[]
["節点数","要素数","発熱節点数","温度固定節点数","計算反復回数"]
[8,25,6,1,5]
[]
["節点１","節点２","熱ｺﾝﾀﾞｸﾀﾝｽ","発熱点番号","発熱量","固定点番号","固定温度","日射量W/m2"]
[1,8,{"$f":"G17*G18*(0.54*2.51*(ABS(B34-$B$41)/MIN(G17,G18))^0.25+G22*0.0000000567*((B34+273.15)^2+($B$41+273.15)^2)*((B34+273.15)+($B$41+273.15)))","v":2.5574738307267975},7,{"$f":"G25","v":20},8,{"$f":"G26","v":35}]
[2,8,{"$f":"G17*G19*(0.56*2.51*(ABS(B35-$B$41)/G19)^0.25+G22*0.0000000567*((B35+273.15)^2+($B$41+273.15)^2)*((B35+273.15)+($B$41+273.15)))","v":1.806347270481218},1,{"$f":"H8*G17*G18*$G$27","v":117.62400000000001},null,null,980.2,"上"]
[3,8,{"$f":"G18*G19*(0.56*2.51*(ABS(B36-$B$41)/G19)^0.25+G22*0.0000000567*((B36+273.15)^2+($B$41+273.15)^2)*((B36+273.15)+($B$41+273.15)))","v":1.1612023004035914},2,{"$f":"G17*G19*H9*G27","v":23.552999999999997},null,null,261.7,"南"]
[4,8,{"$f":"G17*G19*(0.56*2.51*(ABS(B37-$B$41)/G19)^0.25+G22*0.0000000567*((B37+273.15)^2+($B$41+273.15)^2)*((B37+273.15)+($B$41+273.15)))","v":1.7429672784704002},3,{"$f":"H10*G18*G19*G27","v":4.7459999999999996},null,null,79.099999999999994,"東"]
[5,8,{"$f":"G18*G19*(0.56*2.51*(ABS(B38-$B$41)/G19)^0.25+G22*0.0000000567*((B38+273.15)^2+($B$41+273.15)^2)*((B38+273.15)+($B$41+273.15)))","v":1.2549172558537758},4,{"$f":"H11*G17*G19*G27","v":7.1189999999999989},null,null,79.099999999999994,"北"]
[6,8,{"$f":"G17*G18*(0.27*2.51*(ABS(B39-B41)/MIN(G17,G18))^0.25+G22*0.0000000567*((B39+273.15)^2+(B41+273.15)^2)*((B39+273.15)+(B41+273.15)))","v":1.8129242514082839},5,{"$f":"H12*G18*G19*G27","v":31.397999999999996},null,null,523.29999999999995,"西"]
[1,2,{"$f":" G17* G20* G21/( G18/2+ G19/2)","v":0.17142857142857143}]
[1,3,{"$f":" G18*G20*G21/(G17/2+G19/2)","v":8.8888888888888906E-2}]
[1,4,{"$f":"C13","v":0.17142857142857143}]
[1,5,{"$f":"C14","v":8.8888888888888906E-2},null,null,"入力"]
[2,3,{"$f":"G19*G20*G21/(G17/2+G18/2)","v":0.06},null,null,"筐体幅(m)",0.6]
[3,4,{"$f":"C17","v":0.06},null,null,"筐体奥行(m)",0.4]
[4,5,{"$f":"C18","v":0.06},null,null,"筐体高さ(m)",0.3]
[5,2,{"$f":"C19","v":0.06},null,null,"筐体厚み(m)",2E-3]
[2,6,{"$f":"C13","v":0.17142857142857143},null,null,"筺体熱伝導率(W/mK)",50]
[3,6,{"$f":"C14","v":8.8888888888888906E-2},null,null,"外表面放射率",0.85]
[4,6,{"$f":"C15","v":0.17142857142857143},null,null,"内表面放射率",0.85]
[5,6,{"$f":"C16","v":8.8888888888888906E-2},null,null,"通風口面積(m2)",0]
[1,7,{"$f":"G17*G18*(0.54*2.51*(ABS(B34-$B$40)/MIN(G17,G18))^0.25+G23*0.0000000567*((B34+273.15)^2+($B$40+273.15)^2)*((B34+273.15)+($B$40+273.15)))","v":2.482332733783716},null,null,"発熱量(W)",20]
[2,7,{"$f":"G17*G19*(0.56*2.51*(ABS(B35-$B$40)/G19)^0.25+G23*0.0000000567*((B35+273.15)^2+($B$40+273.15)^2)*((B35+273.15)+($B$40+273.15)))","v":1.7028624871790086},null,null,"周囲温度(℃)",35]
[3,7,{"$f":"G18*G19*(0.56*2.51*(ABS(B36-$B$40)/G19)^0.25+G23*0.0000000567*((B36+273.15)^2+($B$40+273.15)^2)*((B36+273.15)+($B$40+273.15)))","v":1.1819879794774055},null,null,"太陽吸収率",0.5]
[4,7,{"$f":"C26","v":1.7028624871790086}]
[5,7,{"$f":"C27","v":1.1819879794774055}]
[6,7,{"$f":"G17*G18*(0.27*2.51*(ABS(B39-$B$40)/MIN(G17,G18))^0.25+G23*0.0000000567*((B39+273.15)^2+($B$40+273.15)^2)*((B39+273.15)+($B$40+273.15)))","v":1.9474828582238257}]
[8,7,{"$f":"1150*G24*0.166*(G19/2*(B40-B41))^0.5","v":0}]
[]
["節点番号","温度","温度上昇"]
[1,67.3265380859375,{"$f":"B34-B41","v":32.3265380859375},"上面"]
[2,52.627555847167969,{"$f":"B35-B41","v":17.627555847167969},"前面"]
[3,48.641471862792969,{"$f":"B36-B41","v":13.641471862792969},"左面"]
[4,48.708908081054688,{"$f":"B37-B41","v":13.708908081054688},"後面"]
[5,57.919898986816406,{"$f":"B38-B41","v":22.919898986816406},"右面"]
[6,46.819015502929688,{"$f":"B39-B41","v":11.819015502929688},"底面","風速"]
[7,56.55389404296875,{"$f":"B40-B41","v":21.55389404296875},"内部空気",{"$f":"0.166*(G19/2*(B40-B41))^0.5","v":0.29848093010644255},"m/s"]
[8,35,{"$f":"B41-B41","v":0},"外気"]

{"sheet":"モータ計算シート（7.4.2)","index":6,"n_rows":37,"n_cols":8,"rows_kept":37,"cut":false,"hidden":false,"merged":[]}
["モータ強制空冷（ファン吹付）計算(7.4.2項）"]
[]
["■モータ仕様入力"]
["直径",60,"mm","全表面積",{"$f":"(B4*PI()*B5+B4^2*PI()/4*2+B6)/1000000","v":2.5629697122315751E-2},"m2"]
["長さ",94.5,"mm"]
["フランジ表面積",2162,"mm2"]
["発熱量",13.1,"W"]
["放射率",0.9]
[]
["■ファン仕様入力"]
["外形寸法",80,"mm","見かけ流路面積",{"$f":"B11*B11","v":6400},"mm2"]
["ブレード穴直径",72.5,"mm","最小流路面積",{"$f":"(B12^2-B13^2)*PI()/4","v":3280.1921816438062},"mm2"]
["モータ部直径",32.86,"mm"]
["最大風量",1.1000000000000001,"m3/min"]
[]
["室温",25]
[]
["風速計算結果"]
["最大風速",{"$f":"B14/60/E12*1000000","v":5.5891034177594836},"m/s"]
["見かけ風速",{"$f":"B14/60/E11*1000000","v":2.8645833333333335},"m/s"]
[]
["温度上昇（最大風速）",{"$f":"B7/E4/(B32+D32)","v":12.443420346187708},"℃"]
["温度上昇（見かけ風速）",{"$f":"B7/E4/(B33+D32)","v":14.657308926768682},"℃"]
[]
["熱伝達率計算結果",null,null,null,null,"ヒルパートの式(Nu計算に使用）"]
["モータ長さL",{"$f":"B5/1000","v":9.4500000000000001E-2},"m",null,null,"Re","C","n"]
["代表長 d",{"$f":"B4/1000","v":0.06},"m",null,null,1,0.89100000000000001,0.33]
["Re　最大",{"$f":"B19*B27/0.000017","v":19726.247356798176},null,null,null,4,0.82099999999999995,0.38500000000000001]
["Re　見かけ",{"$f":"B20*B27/0.000017","v":10110.294117647059},null,null,null,40,0.61499999999999999,0.46600000000000003]
["Nu 最大",{"$f":"LOOKUP(B28,F27:F31,G27:G31)*(B28)^LOOKUP(B28,F27:F31,H27:H31)","v":78.503086754804357},null,null,null,4000,0.17399999999999999,0.61799999999999999]
["Nu 見かけ",{"$f":"LOOKUP(B29,F27:F31,G27:G31)*(B29)^LOOKUP(B29,F27:F31,H27:H31)","v":51.938962522682168},null,"放射熱伝達率",null,40000,2.4E-2,0.80500000000000005]
["対流熱伝達率最大",{"$f":"B30*0.027/B27","v":35.326389039661962},"W/m2K",{"$f":"0.0000000567*B8*((B22+B16+273)^2+(B16+273)^2)*((B22+B16+273)+(B16+273))","v":5.7496019193272145}]
["対流熱伝達率見かけ",{"$f":"B31*0.027/B27+D32","v":29.122135054534191},"W/m2K",{"$f":"0.0000000567*B8*((B23+B16+273)^2+(B16+273)^2)*((B23+B16+273)+(B16+273))","v":5.8135094818934414}]
[]
["参考（自然対流時）",{"$f":"2.51*0.52*(B37/(B4/1000))^0.25+0.0000000567*B8*((T13+B16+273)^2+(B16+273)^2)*((T13+B16+273)+(B16+273))","v":12.121892705076553},"W/m2K"]
["温度上昇(自然対流時）",{"$f":"B7/E4/(B35)","v":42.165512768880788},"℃"]
["温度上昇（仮定）",{"$f":"B36","v":42.165512768880788}]

{"sheet":"サーマルビア(8.5.2)","index":7,"n_rows":22,"n_cols":8,"rows_kept":22,"cut":false,"hidden":false,"merged":[]}
["サーマルビア熱回路モデル(8.5.2）"]
[]
["節点数","要素数","発熱節点数","温度固定節点数","計算反復回数"]
[7,7,1,2,10]
[]
["節点１","節点２","熱ｺﾝﾀﾞｸﾀﾝｽ","発熱点番号","発熱量","固定点番号","固定温度"]
[1,2,{"$f":"0.01*0.017*60/0.0002","v":51},1,2,6,25]
[1,7,{"$f":" 0.000332*(2.51* 0.56*(ABS(B16-B22)/ 0.01)^0.25+ 0.92*0.0000000567*((B16+273.15)^2+(B22+273.15)^2)*((B16+273.15)+(B22+273.15)))","v":6.1386615812256866E-3},"部品表面放熱",null,7,45]
[2,3,{"$f":"0.01*0.000035*380/G13","v":6.6500000000000004E-2},"配線熱伝導"]
[2,4,{"$f":"0.01*0.017*0.4/0.0016","v":4.2500000000000003E-2},"基板熱伝導"]
[3,4,{"$f":"(0.0003*PI()*0.00002*G12*380)/0.0016","v":8.9535390627309086E-2},"サーマルビア"]
[4,5,{"$f":"0.01*0.02*2/0.002","v":0.2},"接触熱抵抗",null,"ビア本数",20,"本"]
[5,6,{"$f":" 0.1*0.1*(2.51* 0.27*(ABS(B20-B21)/ 0.1)^0.25+ 0.85*0.0000000567*((B20+273.15)^2+(B21+273.15)^2)*((B20+273.15)+(B21+273.15)))","v":8.2941376156572891E-2},"筐体底面放熱",null,"部品とビアの距離",2E-3,"m"]
[]
["節点番号","温度"]
[1,77.979019165039063]
[2,77.943771362304688]
[3,65.156387329101563]
[4,55.658897399902344]
[5,46.671554565429688]
[6,25]
[7,45]

{"sheet":"ジュール発熱計算(8.6.1)","index":8,"n_rows":19,"n_cols":9,"rows_kept":19,"cut":false,"hidden":false,"merged":[[1,3,1,4]]}
["ジュール発熱による配線温度上昇計算"]
[null,null,null,"参考データ"]
["項目","単位","入力","銅","アルミ",null,"流体の物性値"]
["導電率","１/mΩ",59600000,59600000,37700000,null,"流体密度","ρ(kg/m3)",1.1499999999999999]
["抵抗率","m・Ω",1.6800000000000002E-8,1.6800000000000002E-8,2.6499999999999999E-8,null,"重力加速度","g(m/s2)",9.81]
["温度係数",null,4.3299999999999996E-3,4.3299999999999996E-3,4.0000000000000001E-3,null,"動粘性係数","ν(m2/s)",1.7E-5]
["放射率",null,0.85,null,null,null,"ﾌﾟﾗﾝﾄﾙ数","Pr",0.71]
[null,null,null,null,null,null,"流体熱伝導率","λ（W/mK)",{"$f":"(C19)*0.0000725+0.0241","v":2.7543209569070595E-2}]
["銅箔厚","μm",105,null,null,null,"体膨張係数","β",{"$f":"1/320","v":3.1250000000000002E-3}]
["配線幅","㎜",10,null,null,null,"計算用ワークエリア"]
["配線長","㎜",200,null,null,null,"銅箔温度上昇",null,{"$f":"I14","v":22.492545780284047}]
["層数",null,1,null,null,null,"銅箔温度K",null,{"$f":"C14+I11+273.15","v":320.64254578028402}]
["電流値","A",20,null,null,null,"周囲温度K",null,{"$f":"C14+273.15","v":298.14999999999998}]
["周囲温度","℃",25,null,null,null,"銅箔温度上昇",null,{"$f":"C17/(I18*(I16+I17))","v":22.49254578028405}]
[null,null,null,null,null,null,"熱伝達率"]
["電気抵抗値","Ω",{"$f":"C5*(C11/1000)/(C10*C9*C12/1000000000)","v":3.2000000000000006E-3},null,null,null,"対流熱伝達率",null,{"$f":"I8/(C10/1000)*0.56*((I9*I5*(C10/1000)^3*I11/I6^2)*I7)^0.25","v":9.8953716620283494}]
["発熱量","W",{"$f":"C13^2*C16*(1+C6*(I11+C14-25))","v":1.4046626857326467},null,null,null,"放射熱伝達率",null,{"$f":"0.0000000567*C7*(I12^2+I13^2)*(I12+I13)","v":5.7171639248049386}]
[null,null,null,null,null,null,"放熱面積（両面）",null,{"$f":"C10*C11/1000000*2","v":4.0000000000000001E-3}]
["温度","℃",{"$f":"I11+C14","v":47.492545780284047}]

{"sheet":"PCBの等価熱伝達率","index":9,"n_rows":77,"n_cols":16,"rows_kept":77,"cut":false,"hidden":false,"merged":[]}
[null,null,"プリント基板の等価熱伝導率計算シート"]
[]
[null,null,"viaエリア幅(mm)",null,"viaエリア奥行き(mm)"]
[null,null,10,null,10]
[null,null,"材料の熱伝導率","層厚さ","銅箔残存率",null,"本数","ビア内径","ﾒｯｷ厚","ﾒｯｷ熱伝導率"]
[null,null,"(W/mK)","(mm)","(ﾍﾞﾀ=1,なし=0)",null,"(本)","(mm)  ","(mm)","(W/mK)"]
[null,"１層目",380,3.5000000000000003E-2,0.7,null,"-","-","-","-"]
[null,"   1-2層間",0.4,0.2,"-",null,0,0.2,0.02,370]
[null,"２層目",380,3.5000000000000003E-2,0.9,null,"-","-","-","-"]
[null,"   2-3層間",0.4,0.5,"-",null,0,0.2,0.02,370,null,"面方向等価熱伝導率(W/mK)"]
[null,"３層目",380,3.5000000000000003E-2,0.9,null,"-","-","-","-",null,{"$f":"(C7*D7*E7+C8*D8+C9*D9*E9+C10*D10+C11*D11*E11+C12*D12+C13*D13*E13+C14*D14+C15*D15*E15+C16*D16+C17*D17*E17+C18*D18+C19*D19*E19+C20*D20+C21*D21*E21+C22*D22+C23*D23*E23+C24*D24+C25*D25*E25+C26*D26+C27*D27*E27+C28*D28+C29*D29*E29+C30*D30+C31*D31*E31+C32*D32+C33*D33*E33+C34*D34+C35*D35*E35+C36*D36+C37*D37*E37)/D38","v":36.35911602209945}]
[null,"   3-4層間",0.4,0.2,"-",null,0,0.2,0.02,370]
[null,"４層目",380,3.5000000000000003E-2,0.9,null,"-","-","-","-",null,"厚み方向等価熱伝導率(W/m℃)"]
[null,"   4-5層間",0.4,0.5,"-",null,0,0.2,0.02,370,null,{"$f":"O77","v":0.4524214546086186}]
[null,"５層目",380,3.5000000000000003E-2,0.9,null,"-","-","-","-"]
[null,"   5-6層間",0.4,0.2,"-",null,0,0.2,0.02,370]
[null,"６層目",380,3.5000000000000003E-2,0.6,null,"-","-","-","-"]
[null,"   6-7層間",0.4,0,"-",null,0,0.2,0.02,370]
[null,"７層目",380,0,1,null,"-","-","-","-"]
[null,"   7-8層間",0.4,0,"-",null,0,0.2,0.02,370]
[null,"８層目",380,0,1]
[]
[]
[]
[]
[]
[]
[]
[]
[]
[]
[]
[]
[]
[]
[]
[]
[null,"ト－タル板厚",null,{"$f":"SUM(D7:D37)","v":1.8099999999999998}]
[]
[]
[null,null,null,null,null,null,null,null,null,null,"ビア"]
[null,"計算領域断面積",null,{"$f":"C4*E4/1000000","v":1E-4},null,null,null,"A","λ","Aλ/t","R",null,"ビア以外の抵抗","合成COND","合成R"]
[null,null,null,null,null,null,null,{"$f":"((H8/1000+I8*2/1000)^2-(H8/1000)^2)*PI()/4*G8","v":0},{"$f":"J8","v":370},{"$f":"IF(D8<>0,H43*I43/(D8/1000),100000000000000)","v":0},{"$f":"IF(D8=0,100000000000000,IF(G8=0,100000000000000,1/J43))","v":100000000000000},null,{"$f":"D7/1000/C7/E7/D42","v":1.3157894736842105E-3},null,{"$f":"M43","v":1.3157894736842105E-3}]
[null,null,null,null,null,null,null,{"$f":"((H10/1000+I10*2/1000)^2-(H10/1000)^2)*PI()/4*G10","v":0},{"$f":"J10","v":370},{"$f":"IF(D10<>0,H44*I44/(D10/1000),100000000000000)","v":0},{"$f":"IF(D10=0,100000000000000,IF(G10=0,100000000000000,1/J44))","v":100000000000000},null,{"$f":"D8/1000/C8/D42","v":5},{"$f":"IF(M44<>0,1/K43+1/M44,100000000000000)","v":0.20000000000001},{"$f":"1/N44","v":4.9999999999997495}]
[null,null,null,null,null,null,null,{"$f":"((H12/1000+I12*2/1000)^2-(H12/1000)^2)*PI()/4*G12","v":0},{"$f":"J12","v":370},{"$f":"IF(D12<>0,H45*I45/(D12/1000),100000000000000)","v":0},{"$f":"IF(D12=0,100000000000000,IF(G12=0,100000000000000,1/J45))","v":100000000000000},null,{"$f":"D9/1000/C9/E9/D42","v":1.0233918128654969E-3},null,{"$f":"M45","v":1.0233918128654969E-3}]
[null,null,null,null,null,null,null,{"$f":"((H14/1000+I14*2/1000)^2-(H14/1000)^2)*PI()/4*G14","v":0},{"$f":"J14","v":370},{"$f":"IF(D14<>0,H46*I46/(D14/1000),100000000000000)","v":0},{"$f":"IF(D14=0,100000000000000,IF(G14=0,100000000000000,1/J46))","v":100000000000000},null,{"$f":"D10/1000/C10/D42","v":12.5},{"$f":"IF(M46<>0,1/K44+1/M46,100000000000000)","v":8.0000000000010008E-2},{"$f":"1/N46","v":12.499999999998437}]
[null,null,null,null,null,null,null,{"$f":"((H16/1000+I16*2/1000)^2-(H16/1000)^2)*PI()/4*G16","v":0},{"$f":"J16","v":370},{"$f":"IF(D16<>0,H47*I47/(D16/1000),100000000000000)","v":0},{"$f":"IF(D16=0,100000000000000,IF(G16=0,100000000000000,1/J47))","v":100000000000000},null,{"$f":"D11/1000/C11/E11/D42","v":1.0233918128654969E-3},null,{"$f":"M47","v":1.0233918128654969E-3}]
[null,null,null,null,null,null,null,{"$f":"((H18/1000+I18*2/1000)^2-(H18/1000)^2)*PI()/4*G18","v":0},{"$f":"J18","v":370},{"$f":"IF(D18<>0,H48*I48/(D18/1000),100000000000000)","v":100000000000000},{"$f":"IF(D18=0,100000000000000,IF(G18=0,100000000000000,1/J48))","v":100000000000000},null,{"$f":"D12/1000/C12/$D$42","v":5},{"$f":"IF(M48<>0,1/K45+1/M48,100000000000000)","v":0.20000000000001},{"$f":"1/N48","v":4.9999999999997495}]
[null,null,null,null,null,null,null,{"$f":"((H20/1000+I20*2/1000)^2-(H20/1000)^2)*PI()/4*G20","v":0},{"$f":"J20","v":370},{"$f":"IF(D20<>0,H49*I49/(D20/1000),100000000000000)","v":100000000000000},{"$f":"IF(D20=0,100000000000000,IF(G20=0,100000000000000,1/J49))","v":100000000000000},null,{"$f":"D13/1000/C13/E13/D42","v":1.0233918128654969E-3},null,{"$f":"M49","v":1.0233918128654969E-3}]
[null,null,null,null,null,null,null,null,null,null,null,null,{"$f":"D14/1000/C14/$D$42","v":12.5},{"$f":"IF(M50<>0,1/K46+1/M50,100000000000000)","v":8.0000000000010008E-2},{"$f":"1/N50","v":12.499999999998437}]
[null,null,null,null,null,null,null,null,null,null,null,null,{"$f":"D15/1000/C15/E15/D42","v":1.0233918128654969E-3},null,{"$f":"M51","v":1.0233918128654969E-3}]
[null,null,null,null,null,null,null,null,null,null,null,null,{"$f":"D16/1000/C16/D42","v":5},{"$f":"IF(M52<>0,1/K47+1/M52,100000000000000)","v":0.20000000000001},{"$f":"1/N52","v":4.9999999999997495}]
[null,null,null,null,null,null,null,null,null,null,null,null,{"$f":"D17/1000/C17/E17/D42","v":1.5350877192982458E-3},null,{"$f":"M53","v":1.5350877192982458E-3}]
[null,null,null,null,null,null,null,null,null,null,null,null,{"$f":"D18/1000/C18/D42","v":0},{"$f":"IF(M54<>0,1/K48+1/M54,100000000000000)","v":100000000000000},{"$f":"1/N54","v":1E-14}]
[null,null,null,null,null,null,null,null,null,null,null,null,{"$f":"D19/1000/C19/E19/D42","v":0},null,{"$f":"M55","v":0}]
[null,null,null,null,null,null,null,null,null,null,null,null,{"$f":"D20/1000/C20/D42","v":0},{"$f":"IF(M56<>0,1/K49+1/M56,100000000000000)","v":100000000000000},{"$f":"1/N56","v":1E-14}]
[]
[]
[]
[]
[]
[]
[]
[]
[]
[]
[]
[]
[]
[]
[]
[]
[]
[]
[null,null,null,null,null,null,null,null,null,null,null,null,null,"K/W",{"$f":"SUM(O43:O74)","v":40.006944444440578},"K/W"]
[null,null,null,null,null,null,null,null,null,null,null,null,null,null,{"$f":"1/O75","v":2.499566047561429E-2}]
[null,null,null,null,null,null,null,null,null,null,null,null,null,null,{"$f":"O76*(D38/1000)/D42","v":0.4524214546086186}]

{"sheet":"ヒートシンクの非定常計算(10.8)","index":10,"n_rows":77,"n_cols":10,"rows_kept":77,"cut":false,"hidden":false,"merged":[]}
["ヒートシンクの非定常モデル",null,null,null,null,null,null,null,"時間Step",60]
[]
["節点数","要素数","発熱節点数","温度固定\n節点数","熱容量保有\n節点数","計算反復回数","計算ステップ(s)","計算終了時間(s)"]
[3,2,1,1,2,3,1,60]
[]
["節点１","節点２","熱ｺﾝﾀﾞｸﾀﾝｽ","発熱点番号","発熱量","固定点番号","固定温度","熱容量\n節点番号","熱容量","初期温度（℃）"]
[1,2,{"$f":"1/0.04","v":25},1,150,3,0,1,204,0]
[2,3,{"$f":"1/0.2","v":5},null,null,null,null,2,490,0]
[]
["現在時間",60]
[1,14.275642928363547]
[2,9.5304336140790955]
[3,0]
[]
[]
["時間(s)","節点 1","節点 2","節点 3"]
[0,0,0,0]
[1,0.65847790300113962,3.165759149043941E-2,0]
[2,1.2514384487452517,8.9996502017205007E-2,0]
[3,1.7884854821882323,0.17078927508295436,0]
[4,2.2777823525414198,0.27044481462342906,0]
[5,2.7262682110230116,0.38591281623279911,0]
[6,3.1398418287465524,0.51460254937064498,0]
[7,3.5235178120233397,0.65431383556192213,0]
[8,3.8815593599685063,0.80317839120106627,0]
[9,4.2175910868909892,0.95960997857845609,0]
[10,4.5346949030009895,1.1222620424585927,0]
[11,4.8354914974501941,1.2899917081557026,0]
[12,5.1222095857027901,1.4618291858439694,0]
[13,5.3967447585829271,1.6369517692848428,0]
[14,5.6607094944427523,1.8146617390589266,0]
[15,5.915475661423824,1.9943675839893649,0]
[16,6.1622106375223424,2.1755680424862449,0]
[17,6.4019080068281333,2.357838540363391,0]
[18,6.6354136463955085,2.5408196652652872,0]
[19,6.8634478959025396,2.7242073718799125,0]
[20,7.0866243983189428,2.9077446580367901,0]
[21,7.3054661114737591,3.0912144908170602,0]
[22,7.5204189153488272,3.2744337949693851,0]
[23,7.7318631761308385,3.4572483441120569,0]
[24,7.9401235738409692,3.639528419155639,0]
[25,8.1454774542881818,3.8211651187374378,0]
[26,8.3481619269378591,4.0020672237592141,0]
[27,8.5483798970125235,4.1821585328217852,0]
[28,8.7463051918632004,4.3613755978447211,0]
[29,8.9420869176180506,4.5396657997776249,0]
[30,9.135853161691772,4.7169857133333286,0]
[31,9.3277141393828575,4.8932997173421198,0]
[32,9.5177648680357478,5.068578813843331,0]
[33,9.7060874397097034,5.2427996245691828,0]
[34,9.8927529526434324,5.4159435381826651,0]
[35,10.077823152751279,5.5879959856313235,0]
[36,10.261351828693085,5.7589458243782232,0]
[37,10.443385997521386,5.9287848151603155,0]
[38,10.623966912353065,6.0975071773795797,0]
[39,10.803130918790369,6.265109211318757,0]
[40,10.980910182803065,6.431588977146669,0]
[41,11.157333309373143,6.5969460221849934,0]
[42,11.332425868305004,6.7611811491889853,0]
[43,11.506210841141023,6.9242962194829403,0]
[44,11.678709001029132,7.0862939857160949,0]
[45,11.849939235610085,7.2471779497906521,0]
[46,12.019918821480337,7.4069522421815925,0]
[47,12.188663657501657,7.5656215194356191,0]
[48,12.356188463136737,7.7231908771189843,0]
[49,12.522506947062197,7.8796657758939572,0]
[50,12.687631950521792,8.0350519787520849,0]
[51,12.851575569212486,8.1893554977285277,0]
[52,13.014349256926552,8.3425825486733505,0]
[53,13.175963913688888,8.4947395128695469,0]
[54,13.336429960717311,8.6458329044692519,0]
[55,13.495757404184211,8.7958693428741146,0]
[56,13.653955889460715,8.9448555293169889,0]
[57,13.811034747272178,9.0927982270137111,0]
[58,13.967003032979196,9.2397042443484594,0]
[59,14.121869560016053,9.3855804206368187,0]
[60,14.275642928363547,9.5304336140790955,0]

{"sheet":"アルミ板の定常熱解析","index":11,"n_rows":26,"n_cols":7,"rows_kept":26,"cut":false,"hidden":false,"merged":[]}
["アルミ板の熱回路モデル（定常モデル）"]
[]
["節点数","要素数","発熱節点数","温度固定節点数","計算反復回数"]
[7,11,2,1,5]
[]
["節点１","節点２","熱ｺﾝﾀﾞｸﾀﾝｽ","発熱点番号","発熱量","固定点番号","固定温度"]
[1,2,{"$f":"0.03*0.001*120/0.03","v":0.12},2,5,7,25]
[2,3,{"$f":"0.03*0.001*120/0.03","v":0.12},6,3]
[3,4,0.12]
[4,5,0.12]
[5,6,0.12]
[1,7,{"$f":"0.03*0.03*2*15","v":2.7E-2}]
[2,7,{"$f":"0.03*0.03*2*15","v":2.7E-2}]
[3,7,2.7E-2]
[4,7,2.7E-2]
[5,7,2.7E-2]
[6,7,2.7E-2]
[]
["節点番号","温度"]
[1,75.67156982421875]
[2,87.072677612304688]
[3,70.773460388183594]
[4,64.773269653320313]
[5,67.722061157226563]
[6,80.283309936523438]
[7,25]

{"sheet":"アルミ板のの非定常計算","index":12,"n_rows":86,"n_cols":10,"rows_kept":86,"cut":false,"hidden":false,"merged":[]}
["アルミ板の熱回路モデル（非定常モデル）",null,null,null,null,null,null,null,"時間Step",100]
[]
["節点数","要素数","発熱節点数","温度固定\n節点数","熱容量保有\n節点数","計算反復回数","計算ステップ(s)","計算終了時間(s)"]
[7,17,2,1,6,3,2,100]
[]
["節点１","節点２","熱ｺﾝﾀﾞｸﾀﾝｽ","発熱点番号","発熱量","固定点番号","固定温度","熱容量\n節点番号","熱容量","初期温度（℃）"]
[1,2,{"$f":"0.03*0.001*120/0.03","v":0.12},2,5,7,25,1,{"$f":"2700*900*0.03*0.03*0.001","v":2.1869999999999998},25]
[2,3,{"$f":"0.03*0.001*120/0.03","v":0.12},6,3,null,null,2,2.1869999999999998,25]
[3,4,0.12,null,null,null,null,3,2.1869999999999998,25]
[4,5,0.12,null,null,null,null,4,2.1869999999999998,25]
[5,6,0.12,null,null,null,null,5,2.1869999999999998,25]
[1,7,{"$f":"0.03*0.03*2*0.56*2.51*((B26-B32)/0.03)^0.25","v":1.5053244635834519E-2},null,null,null,null,6,2.1869999999999998,25]
[2,7,{"$f":"0.03*0.03*2*0.56*2.51*((B27-B32)/0.03)^0.25","v":1.6080676587628292E-2}]
[3,7,{"$f":"0.03*0.03*2*0.56*2.51*(ABS(B28-B32)/0.03)^0.25","v":1.4575716632992891E-2}]
[4,7,{"$f":"0.03*0.03*2*0.56*2.51*(ABS(B29-B32)/0.03)^0.25","v":1.3896801637260731E-2}]
[5,7,{"$f":"0.03*0.03*2*0.56*2.51*(ABS(B30-B32)/0.03)^0.25","v":1.4265458828638626E-2}]
[6,7,{"$f":"0.03*0.03*2*0.56*2.51*(ABS(B31-B32)/0.03)^0.25","v":1.5545884190367589E-2}]
[1,7,{"$f":"0.03*0.03*2*0.0000000567*0.8*((273.15+B26)^2+(273.15+B32)^2)*((273.15+B26)+(273.15+B32))","v":1.0434887542585746E-2}]
[2,7,{"$f":"0.03*0.03*2*0.0000000567*0.8*((273.15+B27)^2+(273.15+B32)^2)*((273.15+B27)+(273.15+B32))","v":1.1030709434179687E-2}]
[3,7,{"$f":"0.03*0.03*2*0.0000000567*0.8*((273.15+B28)^2+(273.15+B32)^2)*((273.15+B28)+(273.15+B32))","v":1.0204161123139807E-2}]
[4,7,{"$f":"0.03*0.03*2*0.0000000567*0.8*((273.15+B29)^2+(273.15+B32)^2)*((273.15+B29)+(273.15+B32))","v":9.9191932368313408E-3}]
[5,7,{"$f":"0.03*0.03*2*0.0000000567*0.8*((273.15+B30)^2+(273.15+B32)^2)*((273.15+B30)+(273.15+B32))","v":1.0068009684955909E-2}]
[6,7,{"$f":"0.03*0.03*2*0.0000000567*0.8*((273.15+B31)^2+(273.15+B32)^2)*((273.15+B31)+(273.15+B32))","v":1.0702425314733465E-2}]
[]
["現在時間",100]
[1,62.592803846828382]
[2,73.95550225861281]
[3,58.044859270738819]
[4,52.305093885382938]
[5,55.319861920029311]
[6,67.760812898785673]
[7,25]
[]
[]
["時間(s)","節点 1","節点 2","節点 3","節点 4","節点 5","節点 6","節点 7"]
[0,25,25,25,25,25,25,25]
[2,25.361865663646732,28.736227424457166,25.334415549044461,25.049022063304694,25.220071408783845,27.44114746379023,25]
[4,25.996898462578095,31.894845116841172,25.901425805210984,25.174746453918985,25.610504212735627,29.669350506706994,25]
[6,26.823267532476812,34.578029855244772,26.618152257978533,25.386573416091601,26.125838859473713,31.692966689417077,25]
[8,27.783146232678931,36.896485026507776,27.430696896206442,25.684871902597656,26.734147760737628,33.542932450169431,25]
[10,28.833203601395272,38.933068268219046,28.302334730918123,26.064428804004653,27.411335695014547,35.244761164070624,25]
[12,29.941054365827661,40.749939786616409,29.208193086363984,26.517098686755524,28.139044404795406,36.819592166212772,25]
[14,31.082570467914621,42.39383788925516,30.131525855798547,27.033485412471247,28.903154017027344,38.28499325877268,25]
[16,32.239851613354936,43.900003953018121,31.06112345304874,27.60397514428228,29.692707717338244,39.655605512690755,25]
[18,33.399694389073836,45.29509928675553,31.989523440357907,28.219340692849769,30.49913507035868,40.943663759196042,25]
[20,34.552437181633515,46.599371497519833,32.911781938579814,28.871067311749076,31.315686229640196,42.159418260768177,25]
[22,35.69108808103239,47.828264047452059,33.824635570414472,29.551501407708255,32.137015691163668,43.311477597425018,25]
[24,36.810665851269192,48.993613638321897,34.725933953816266,30.253889968654125,32.958872596351192,44.407088795891475,25]
[26,37.907701450516903,50.104542046836023,35.614258434920472,30.972355537529701,33.777867687922004,45.452367091056921,25]
[28,38.979860706742016,51.168122163941653,36.488668381955456,31.701835777033853,34.591295810658657,46.45248505485155,25]
[30,40.025658481022958,52.189876102945263,37.348534043301356,32.438006167815416,35.3969991125904,47.411828835992232,25]
[32,41.044242066008877,53.174148832671868,38.193427967767406,33.177197294014569,36.193260529181636,48.334127573373216,25]
[34,42.035227077173943,54.124389168487681,39.023055311594,33.916313568146293,36.978719902260437,49.222560839705494,25]
[36,42.998573064396233,55.043361581229206,39.837209982234718,34.652757075032625,37.752307387275764,50.079848009163676,25]
[38,43.934489462345446,55.9333062760006,40.635747596376952,35.384358476612917,38.513190141067703,50.908322632175725,25]
[40,44.843364438793834,56.796060563411288,41.418569127451313,36.109315637527843,39.260729385002044,51.709994616033583,25]
[42,45.725711347291089,57.633151047096938,42.185611258356282,36.82613980162278,39.994445556904765,52.486602048198485,25]
[44,46.58212837907336,58.445863930548754,42.936840865124147,37.533609030285312,40.713989986580103,53.239654422728591,25]
[46,47.413268536798121,59.235298623979595,43.67225181942031,38.230728136202465,41.419121739270985,53.970468954765437,25]
[48,48.219817097389438,60.002408833938084,44.391863171436718,38.916694394051021,42.109688629815153,54.680200897280741,25]
[50,49.002475237332696,60.748034113998358,45.095717875575076,39.590868370202934,42.785611605408583,55.369868927497023,25]
[52,49.761947900226183,61.472924047974026,45.783881723538961,40.252749112135355,43.446871889713421,56.040376346926102,25]
[54,50.498935078798254,62.177756955585679,46.456442474464716,40.901953069125128,44.093500399678014,56.692529027782768,25]
[56,51.214125762456987,62.863154287366761,47.113508743502479,41.538196288891427,44.725568995888182,57.327050308900226,25]
[58,51.908193708794109,63.52969174410282,47.755208829184603,42.161279232111404,45.34318321509506,57.944593544646686,25]
[60,52.581794696243122,64.177907937860553,48.381689473564023,42.771073989157891,45.946476300961336,58.545752675439836,25]
[62,53.235564858095643,64.808311023933257,48.9931143893224,43.367513319788536,46.535604149891412,59.131071060921073,25]
[64,53.870119737961936,65.421383890569118,49.589662931477079,43.950581458809623,47.11074124036837,59.701048897085137,25]
[66,54.486053947697933,66.017588209823913,50.171528518354883,44.520306214576109,47.672077137087314,60.256149576678311,25]
[68,55.083941336457784,66.597367534945604,50.738917183288095,45.076752228436099,48.219813630000921,60.796804797042128,25]
[70,55.664335221785187,67.161149789610533,51.292046063674171,45.620015282246342,48.754162319856114,61.323419142219016,25]
[72,56.22776906114435,67.7093490875003,51.831142050122736,46.150217362085819,49.275342618017667,61.836373730183709,25]
[74,56.774757065475917,68.242367247004296,52.356440313315808,46.667502477986474,49.783580033767365,62.336029370881917,25]
[76,57.305795063694056,68.760594991493647,52.868183110543143,47.172033038436439,50.279104718201182,62.822729175533844,25]
[78,57.821361138077989,69.264412769107338,53.366618460301986,47.663986769067471,50.762150302068449,63.296800872566799,25]
[80,58.321916551019044,69.754191579419569,53.851999062582394,48.143554072110952,51.232952853737366,63.758558559007206,25]
[82,58.807906476355569,70.230293426218097,54.324581234775465,48.6109356225165,51.691749979167533,64.208304419621655,25]
[84,59.279760823802206,70.693071813347771,54.784623923997543,49.066340494079071,52.138780148242091,64.64632997676712,25]
[86,59.737894924650824,71.142872089987065,55.232387836646033,49.509984417640716,52.574281957600213,65.072917142949763,25]
[88,60.182710264256109,71.580031773804009,55.668134616115609,49.94208824306655,52.998493658525447,65.488339367006361,25]
[90,60.614595115238082,72.004880793773324,56.092126134161788,50.362876657020408,53.411652691394913,65.89286226224084,25]
[92,61.033925200831412,72.417741639024939,56.50462382034398,50.772577114645379,53.813995239401414,66.286744252389539,25]
[94,61.44106425112718,72.818929527428693,56.905888114445226,51.17141885474836,54.205755847298974,66.670237308602708,25]
[96,61.83636454159371,73.208752589775983,57.296177924140103,51.559632064330067,54.58716722491922,67.043587225124327,25]
[98,62.220167443863616,73.587512072656011,57.6757501322477,51.93744709524919,54.958459866688585,67.407034150006055,25]
[100,62.592803846828382,73.95550225861281,58.044859270738819,52.305093885382938,55.319861920029311,67.760812898785673,25]

{"sheet":"水冷ヒートシンク計算(11.2.3)","index":13,"n_rows":43,"n_cols":14,"rows_kept":43,"cut":false,"hidden":false,"merged":[]}
[null,"水冷ヒートシンク"]
[]
[null,"流路直径(m)",4.0000000000000001E-3,"摩擦係数f",{"$f":"0.3164*C11^-0.25","v":3.0060939869159978E-2}]
[null,"直管部流路長さ（m）",0.59,"入口の圧損係数",0.5]
[null,"ベンド部流路長さ（m）",0.151,"■流体物性データ入力"]
[null,"総発熱量（W)",200,"密度ρ(kg/m3)",{"$f":"(LOOKUP(E23,H16:H27,I16:I27)+LOOKUP(E23+10,H16:H27,I16:I27)+LOOKUP(E23-11,H16:H27,I16:I27))/3","v":993.15666666666664}]
[null,"流入水温(℃）",40,"熱伝導率λ",{"$f":"(LOOKUP(E23,H16:H27,L16:L27)+LOOKUP(E23+10,H16:H27,L16:L27)+LOOKUP(E23-11,H16:H27,L16:L27))/3","v":0.62393333333333334}]
[null,"水量L/分",2,"比熱",{"$f":"(LOOKUP(E23,H16:H27,J16:J27)+LOOKUP(E23+10,H16:H27,J16:J27)+LOOKUP(E23-11,H16:H27,J16:J27))/3*1000","v":4179.333333333333}]
[null,"水冷ヒートシンク表面までの熱抵抗",9.5500000000000001E-4,"動粘性係数",{"$f":"FORECAST(E23,K16:K27,H16:H27)","v":8.6455612675100698E-7}]
[null,"中間パラメータ"]
[null,"レイノルズ数　Re",{"$f":"C3*C19/E9","v":12272.574574577595},{"$f":"IF(C11>2300,\"乱流\",\"層流\")","v":"乱流"}]
[null,"プラントル数　Pr",{"$f":"(LOOKUP(E23,H16:H27,N16:N27)+LOOKUP(E23+10,H16:H27,N16:N27)+LOOKUP(E23-11,H16:H27,N16:N27))/3","v":4.7597164061423083}]
[null,"流量",{"$f":"C8/1000/60","v":3.3333333333333335E-5},"m3/s",null,null,null,"■冷媒の物性値（温度依存）",null,null,"純水の物性値"]
[null,"流路断面積",{"$f":"PI()*C3^2/4","v":1.2566370614359172E-5},"m2",null,null,null,"温度T","密度","比熱","動粘性係数","熱伝導率","熱拡散率","プラントル数"]
[null,"円管周長",{"$f":"PI()*C3","v":1.2566370614359173E-2},"m",null,null,null," ℃","kg/m3","kJ/(kg･K)","m2/s ","W/(m・K)","m2/s×10-6"]
[null,"円管表面積",{"$f":"C15*(C4+C5)","v":9.3116806252401471E-3},"m2",null,null,null,0,999.78,4.2169999999999996,1.792E-6,0.56189999999999996,0.1333,{"$f":"K16/M16*1000000","v":13.443360840210053}]
[null,"Nu",{"$f":"0.023*C11^0.8*C12^0.4","v":80.150975194259999},"ディッタスの式",null,null,null,6.83,999.93,4.1989999999999998,1.435E-6,0.57599999999999996,0.13719999999999999,{"$f":"K17/M17*1000000","v":10.45918367346939}]
[null,"熱伝達率",{"$f":"C17*E7/C3","v":12502.216280717988},"W/m2K",null,null,null,{"$f":"H17+10","v":16.829999999999998},998.87,4.1840000000000002,1.0869999999999999E-6,0.59429999999999994,0.14219999999999999,7.6441631504922647]
[null,"フィン間流速",{"$f":"C13/C14","v":2.6525823848649228},"m/s",null,null,null,{"$f":"H18+10","v":26.83},996.62,4.1790000000000003,8.5729999999999993E-7,0.61039999999999994,0.14660000000000001,5.8478854024556615]
[null,null,null,null,null,null,null,36.83,993.42,4.1790000000000003,6.9830000000000005E-7,0.62450000000000006,0.15040000000000001,4.6429521276595747]
[null,null,null,null,null,null,null,46.83,989.43,4.18,5.834E-7,0.63690000000000002,0.154,3.7883116883116883]
[null,"■温度計算結果",null,null,null,null,null,56.83,984.75,4.1840000000000002,4.9739999999999999E-7,0.64790000000000003,0.15720000000000001,3.16412213740458]
[null,"流体平均温度上昇",{"$f":"C6/(E6*E8*C13)/2","v":0.72276394840554803},"℃        流体温度",{"$f":"C7+C23","v":40.72276394840555},"℃",null,66.83,979.44,4.1879999999999997,4.3140000000000001E-7,0.65679999999999994,0.16009999999999999,2.6945658963148036]
[null,"流体-壁面温度差",{"$f":"C6/C18/C16","v":1.7179673903557908},"℃　　　壁面温度",{"$f":"E23+C24","v":42.440731338761339},"℃",null,76.83,973.59,4.194,3.7940000000000002E-7,0.66459999999999997,0.1628,2.3304668304668303]
[null,"壁面-熱源温度差",{"$f":"C9*C6","v":0.191},null,null,null,null,86.83,967.21,4.202,3.3779999999999997E-7,0.67100000000000004,0.1651,2.04603270745003]
[null,"熱源温度",{"$f":"SUM(C23:C25)+C7","v":42.631731338761341},"℃",null,null,null,96.83,960.37,4.2119999999999997,3.0390000000000001E-7,0.67610000000000003,0.1671,1.8186714542190308]
[null,"ΔT",{"$f":"SUM(C23:C25)","v":2.6317313387613388},null,null,null,null,106.83,953.08,4.2240000000000002,2.7589999999999998E-7,0.68,0.16889999999999999,1.6335109532267613]
[]
[null,"■圧損計算"]
[null,null,null,null,null,null,null,"※このシートでは冷媒の物性値の温度依存性を考慮して計算しているため、書籍の計算結果と少し異なります"]
[null,"水冷ヒートシンク摩擦圧損係数",{"$f":"E3*(C4+C5)/C3","v":5.5687891107618857}]
[null,"配管部　摩擦圧損係数",{"$f":"E4*E32/C4","v":0.42372881355932207},"配管長 m",0.5]
[null,null,"圧損箇所１","圧損箇所２","圧損箇所３"]
[null,"開口率",1,1,1]
[null,"開口箇所",1,1,1]
[null,"  局所圧損(絞り）",{"$f":"C35*2.5*(1-C34)/C34^2","v":0},{"$f":"D35*2.5*(1-D34)/D34^2","v":0},{"$f":"E35*2.5*(1-E34)/E34^2","v":0}]
[null,null,"45°曲がり","90°曲がり","180°曲がり"]
[null,"ベンド半径　　ｍ",0.01,0.01,0.01]
[null,"ベンド箇所",0,8,0]
[null,"　局所圧損（ベンド）",{"$f":"IF(C11*(C3/C38)^2<365,(0.00515*C41*45*C11^-0.2*(C38/C3)^0.9)*C39,(0.00431*C41*45*C11^-0.17*(C38/C3)^0.849)*C39)","v":0},{"$f":"IF(C11*(C3/D38)^2<365,(0.00515*D41*90*C11^-0.2*(D38/C3)^0.9)*D39,(0.00431*D41*90*C11^-0.17*(D38/C3)^0.849)*D39)","v":2.2949906275389513},{"$f":"IF(C11*(C3/E38)^2<365,(0.00515*E41*180*C11^-0.2*(E38/C3)^0.9)*E39,(0.00431*E41*180*C11^-0.17*(E38/C3)^0.849)*E39)","v":0}]
[null,null,{"$f":"1+5.13*(C38/C3)^-1.47","v":2.3339684323763858},{"$f":"IF(D38/C3<9.85,0.95+4.42*(D38/C3)^-1.96,1)","v":1.6836008947402936},{"$f":"1+5.06*(E38/C3)^-4.52","v":1.0804380766467594}]
[]
[null,"圧力損失 KPa",{"$f":"((C31+C32+D31+E31+C36+D36+E36+E4+C40+D40+E40)*E6/2*C19^2)/1000","v":30.703740702120086}]

{"sheet":"ペルチェモジュール　熱回路モデル(11.3.2)","index":14,"n_rows":32,"n_cols":7,"rows_kept":32,"cut":false,"hidden":false,"merged":[]}
["熱回路網法　(TEC 熱電素子）"]
[]
["節点数","要素数","発熱節点数","温度固定節点数","計算反復回数"]
[9,10,4,1,10]
[]
["節点１","節点２","熱ｺﾝﾀﾞｸﾀﾝｽ","発熱点番号","発熱量","固定点番号","固定温度"]
[1,2,10000,4,{"$f":"-2*F18*F13*(B21+273.15)*F12","v":-38.961166849009068},9,25]
[2,3,{"$f":"F20*F21*F19/(F23/2)","v":20.491803278688526},5,{"$f":"2*F18*(F29*F12^2)","v":25.029385425000005}]
[3,4,{"$f":"F20*F21*F19/(F23/2)","v":20.491803278688526},6,{"$f":"2*F18*(F12*F13*(B23+273.15))","v":43.486506750674565}]
[4,5,{"$f":"F15*F18*F17/(F14/2)*2","v":0.40960000000000002},1,{"$f":"F24","v":22.5}]
[5,6,{"$f":"F17*F15/(F14/2)*F18*2","v":0.40960000000000002}]
[6,7,{"$f":"F20*F21*F19/(F23/2)","v":20.491803278688526},null,"電流",2.2000000000000002,"A"]
[7,8,{"$f":"F20*F21*F19/(F23/2)","v":20.491803278688526},null,"ゼーベック係数",2.0689999999999999E-4,"V/K"]
[8,9,{"$f":"1/F25","v":1},null,"素子の厚み",1.2700000000000001E-3,"m"]
[2,9,{"$f":"1/F26","v":1E-4},null,"素子の断面積",6.4000000000000001E-7,"m2"]
[4,6,{"$f":"1/F27","v":1E-4},null,"素子の電気抵抗率",1.026E-5,"Ωm"]
[null,null,null,null,"熱伝導率",1.6,"W/mK"]
["節点番号","温度",null,null,"素子数　(PNペア数）",127,"ペア"]
[1,64.937644958496094,"部品",null,"セラミック熱伝導率",15,"W/mK"]
[2,64.935394287109375,"セラミックC部品面",null,"外形寸法縦",2.5000000000000001E-2,"m"]
[3,63.838489532470703,"セラミックC厚み中心",null,"外形寸法横",2.5000000000000001E-2,"m"]
[4,62.741584777832031,"ペルチェ吸熱面",null,"外形寸法高さ",3.0999999999999999E-3,"m"]
[5,102.97970581054688,"ペルチェ中心部",null,"セラミック厚み",9.1500000000000001E-4,"m"]
[6,82.110931396484375,"ペルチェ排熱面",null,"部品の発熱量",22.5,"W"]
[7,79.571739196777344,"セラミックH厚み中心",null,"ヒートシンク熱抵抗（接触含む）",1,"K/W"]
[8,77.032546997070313,"セラミックH放熱面",null,"発熱体-空気熱抵抗",10000,"K/W"]
[9,25,"周囲温度",null,"Hot-Cool戻り熱抵抗",10000,"K/W"]
[]
[null,null," 温度差ΔT　[℃]",{"$f":"B20-B26","v":-12.097152709960938},"電気抵抗/素子",{"$f":"F16*F14/F15","v":2.0359687500000001E-2},"Ω"]
[null,null," 吸熱量　Qc　[W]",{"$f":"C8*(B20-B21)","v":22.47755644751377},"電気抵抗/モジュール",{"$f":"2*F29*F18","v":5.1713606250000002},"Ω"]
[null,null," 投入電力　　[W]",{"$f":"F32","v":25.029385425000005},"電圧",{"$f":"F30*F12","v":11.376993375000001},"V"]
[null,null," 成績係数　COP",{"$f":"D30/D31","v":0.89804667856776854},"入力電力",{"$f":"F31*F12","v":25.029385425000005},"W"]

{"sheet":"【事例1】　密閉機器筐体","index":15,"n_rows":22,"n_cols":5,"rows_kept":22,"cut":false,"hidden":false,"merged":[[9,2,9,3],[10,2,10,3],[11,2,11,3]]}
["12.2 密閉筐体の熱設計事例（筐体）"]
["筐体幅(m)",0.18]
["筐体奥行(m)",0.15,"上面代表長",{"$f":"MIN(B2,B3)","v":0.15}]
["筐体高さ(m)",0.03,"Stop",{"$f":"B2*B3+F4","v":2.7E-2}]
["表面放射率",0.85,"Sside",{"$f":"(B2+B3)*2*B4","v":1.9799999999999998E-2}]
["発熱量 (W)",15.5,"Sbot",{"$f":"B2*B3","v":2.7E-2}]
["通風口面積　(m2)",0,"σ",5.6699999999999998E-8]
["周囲空気温度℃",40,"煙突長",{"$f":"B4/2","v":1.4999999999999999E-2}]
[null,{"$f":"B8+B10","v":59.281485244798425}]
["表面温度上昇ΔＴ（仮定値）",19.281485244798425,"内部空気温度上昇",null,{"$f":"B10*2","v":38.56297048959685}]
["周囲温度（K）",{"$f":"B8+273.15","v":313.14999999999998},"内部空気温度",null,{"$f":"E10+B8","v":78.56297048959685}]
["表面温度（K)",{"$f":"B8+B10+273.15","v":332.43148524479841},"表面温度",null,{"$f":"B10+B8","v":59.281485244798425}]
[]
[null,"熱伝達率","熱ｺﾝﾀﾞｸﾀﾝｽ","放熱量"]
["上面の対流熱伝達率",{"$f":"2.51*0.54*(B10/D3)^0.25","v":4.5638334552622322},{"$f":"B15*D4","v":0.12322350329208026},{"$f":"C15*$B$10","v":2.3759321605386159}]
["側面の対流熱伝達率",{"$f":"2.51*0.56*(B10/B4)^0.25","v":7.0772828985423804},{"$f":"B16*D5","v":0.14013020139113913},{"$f":"C16*$B$10","v":2.7019184104738807}]
["底面の対流熱伝達率",{"$f":"2.51*0.27*(B10/D3)^0.25","v":2.2819167276311161},{"$f":"B17*D6","v":6.161175164604013E-2},{"$f":"C17*$B$10","v":1.1879660802693079}]
["全面の放射熱伝達率",{"$f":"D7*B5*(B12^2+B11^2)*(B12+B11)","v":6.4895176722603454},{"$f":"B18*(D4+D5+D6)","v":0.47892640421281341},{"$f":"C18*$B$10","v":9.2344123961737274}]
["換気による放熱量",null,null,{"$f":"1150*B7*0.1667*(D8*E10)^0.5*E10","v":0}]
["合計放熱量",null,null,{"$f":"SUM(D15:D19)","v":15.500229047455532}]
[]
["ＥＲＲ",{"$f":"B6-D20","v":-2.2904745553198325E-4}]

{"sheet":"【事例1】　密閉機器基板","index":16,"n_rows":22,"n_cols":5,"rows_kept":22,"cut":false,"hidden":false,"merged":[[9,2,9,3],[10,2,10,3],[11,2,11,3]]}
["12.2 密閉筐体の熱設計事例（基板）"]
["筐体幅(m)",0.16]
["筐体奥行(m)",0.13,"上面代表長",{"$f":"MIN(B2,B3)","v":0.13}]
["筐体高さ(m)",1.6000000000000001E-3,"Stop",{"$f":"B2*B3+F4","v":2.0800000000000003E-2}]
["表面放射率",0.85,"Sside",{"$f":"(B2+B3)*2*B4","v":9.2800000000000011E-4}]
["発熱量 (W)",15.5,"Sbot",{"$f":"B2*B3","v":2.0800000000000003E-2}]
["通風口面積　(m2)",0,"σ",5.6699999999999998E-8]
["周囲空気温度℃",{"$f":"'【事例1】　密閉機器筐体'!B8+'【事例1】　密閉機器筐体'!B10","v":59.281485244798425},"煙突長",{"$f":"B4/2","v":8.0000000000000004E-4}]
[null,{"$f":"B8+B10","v":88.896204029954674}]
["表面温度上昇ΔＴ（仮定値）",29.614718785156253,"内部空気温度上昇",null,{"$f":"B10*2","v":59.229437570312506}]
["周囲温度（K）",{"$f":"B8+273.15","v":332.43148524479841},"内部空気温度",null,{"$f":"E10+B8","v":118.51092281511093}]
["表面温度（K)",{"$f":"B8+B10+273.15","v":362.04620402995465},"表面温度",null,{"$f":"B10+B8","v":88.896204029954674}]
[]
[null,"熱伝達率","熱ｺﾝﾀﾞｸﾀﾝｽ","放熱量"]
["上面の対流熱伝達率",{"$f":"2.51*0.54*(B10/D3)^0.25","v":5.2657295097785175},{"$f":"B15*D4","v":0.10952717380339318},{"$f":"C15*$B$10","v":3.2436164515204218}]
["側面の対流熱伝達率",{"$f":"2.51*0.56*(B10/B4)^0.25","v":16.394895622004668},{"$f":"B16*D5","v":1.5214463137220333E-2},{"$f":"C16*$B$10","v":0.45057204727590633}]
["底面の対流熱伝達率",{"$f":"2.51*0.27*(B10/D3)^0.25","v":2.6328647548892588},{"$f":"B17*D6","v":5.4763586901696588E-2},{"$f":"C17*$B$10","v":1.6218082257602109}]
["全面の放射熱伝達率",{"$f":"D7*B5*(B12^2+B11^2)*(B12+B11)","v":8.0860403501740574},{"$f":"B18*(D4+D5+D6)","v":0.34388312401220239},{"$f":"C18*$B$10","v":10.184002012582388}]
["換気による放熱量",null,null,{"$f":"1150*B7*0.1667*(D8*E10)^0.5*E10","v":0}]
["合計放熱量",null,null,{"$f":"SUM(D15:D19)","v":15.499998737138927}]
[]
["ＥＲＲ",{"$f":"B6-D20","v":1.2628610726039824E-6}]

{"sheet":"【事例1】危険部品判断シート","index":17,"n_rows":49,"n_cols":18,"rows_kept":49,"cut":false,"hidden":false,"merged":[[35,2,35,4],[35,9,36,9],[35,10,36,10],[35,15,36,15],[35,16,36,16]]}
[]
[null,null,"熱対策が必要な部品かどうかを見分けるグラフ",null,null,null,null,null,null,null,"基板で対策が可能かどうかを見分けるグラフ"]
[]
[null,null,null,null,null,null,null,null,null,null,null,null,null,null,null,null,"放熱限界ラインの調整"]
[null,null,null,null,null,null,null,null,null,null,null,null,null,null,null,null,"基板熱伝導率",18]
[null,null,null,null,null,null,null,null,null,null,null,null,null,null,null,null,"部品周囲の放熱領域（㎜）"]
[null,null,null,null,null,null,null,null,null,null,null,null,null,null,null,null,"最小",5]
[null,null,null,null,null,null,null,null,null,null,null,null,null,null,null,null,"最大",20]
[]
[]
[]
[]
[]
[]
[]
[]
[]
[]
[]
[]
[]
[]
[]
[]
[]
[]
[]
[]
[]
[]
[]
[]
[]
[]
[" 部品リスト",null,null,null,null,null,"※色のついていないセルが入力部分です",null,null,null,null,null,null,"基板放射率",0.85]
["名称","許容温度"," 外形寸法(mm)",null,null,"消費電力","周長","表面積","熱流束","単体\n熱抵抗\nK/W","目標\n熱抵抗\nK/W","周囲温度℃",{"$f":"'【事例1】　密閉機器基板'!B8","v":59.281485244798425},"風速[m/s]",0,"放射率","対流・放射熱伝達率\nW/m2K"]
[null,"(℃)","縦","横","高さ","Ｗ","mm","mm2","W/m2",null,null,"単体＜目標","目標＞30","単体÷目標","対策方針"]
["部品1",90,5,4.9000000000000004,1,0.2,{"$f":"(C38+D38)*2","v":19.8},{"$f":"(C38*D38+D38*E38+E38*C38)*2","v":68.8},{"$f":"F38/H38*1000000","v":2906.9767441860467},{"$f":"1/H38/Q38*1000000","v":688.86112450635903},{"$f":"(B38-$M$36)/F38","v":153.59257377600787},{"$f":"IF(J38<K38,\"○\",\"×\")","v":"×"},{"$f":"IF(OR(K38>=30,L38=\"○\"),\"○\",\"×\")","v":"○"},{"$f":"J38/K38","v":4.4849897854499234},null,0.9,{"$f":"IF($O$36<>0,3.86*($O$36/MIN(C38,D38)*1000)^0.5+0.0000000567*P38*(($M$36+273+(B38-$M$36))^2+($M$36+273)^2)*(($M$36+273+(B38-$M$36))+($M$36+273)),2.51*0.56*((B38-$M$36)/(MIN(C38,D38)/1000))^0.25+0.0000000567*P38*(($M$36+273+(B38-$M$36))^2+($M$36+273)^2)*(($M$36+273+(B38-$M$36))+($M$36+273)))","v":21.099875147325225}]
["部品2",90,17,17,1,2,{"$f":"(C39+D39)*2","v":68},646,3095.9752321981427,87.176664164653886,{"$f":"(B39-$M$36)/F39","v":15.359257377600787},"×","×",5.6758384875943415,null,0.9,{"$f":"IF($O$36<>0,3.86*($O$36/MIN(C39,D39)*1000)^0.5+0.0000000567*P39*(($M$36+273+(B39-$M$36))^2+($M$36+273)^2)*(($M$36+273+(B39-$M$36))+($M$36+273)),2.51*0.56*((B39-$M$36)/(MIN(C39,D39)/1000))^0.25+0.0000000567*P39*(($M$36+273+(B39-$M$36))^2+($M$36+273)^2)*(($M$36+273+(B39-$M$36))+($M$36+273)))","v":17.756903535277836}]
["部品3",90,13,13,1.5,1.7,52,416,4086.5384615384619,{"$f":"1/H40/Q40*1000000","v":130.69640926265262},{"$f":"(B40-$M$36)/F40","v":18.069714561883281},"×","×",7.2328983844795749,null,0.9,{"$f":"IF($O$36<>0,3.86*($O$36/MIN(C40,D40)*1000)^0.5+0.0000000567*P40*(($M$36+273+(B40-$M$36))^2+($M$36+273)^2)*(($M$36+273+(B40-$M$36))+($M$36+273)),2.51*0.56*((B40-$M$36)/(MIN(C40,D40)/1000))^0.25+0.0000000567*P40*(($M$36+273+(B40-$M$36))^2+($M$36+273)^2)*(($M$36+273+(B40-$M$36))+($M$36+273)))","v":18.392595232018124}]
["部品4",90,3.95,4.9000000000000004,1,0.14000000000000001,17.700000000000003,56.410000000000004,2481.8294628611948,{"$f":"1/H41/Q41*1000000","v":813.47049314025003},{"$f":"(B41-$M$36)/F41","v":219.4179625371541},{"$f":"IF(J41<K41,\"○\",\"×\")","v":"×"},"○",3.7074015442218178,null,0.9,21.79225117031384]
["部品5",90,3,6.5,1,0.16,19,58,2758.6206896551726,758.46245294847859,191.99071722000983,"×","○",3.9505162745932458,null,0.9,22.732014278781985]
["部品6",90,9.25,10,3.5,1.7,38.5,319.75,5316.6536356528532,162.35586134414569,18.069714561883281,"×","×",8.9849710015134008,null,0.9,19.262891337570334]
["部品7",90,6,7.2,1.7,0.3,26.4,131.28,2285.1919561243144,371.89553259926481,102.39504918400526,{"$f":"IF(J44<K44,\"○\",\"×\")","v":"×"},{"$f":"IF(OR(K44>=30,L44=\"○\"),\"○\",\"×\")","v":"○"},{"$f":"J44/K44","v":3.6319679082429426},null,0.9,20.482382423836196]
["部品8",90,5,2.1,1,0.2,14.2,35.200000000000003,5681.818181818182,1181.2153974657119,153.59257377600787,"×","○",7.690576233121404,null,0.9,24.050728571641024]
["部品9",90,13.2,14.5,1.2,2.2999999999999998,55.4,449.28,5119.3019943019945,121.26133471625401,13.355875980522425,"×","×",9.0792498292957937,null,0.9,18.355261229737472]
["部品10",90,7,6,1.5,0.19,26,123,1544.7154471544716,396.93045137911776,161.67639344842934,{"$f":"IF(J47<K47,\"○\",\"×\")","v":"×"},{"$f":"IF(OR(K47>=30,L47=\"○\"),\"○\",\"×\")","v":"○"},{"$f":"J47/K47","v":2.4550921931947256},null,0.9,20.482382423836196]
["部品11",90,10.5,7.5,2.5,0.5,36,247.5,2020.2020202020201,203.67750717324361,61.43702951040315,"×","○",3.3152238771367495,null,0.9,19.837261838477634]
["部品12",90,11.3,11.4,2.5,1.2,45.400000000000006,371.14000000000004,3233.2812415799963,143.76241785286476,25.598762296001315,"×","×",5.6159909682555762,null,0.9,18.742040339135169]

{"sheet":"LEEの式 (2)","index":18,"n_rows":114,"n_cols":25,"rows_kept":114,"cut":false,"hidden":true,"merged":[]}
[]
[null,null,null,null,null,null,null,null,null,null,null,"面方向","厚み方向"]
[null,null,null,null,null,null,null,null,null,null,"等価熱伝導率",{"$f":"【事例1】危険部品判断シート!R5","v":18},0.4,null,"ターゲット温度上昇",null,30]
[null,null,null,null,null,null,null,null,null,null,"隙間",{"$f":"【事例1】危険部品判断シート!R7","v":5}]
[null,null,null,null,"位置",null,null,"発熱量","部品L","周長","周囲幅","P表面積","熱伝達率","熱抵抗R0","温度上昇","As","Ap","λ","AC","BC","CC","Rc","Rt","ERR"]
[null,null,null,null,"C0",1,{"$f":"J6*1000","v":8},{"$f":"X6","v":0.15797847172012069},2E-3,{"$f":"I6*4","v":8.0000000000000002E-3},{"$f":"I6+$L$4/1000*2","v":1.2E-2},{"$f":"K6^2*2","v":2.8800000000000001E-4},{"$f":"IF(【事例1】危険部品判断シート!$O$36=0,2.51*0.56*(O6/K6)^0.25+0.0000000567*$F$9*(($F$10+273+O6)^2+($F$10+273)^2)*(($F$10+273+O6)+($F$10+273)),3.86*(【事例1】危険部品判断シート!$O$36/K6)^0.5+0.0000000567*$F$9*(($F$10+273+O6)^2+($F$10+273)^2)*(($F$10+273+O6)+($F$10+273)))","v":18.28454533797693},{"$f":"1/L6/M6+$F$8/$M$3/L6","v":203.78818132633495},{"$f":"H6*N6","v":32.194145440557236},{"$f":"I6^2","v":3.9999999999999998E-6},{"$f":"K6^2","v":1.44E-4},{"$f":"(PI()^1.5)/((Q6)^0.5)+1/(P6)^0.5","v":964.02733306930907},{"$f":"$F$6*(Q6^0.5-P6^0.5)/($L$3*(PI()*Q6*P6)^0.5)","v":13.059944063605471},{"$f":"R6*$L$3*Q6*N6/$F$6","v":509.21752106754525},{"$f":"TANH(R6*$F$8/$F$6)","v":0.91253009128967677},{"$f":"S6*(T6+U6)/(1+T6*U6)","v":14.306654163256059},{"$f":"N6+V6","v":218.09483548959102},{"$f":"L6*M6*$Q$3","v":0.15797847172012069},{"$f":"J6*1000","v":8}]
[null,null,null,null,null,null,{"$f":"J7*1000","v":16},{"$f":"X7","v":0.21046767701867394},{"$f":"I6+0.002","v":4.0000000000000001E-3},1.6E-2,{"$f":"I7+$L$4/1000*2","v":1.4E-2},{"$f":"K7^2*2","v":3.9200000000000004E-4},{"$f":"IF(【事例1】危険部品判断シート!$O$36=0,2.51*0.56*(O7/K7)^0.25+0.0000000567*$F$9*(($F$10+273+O7)^2+($F$10+273)^2)*(($F$10+273+O7)+($F$10+273)),3.86*(【事例1】危険部品判断シート!$O$36/K7)^0.5+0.0000000567*$F$9*(($F$10+273+O7)^2+($F$10+273)^2)*(($F$10+273+O7)+($F$10+273)))","v":17.896911311111733},{"$f":"1/L7/M7+$F$8/$M$3/L7","v":152.74378380905051},32.1476293573334,{"$f":"I7^2","v":1.5999999999999999E-5},{"$f":"K7^2","v":1.9600000000000002E-4},{"$f":"(PI()^1.5)/((Q7)^0.5)+1/(P7)^0.5","v":647.73771405940784},5.5971188844023443,349.05294422652099,0.77645466972204769,{"$f":"S7*(T7+U7)/(1+T7*U7)","v":7.1980349420873067},{"$f":"N7+V7","v":159.94181875113782},{"$f":"L7*M7*$Q$3","v":0.210467677018674},{"$f":"J7*1000","v":16}]
[null,null,null,null,"t",1.6000000000000001E-3,24,{"$f":"X8","v":0.26992442856652327},{"$f":"I7+0.002","v":6.0000000000000001E-3},2.4E-2,1.6E-2,5.1199999999999998E-4,{"$f":"IF(【事例1】危険部品判断シート!$O$36=0,2.51*0.56*(O8/K8)^0.25+0.0000000567*$F$9*(($F$10+273+O8)^2+($F$10+273)^2)*(($F$10+273+O8)+($F$10+273)),3.86*(【事例1】危険部品判断シート!$O$36/K8)^0.5+0.0000000567*$F$9*(($F$10+273+O8)^2+($F$10+273)^2)*(($F$10+273+O8)+($F$10+273)))","v":17.573204984799702},118.95471917341742,32.108784598175944,3.6000000000000001E-5,2.5599999999999999E-4,514.68716646864846,3.2649860159013677,282.12234554621961,0.6769700699595429,4.8093316457402411,123.76405081915766,{"$f":"L8*M8*$Q$3","v":0.26992442856652343},24]
[null,null,null,null,"放射率",{"$f":"【事例1】危険部品判断シート!O35","v":0.85},32,0.33624711149615139,8.0000000000000002E-3,3.2000000000000001E-2,1.8000000000000002E-2,6.4800000000000014E-4,{"$f":"IF(【事例1】危険部品判断シート!$O$36=0,2.51*0.56*(O9/K9)^0.25+0.0000000567*$F$9*(($F$10+273+O9)^2+($F$10+273)^2)*(($F$10+273+O9)+($F$10+273)),3.86*(【事例1】危険部品判断シート!$O$36/K9)^0.5+0.0000000567*$F$9*(($F$10+273+O9)^2+($F$10+273)^2)*(($F$10+273+O9)+($F$10+273)))","v":17.296662113999552},95.39293679269889,{"$f":"H9*N9","v":32.075599453679942},6.3999999999999997E-5,3.2400000000000007E-4,434.35155537953932,2.1766573439342456,241.64349897013912,0.60116053184182494,3.604950506633597,98.99788729933249,0.33624711149615139,32]
[null,null,null,null,"室温",{"$f":"【事例1】危険部品判断シート!M36","v":59.281485244798425},40,0.40934897835172113,0.01,0.04,0.02,8.0000000000000004E-4,{"$f":"IF(【事例1】危険部品判断シート!$O$36=0,2.51*0.56*(O10/K10)^0.25+0.0000000567*$F$9*(($F$10+273+O10)^2+($F$10+273)^2)*(($F$10+273+O10)+($F$10+273)),3.86*(【事例1】危険部品判断シート!$O$36/K10)^0.5+0.0000000567*$F$9*(($F$10+273+O10)^2+($F$10+273)^2)*(($F$10+273+O10)+($F$10+273)))","v":17.056207431321717},78.287101193699257,32.0467448917586,1E-4,4.0000000000000002E-4,378.41639984158542,1.5671932876326564,213.30088551182561,0.54092779792344237,2.8796216281807703,81.166722821880029,0.40934897835172124,40]
[null,null,null,null,null,null,48,0.48915463685659172,1.2E-2,4.8000000000000001E-2,2.1999999999999999E-2,{"$f":"K11^2*2","v":9.6799999999999989E-4},{"$f":"IF(【事例1】危険部品判断シート!$O$36=0,2.51*0.56*(O11/K11)^0.25+0.0000000567*$F$9*(($F$10+273+O11)^2+($F$10+273)^2)*(($F$10+273+O11)+($F$10+273)),3.86*(【事例1】危険部品判断シート!$O$36/K11)^0.5+0.0000000567*$F$9*(($F$10+273+O11)^2+($F$10+273)^2)*(($F$10+273+O11)+($F$10+273)))","v":16.844167935833052},65.462530127641074,32.021300152299965,1.44E-4,4.8399999999999995E-4,336.43915137113828,1.1872676421459516,191.87446521692789,0.49170205506160097,2.3954057464535294,67.857935874094608,0.48915463685659183,48]
[null,null,null,null,null,null,56,0.57559762429904893,1.4E-2,5.6000000000000001E-2,2.4E-2,1.152E-3,{"$f":"IF(【事例1】危険部品判断シート!$O$36=0,2.51*0.56*(O12/K12)^0.25+0.0000000567*$F$9*(($F$10+273+O12)^2+($F$10+273)^2)*(($F$10+273+O12)+($F$10+273)),3.86*(【事例1】危険部品判断シート!$O$36/K12)^0.5+0.0000000567*$F$9*(($F$10+273+O12)^2+($F$10+273)^2)*(($F$10+273+O12)+($F$10+273)))","v":16.65502385124563},55.591964788104747,31.998602862149472,1.9600000000000002E-4,5.7600000000000001E-4,303.44223796322598,0.93285314740039071,174.89727575732533,0.45064358951546418,2.0493781894247527,57.641342977529497,0.57559762429904893,56]
[null,null,null,null,null,null,64,0.66861866648210677,1.6E-2,6.4000000000000001E-2,2.6000000000000002E-2,1.3520000000000003E-3,{"$f":"IF(【事例1】危険部品判断シート!$O$36=0,2.51*0.56*(O13/K13)^0.25+0.0000000567*$F$9*(($F$10+273+O13)^2+($F$10+273)^2)*(($F$10+273+O13)+($F$10+273)),3.86*(【事例1】危険部品判断シート!$O$36/K13)^0.5+0.0000000567*$F$9*(($F$10+273+O13)^2+($F$10+273)^2)*(($F$10+273+O13)+($F$10+273)))","v":16.484681126284681},47.827204561017055,31.97816173515416,2.5599999999999999E-4,6.7600000000000017E-4,276.66646141660419,0.75345831136185404,161.00920816295388,0.41585212525732529,1.7897906738729796,49.616995234890034,0.66861866648210677,64]
[null,null,null,null,null,null,72.000000000000014,0.76816438846574375,1.8000000000000002E-2,7.2000000000000008E-2,2.8000000000000004E-2,1.5680000000000004E-3,{"$f":"IF(【事例1】危険部品判断シート!$O$36=0,2.51*0.56*(O14/K14)^0.25+0.0000000567*$F$9*(($F$10+273+O14)^2+($F$10+273)^2)*(($F$10+273+O14)+($F$10+273)),3.86*(【事例1】危険部品判断シート!$O$36/K14)^0.5+0.0000000567*$F$9*(($F$10+273+O14)^2+($F$10+273)^2)*(($F$10+273+O14)+($F$10+273)))","v":16.330025265003052},41.605160967736801,31.95960303180037,3.2400000000000007E-4,7.8400000000000019E-4,254.4244125852594,0.62190209826692722,149.38072224389234,0.38598973202305409,1.5878135953498045,43.192974563086608,0.76816438846574375,72.000000000000014]
[null,null,null,null,null,null,80.000000000000014,0.87418633496611076,2.0000000000000004E-2,8.0000000000000016E-2,3.0000000000000006E-2,1.8000000000000006E-3,{"$f":"IF(【事例1】危険部品判断シート!$O$36=0,2.51*0.56*(O15/K15)^0.25+0.0000000567*$F$9*(($F$10+273+O15)^2+($F$10+273)^2)*(($F$10+273+O15)+($F$10+273)),3.86*(【事例1】危険部品判断シート!$O$36/K15)^0.5+0.0000000567*$F$9*(($F$10+273+O15)^2+($F$10+273)^2)*(($F$10+273+O15)+($F$10+273)))","v":16.188635832705749},36.539848568054992,31.942636299924683,4.0000000000000018E-4,9.000000000000003E-4,235.61093322772359,0.52239776254421877,139.46884270213008,0.36007971902724906,1.4261315191361328,37.965980087191127,0.87418633496611076,80.000000000000014]
[null,null,null,null,null,null,88.000000000000028,0.98664020975888567,2.2000000000000006E-2,8.8000000000000023E-2,3.2000000000000008E-2,2.0480000000000008E-3,{"$f":"IF(【事例1】危険部品判断シート!$O$36=0,2.51*0.56*(O16/K16)^0.25+0.0000000567*$F$9*(($F$10+273+O16)^2+($F$10+273)^2)*(($F$10+273+O16)+($F$10+273)),3.86*(【事例1】危険部品判断シート!$O$36/K16)^0.5+0.0000000567*$F$9*(($F$10+273+O16)^2+($F$10+273)^2)*(($F$10+273+O16)+($F$10+273)))","v":16.058597164044357},32.359345730991059,31.927031659685319,4.8400000000000027E-4,1.0240000000000004E-3,219.4647953555363,0.44522536580473182,130.89921986195256,0.3373894215775724,1.293726236705105,33.653071967696164,0.98664020975888567,88.000000000000028]
[null,null,null,null,null,null,96.000000000000028,{"$f":"X17","v":1.1054852741313406},2.4000000000000007E-2,9.600000000000003E-2,3.4000000000000009E-2,2.3120000000000011E-3,{"$f":"IF(【事例1】危険部品判断シート!$O$36=0,2.51*0.56*(O17/K17)^0.25+0.0000000567*$F$9*(($F$10+273+O17)^2+($F$10+273)^2)*(($F$10+273+O17)+($F$10+273)),3.86*(【事例1】危険部品判断シート!$O$36/K17)^0.5+0.0000000567*$F$9*(($F$10+273+O17)^2+($F$10+273)^2)*(($F$10+273+O17)+($F$10+273)))","v":15.93836900420041},28.867507353799958,31.912604280504038,5.7600000000000034E-4,1.1560000000000006E-3,205.44101951465805,0.38411600187074896,123.40330350665324,0.3173572498856026,1.1832573464161211,30.050764700216078,{"$f":"L17*M17*$Q$3","v":1.105485274131341},96.000000000000028]
[null,null,null,null,null,null,104.00000000000004,{"$f":"X18","v":1.230683863490845},2.6000000000000009E-2,0.10400000000000004,3.6000000000000011E-2,2.5920000000000014E-3,{"$f":"IF(【事例1】危険部品判断シート!$O$36=0,2.51*0.56*(O18/K18)^0.25+0.0000000567*$F$9*(($F$10+273+O18)^2+($F$10+273)^2)*(($F$10+273+O18)+($F$10+273)),3.86*(【事例1】危険部品判断シート!$O$36/K18)^0.5+0.0000000567*$F$9*(($F$10+273+O18)^2+($F$10+273)^2)*(($F$10+273+O18)+($F$10+273)))","v":15.826695775345225},25.919900666089063,31.899203493041416,6.7600000000000049E-4,1.2960000000000007E-3,193.13731615130808,0.33487036060526831,116.78230195606447,0.29954502429688962,1.0896482272575734,27.009548893346636,{"$f":"L18*M18*$Q$3","v":1.2306838634908452},104.00000000000004]
[null,null,null,null,null,null,112.00000000000004,1.3622009934922676,2.8000000000000011E-2,0.11200000000000004,3.8000000000000013E-2,2.8880000000000021E-3,{"$f":"IF(【事例1】危険部品判断シート!$O$36=0,2.51*0.56*(O19/K19)^0.25+0.0000000567*$F$9*(($F$10+273+O19)^2+($F$10+273)^2)*(($F$10+273+O19)+($F$10+273)),3.86*(【事例1】危険部品判断シート!$O$36/K19)^0.5+0.0000000567*$F$9*(($F$10+273+O19)^2+($F$10+273)^2)*(($F$10+273+O19)+($F$10+273)))","v":15.722541476134195},23.408223257412494,31.886704977136105,7.8400000000000063E-4,1.4440000000000011E-3,182.24923299933062,0.29458520444222852,110.88527005217728,0.28360565836302504,1.009276961248861,24.417500218661356,1.3622009934922676,112.00000000000004]
[null,null,null,null,null,null,120.00000000000006,1.5000040351629562,3.0000000000000013E-2,0.12000000000000005,4.0000000000000015E-2,3.2000000000000023E-3,{"$f":"IF(【事例1】危険部品判断シート!$O$36=0,2.51*0.56*(O20/K20)^0.25+0.0000000567*$F$9*(($F$10+273+O20)^2+($F$10+273)^2)*(($F$10+273+O20)+($F$10+273)),3.86*(【事例1】危険部品判断シート!$O$36/K20)^0.5+0.0000000567*$F$9*(($F$10+273+O20)^2+($F$10+273)^2)*(($F$10+273+O20)+($F$10+273)))","v":15.625042032947448},21.249946197971987,31.875005043953699,9.0000000000000073E-4,1.6000000000000012E-3,172.54153325412599,0.26119888127210922,105.59515099869432,0.2692605997557056,0.93949066732694519,22.189436865298934,1.5000040351629562,120.00000000000006]
[null,null,null,null,null,null,128.00000000000006,1.6440624440206679,3.2000000000000015E-2,0.12800000000000006,4.2000000000000016E-2,3.5280000000000029E-3,{"$f":"IF(【事例1】危険部品判断シート!$O$36=0,2.51*0.56*(O21/K21)^0.25+0.0000000567*$F$9*(($F$10+273+O21)^2+($F$10+273)^2)*(($F$10+273+O21)+($F$10+273)),3.86*(【事例1】危険部品判断シート!$O$36/K21)^0.5+0.0000000567*$F$9*(($F$10+273+O21)^2+($F$10+273)^2)*(($F$10+273+O21)+($F$10+273)))","v":15.533469803672213},19.381268936789901,31.864016376440656,1.024000000000001E-3,1.7640000000000015E-3,163.82923801980252,0.23321328685009748,100.81953850327788,0.25628370432311187,0.87830200406802328,20.259570940857923,1.6440624440206684,128.00000000000006]
[null,null,null,null,null,null,136.00000000000006,1.7943475320161424,3.4000000000000016E-2,0.13600000000000007,4.4000000000000018E-2,3.872000000000003E-3,{"$f":"IF(【事例1】危険部品判断シート!$O$36=0,2.51*0.56*(O22/K22)^0.25+0.0000000567*$F$9*(($F$10+273+O22)^2+($F$10+273)^2)*(($F$10+273+O22)+($F$10+273)),3.86*(【事例1】危険部品判断シート!$O$36/K22)^0.5+0.0000000567*$F$9*(($F$10+273+O22)^2+($F$10+273)^2)*(($F$10+273+O22)+($F$10+273)))","v":15.447206715014987},17.752227056043477,31.853664805801802,1.1560000000000012E-3,1.9360000000000015E-3,155.96467372478477,0.20951781920222662,96.484365038240199,0.24448947694923887,0.82419289651060479,18.576419952554083,1.7943475320161424,136.00000000000006]
[null,null,null,null,null,null,144.00000000000009,1.9508322738544126,3.6000000000000018E-2,0.14400000000000007,4.600000000000002E-2,4.232000000000004E-3,{"$f":"IF(【事例1】危険部品判断シート!$O$36=0,2.51*0.56*(O23/K23)^0.25+0.0000000567*$F$9*(($F$10+273+O23)^2+($F$10+273)^2)*(($F$10+273+O23)+($F$10+273)),3.86*(【事例1】危険部品判断シート!$O$36/K23)^0.5+0.0000000567*$F$9*(($F$10+273+O23)^2+($F$10+273)^2)*(($F$10+273+O23)+($F$10+273)))","v":15.365723644095862},16.32323150691732,31.843886837291507,1.2960000000000014E-3,2.116000000000002E-3,148.82838640455398,0.18927455164645593,92.529471529269628,0.23372434888504259,0.77598379291234709,17.099215299829666,1.9508322738544126,144.00000000000009]
[null,null,null,null,null,null,152.00000000000009,2.1134911412160666,3.800000000000002E-2,0.15200000000000008,4.8000000000000022E-2,4.6080000000000045E-3,{"$f":"IF(【事例1】危険部品判断シート!$O$36=0,2.51*0.56*(O24/K24)^0.25+0.0000000567*$F$9*(($F$10+273+O24)^2+($F$10+273)^2)*(($F$10+273+O24)+($F$10+273)),3.86*(【事例1】危険部品判断シート!$O$36/K24)^0.5+0.0000000567*$F$9*(($F$10+273+O24)^2+($F$10+273)^2)*(($F$10+273+O24)+($F$10+273)))","v":15.288564389583801},15.062579211206421,31.83462772675006,1.4440000000000015E-3,2.3040000000000022E-3,142.3226227410114,0.17184136925796659,88.905424929399757,0.22386011000054215,0.73274429504742955,15.795323506253851,2.1134911412160666,152.00000000000009]
[null,null,null,null,null,null,160.00000000000009,2.2822999598443525,4.0000000000000022E-2,0.16000000000000009,5.0000000000000024E-2,5.0000000000000044E-3,{"$f":"IF(【事例1】危険部品判断シート!$O$36=0,2.51*0.56*(O25/K25)^0.25+0.0000000567*$F$9*(($F$10+273+O25)^2+($F$10+273)^2)*(($F$10+273+O25)+($F$10+273)),3.86*(【事例1】危険部品判断シート!$O$36/K25)^0.5+0.0000000567*$F$9*(($F$10+273+O25)^2+($F$10+273)^2)*(($F$10+273+O25)+($F$10+273)))","v":15.215333065629004},13.944635029501525,31.825839967875481,1.6000000000000018E-3,2.5000000000000022E-3,136.3665599366341,0.1567193287632655,85.571185884525391,0.21478889752092473,0.6937306649312196,14.638365694432744,2.2822999598443525,160.00000000000009]
[null,null,null,null,null,null,168.00000000000009,2.4572357855406946,4.2000000000000023E-2,0.16800000000000009,5.2000000000000025E-2,5.4080000000000057E-3,{"$f":"IF(【事例1】危険部品判断シート!$O$36=0,2.51*0.56*(O26/K26)^0.25+0.0000000567*$F$9*(($F$10+273+O26)^2+($F$10+273)^2)*(($F$10+273+O26)+($F$10+273)),3.86*(【事例1】危険部品判断シート!$O$36/K26)^0.5+0.0000000567*$F$9*(($F$10+273+O26)^2+($F$10+273)^2)*(($F$10+273+O26)+($F$10+273)))","v":15.145684082474684},12.948485561346233,31.817482089896952,1.7640000000000019E-3,2.7040000000000028E-3,130.89275451782584,0.14351586883082923,82.492369111023891,0.20641932653849454,0.65834123493363639,13.60682679627987,2.4572357855406954,168.00000000000009]
[null,null,null,null,null,null,176.00000000000011,2.6382767959243871,4.4000000000000025E-2,0.1760000000000001,5.4000000000000027E-2,5.8320000000000056E-3,{"$f":"IF(【事例1】危険部品判断シート!$O$36=0,2.51*0.56*(O27/K27)^0.25+0.0000000567*$F$9*(($F$10+273+O27)^2+($F$10+273)^2)*(($F$10+273+O27)+($F$10+273)),3.86*(【事例1】危険部品判断シート!$O$36/K27)^0.5+0.0000000567*$F$9*(($F$10+273+O27)^2+($F$10+273)^2)*(($F$10+273+O27)+($F$10+273)))","v":15.079314105649205},12.056929637488107,31.809517692677904,1.9360000000000022E-3,2.9160000000000028E-3,125.8444578537858,0.13191862690510567,79.639925541290722,0.19867346971582525,0.62608401362099908,12.683013651109107,2.6382767959243871,176.00000000000011]
[null,null,null,null,null,null,184.00000000000011,2.8254021954339343,4.6000000000000027E-2,0.18400000000000011,5.6000000000000029E-2,6.2720000000000067E-3,{"$f":"IF(【事例1】危険部品判断シート!$O$36=0,2.51*0.56*(O28/K28)^0.25+0.0000000567*$F$9*(($F$10+273+O28)^2+($F$10+273)^2)*(($F$10+273+O28)+($F$10+273)),3.86*(【事例1】危険部品判断シート!$O$36/K28)^0.5+0.0000000567*$F$9*(($F$10+273+O28)^2+($F$10+273)^2)*(($F$10+273+O28)+($F$10+273)))","v":15.015955545460947},11.255712449310623,31.8019146654553,2.1160000000000024E-3,3.1360000000000034E-3,121.17355894963448,0.12167649748700737,76.989130057540422,0.19148447646351829,0.59655276728243734,11.852265216593061,2.8254021954339352,184.00000000000011]
[null,null,null,null,null,null,192.00000000000011,3.0185921315281465,4.8000000000000029E-2,0.19200000000000012,5.8000000000000031E-2,6.7280000000000074E-3,{"$f":"IF(【事例1】危険部品判断シート!$O$36=0,2.51*0.56*(O29/K29)^0.25+0.0000000567*$F$9*(($F$10+273+O29)^2+($F$10+273)^2)*(($F$10+273+O29)+($F$10+273)),3.86*(【事例1】危険部品判断シート!$O$36/K29)^0.5+0.0000000567*$F$9*(($F$10+273+O29)^2+($F$10+273)^2)*(($F$10+273+O29)+($F$10+273)))","v":14.955371242212362},10.532938258528359,31.794644549065485,2.3040000000000027E-3,3.3640000000000037E-3,116.83898845112137,0.11258572468625394,74.518794226726854,0.184794679131945,0.56940909901628434,11.102347357544645,3.0185921315281465,192.00000000000011]
[null,null,null,null,null,null,200.00000000000011,3.2178276204205072,5.0000000000000031E-2,0.20000000000000012,6.0000000000000032E-2,7.2000000000000076E-3,{"$f":"IF(【事例1】危険部品判断シート!$O$36=0,2.51*0.56*(O30/K30)^0.25+0.0000000567*$F$9*(($F$10+273+O30)^2+($F$10+273)^2)*(($F$10+273+O30)+($F$10+273)),3.86*(【事例1】危険部品判断シート!$O$36/K30)^0.5+0.0000000567*$F$9*(($F$10+273+O30)^2+($F$10+273)^2)*(($F$10+273+O30)+($F$10+273)))","v":14.897350094539371},9.8786155633752362,31.787682011344724,2.5000000000000031E-3,3.6000000000000038E-3,112.80546661386175,0.10447955250884366,72.210647110532506,0.17855407395523462,0.54436884169985489,10.422984405075091,3.2178276204205076,200.00000000000011]
[]
[null,null,null,null,"刻み",null,null,null,null,null,"隙間",{"$f":"L4+E33","v":10}]
[null,null,null,null,{"$f":"(【事例1】危険部品判断シート!R8-【事例1】危険部品判断シート!R7)/3","v":5},null,null,"発熱量","部品L","周長","周囲幅","P表面積","熱伝達率","熱抵抗R0","温度上昇","As","Ap","λ","AC","BC","CC","Rc","Rt","ERR"]
[null,null,null,null,null,null,{"$f":"J34*1000","v":8},{"$f":"X34","v":0.48915463685659172},2E-3,{"$f":"I34*4","v":8.0000000000000002E-3},{"$f":"I34+$L$32/1000*2","v":2.1999999999999999E-2},{"$f":"K34^2*2","v":9.6799999999999989E-4},{"$f":"IF(【事例1】危険部品判断シート!$O$36=0,2.51*0.56*(O34/K34)^0.25+0.0000000567*$F$9*(($F$10+273+O34)^2+($F$10+273)^2)*(($F$10+273+O34)+($F$10+273)),3.86*(【事例1】危険部品判断シート!$O$36/K34)^0.5+0.0000000567*$F$9*(($F$10+273+O34)^2+($F$10+273)^2)*(($F$10+273+O34)+($F$10+273)))","v":16.844167935833052},{"$f":"1/L34/M34+$F$8/$M$3/L34","v":65.462530127641074},{"$f":"H34*N34","v":32.021300152299965},{"$f":"I34^2","v":3.9999999999999998E-6},{"$f":"K34^2","v":4.8399999999999995E-4},{"$f":"(PI()^1.5)/((Q34)^0.5)+1/(P34)^0.5","v":753.10581803780497},{"$f":"$F$6*(Q34^0.5-P34^0.5)/($L$3*(PI()*Q34*P34)^0.5)","v":14.24721170575142},{"$f":"R34*$L$3*Q34*N34/$F$6","v":429.50344958026494},{"$f":"TANH(R34*$F$8/$F$6)","v":0.83516407988298669},{"$f":"S34*(T34+U34)/(1+T34*U34)","v":17.044830597415256},{"$f":"N34+V34","v":82.50736072505633},{"$f":"L34*M34*$Q$3","v":0.48915463685659183}]
[null,null,null,null,null,null,{"$f":"J35*1000","v":16},{"$f":"X35","v":0.57559762429904893},{"$f":"I34+0.002","v":4.0000000000000001E-3},1.6E-2,{"$f":"I35+$L$32/1000*2","v":2.4E-2},{"$f":"K35^2*2","v":1.152E-3},{"$f":"IF(【事例1】危険部品判断シート!$O$36=0,2.51*0.56*(O35/K35)^0.25+0.0000000567*$F$9*(($F$10+273+O35)^2+($F$10+273)^2)*(($F$10+273+O35)+($F$10+273)),3.86*(【事例1】危険部品判断シート!$O$36/K35)^0.5+0.0000000567*$F$9*(($F$10+273+O35)^2+($F$10+273)^2)*(($F$10+273+O35)+($F$10+273)))","v":16.65502385124563},{"$f":"1/L35/M35+$F$8/$M$3/L35","v":55.591964788104747},{"$f":"H35*N35","v":31.998602862149472},{"$f":"I35^2","v":1.5999999999999999E-5},{"$f":"K35^2","v":5.7600000000000001E-4},{"$f":"(PI()^1.5)/((Q35)^0.5)+1/(P35)^0.5","v":482.01366653465453},6.5299720318027354,277.82182770787358,0.64763938261437681,{"$f":"S35*(T35+U35)/(1+T35*U35)","v":10.050374978411936},{"$f":"N35+V35","v":65.642339766516685},{"$f":"L35*M35*$Q$3","v":0.57559762429904893}]
[null,null,null,null,null,null,24,{"$f":"X36","v":0.66861866648210677},{"$f":"I35+0.002","v":6.0000000000000001E-3},2.4E-2,2.6000000000000002E-2,1.3520000000000003E-3,{"$f":"IF(【事例1】危険部品判断シート!$O$36=0,2.51*0.56*(O36/K36)^0.25+0.0000000567*$F$9*(($F$10+273+O36)^2+($F$10+273)^2)*(($F$10+273+O36)+($F$10+273)),3.86*(【事例1】危険部品判断シート!$O$36/K36)^0.5+0.0000000567*$F$9*(($F$10+273+O36)^2+($F$10+273)^2)*(($F$10+273+O36)+($F$10+273)))","v":16.484681126284681},47.827204561017055,31.97816173515416,3.6000000000000001E-5,6.7600000000000017E-4,380.83312808327082,4.0184443272632215,221.630189944043,0.5436574134908021,7.3486431273742818,55.175847688391336,0.66861866648210677]
[null,null,null,null,null,null,32,0.76816438846574364,8.0000000000000002E-3,3.2000000000000001E-2,2.8000000000000001E-2,1.5680000000000002E-3,{"$f":"IF(【事例1】危険部品判断シート!$O$36=0,2.51*0.56*(O37/K37)^0.25+0.0000000567*$F$9*(($F$10+273+O37)^2+($F$10+273)^2)*(($F$10+273+O37)+($F$10+273)),3.86*(【事例1】危険部品判断シート!$O$36/K37)^0.5+0.0000000567*$F$9*(($F$10+273+O37)^2+($F$10+273)^2)*(($F$10+273+O37)+($F$10+273)))","v":16.330025265003052},41.605160967736808,31.959603031800373,6.3999999999999997E-5,7.8400000000000008E-4,323.86885702970392,2.7985594422011721,190.15377999227448,0.47630197429922477,5.8259910330957352,47.43115200083254,0.76816438846574364]
[null,null,null,null,null,null,40,0.87418633496611042,0.01,0.04,0.03,1.8E-3,{"$f":"IF(【事例1】危険部品判断シート!$O$36=0,2.51*0.56*(O38/K38)^0.25+0.0000000567*$F$9*(($F$10+273+O38)^2+($F$10+273)^2)*(($F$10+273+O38)+($F$10+273)),3.86*(【事例1】危険部品判断シート!$O$36/K38)^0.5+0.0000000567*$F$9*(($F$10+273+O38)^2+($F$10+273)^2)*(($F$10+273+O38)+($F$10+273)))","v":16.188635832705753},36.539848568055,31.942636299924679,1E-4,8.9999999999999998E-4,285.61093322772365,2.0895910501768751,169.06612004225462,0.42761758606203659,4.8321096255226328,41.371958193577633,0.87418633496611065]
[null,null,null,null,null,null,48,0.98664020975888533,1.2E-2,4.8000000000000001E-2,3.2000000000000001E-2,{"$f":"K39^2*2","v":2.0479999999999999E-3},{"$f":"IF(【事例1】危険部品判断シート!$O$36=0,2.51*0.56*(O39/K39)^0.25+0.0000000567*$F$9*(($F$10+273+O39)^2+($F$10+273)^2)*(($F$10+273+O39)+($F$10+273)),3.86*(【事例1】危険部品判断シート!$O$36/K39)^0.5+0.0000000567*$F$9*(($F$10+273+O39)^2+($F$10+273)^2)*(($F$10+273+O39)+($F$10+273)))","v":16.058597164044357},32.359345730991073,31.927031659685323,1.44E-4,1.024E-3,257.34358323432423,1.6324930079506839,153.49192669959001,0.38995734868785564,4.1280065996564161,36.487352330647489,0.98664020975888533]
[null,null,null,null,null,null,56,1.1054852741313401,1.4E-2,5.6000000000000001E-2,3.4000000000000002E-2,2.3120000000000003E-3,{"$f":"IF(【事例1】危険部品判断シート!$O$36=0,2.51*0.56*(O40/K40)^0.25+0.0000000567*$F$9*(($F$10+273+O40)^2+($F$10+273)^2)*(($F$10+273+O40)+($F$10+273)),3.86*(【事例1】危険部品判断シート!$O$36/K40)^0.5+0.0000000567*$F$9*(($F$10+273+O40)^2+($F$10+273)^2)*(($F$10+273+O40)+($F$10+273)))","v":15.93836900420041},28.867507353799969,31.912604280504034,1.9600000000000002E-4,1.1560000000000001E-3,235.20292427656284,1.3169691492711399,141.28053841789938,0.35951141340755177,3.6016314911856129,32.469138844985579,1.1054852741313406]
[null,null,null,null,null,null,64,1.2306838634908448,1.6E-2,6.4000000000000001E-2,3.6000000000000004E-2,2.5920000000000006E-3,{"$f":"IF(【事例1】危険部品判断シート!$O$36=0,2.51*0.56*(O41/K41)^0.25+0.0000000567*$F$9*(($F$10+273+O41)^2+($F$10+273)^2)*(($F$10+273+O41)+($F$10+273)),3.86*(【事例1】危険部品判断シート!$O$36/K41)^0.5+0.0000000567*$F$9*(($F$10+273+O41)^2+($F$10+273)^2)*(($F$10+273+O41)+($F$10+273)))","v":15.826695775345225},25.91990066608907,31.899203493041419,2.5599999999999999E-4,1.2960000000000003E-3,217.17577768976966,1.0883286719671228,131.31738471420209,0.33413989266282124,3.1926317092633756,29.112532375352444,1.230683863490845]
[null,null,null,null,null,null,72.000000000000014,1.362200993492267,1.8000000000000002E-2,7.2000000000000008E-2,3.8000000000000006E-2,2.8880000000000008E-3,{"$f":"IF(【事例1】危険部品判断シート!$O$36=0,2.51*0.56*(O42/K42)^0.25+0.0000000567*$F$9*(($F$10+273+O42)^2+($F$10+273)^2)*(($F$10+273+O42)+($F$10+273)),3.86*(【事例1】危険部品判断シート!$O$36/K42)^0.5+0.0000000567*$F$9*(($F$10+273+O42)^2+($F$10+273)^2)*(($F$10+273+O42)+($F$10+273)))","v":15.722541476134195},23.408223257412505,31.886704977136105,3.2400000000000007E-4,1.4440000000000004E-3,202.09050284060049,0.91648730270915579,122.95722518921431,0.31252817277605865,2.8653829448271018,26.273606202239606,1.362200993492267]
[null,0.1,0.1,null,null,null,80.000000000000014,1.5000040351629558,2.0000000000000004E-2,8.0000000000000016E-2,4.0000000000000008E-2,3.2000000000000015E-3,{"$f":"IF(【事例1】危険部品判断シート!$O$36=0,2.51*0.56*(O43/K43)^0.25+0.0000000567*$F$9*(($F$10+273+O43)^2+($F$10+273)^2)*(($F$10+273+O43)+($F$10+273)),3.86*(【事例1】危険部品判断シート!$O$36/K43)^0.5+0.0000000567*$F$9*(($F$10+273+O43)^2+($F$10+273)^2)*(($F$10+273+O43)+($F$10+273)))","v":15.625042032947448},21.249946197971994,31.875005043953703,4.0000000000000018E-4,1.6000000000000007E-3,189.20819992079268,0.78359664381632799,115.79512517372088,0.29381179541559732,2.5974236163938937,23.847369814365887,1.5000040351629558]
[null,1000,1000,null,null,null,88.000000000000028,1.6440624440206673,2.2000000000000006E-2,8.8000000000000023E-2,4.200000000000001E-2,3.5280000000000016E-3,{"$f":"IF(【事例1】危険部品判断シート!$O$36=0,2.51*0.56*(O44/K44)^0.25+0.0000000567*$F$9*(($F$10+273+O44)^2+($F$10+273)^2)*(($F$10+273+O44)+($F$10+273)),3.86*(【事例1】危険部品判断シート!$O$36/K44)^0.5+0.0000000567*$F$9*(($F$10+273+O44)^2+($F$10+273)^2)*(($F$10+273+O44)+($F$10+273)))","v":15.533469803672212},19.381268936789905,31.864016376440649,4.8400000000000027E-4,1.7640000000000008E-3,178.03378347434798,0.67843865265482939,109.56093127715503,0.27739163932387439,2.3738614282719279,21.755130365061831,1.6440624440206677]
[null,null,null,null,null,null,96.000000000000028,1.7943475320161422,2.4000000000000007E-2,9.600000000000003E-2,4.4000000000000011E-2,3.8720000000000022E-3,{"$f":"IF(【事例1】危険部品判断シート!$O$36=0,2.51*0.56*(O45/K45)^0.25+0.0000000567*$F$9*(($F$10+273+O45)^2+($F$10+273)^2)*(($F$10+273+O45)+($F$10+273)),3.86*(【事例1】危険部品判断シート!$O$36/K45)^0.5+0.0000000567*$F$9*(($F$10+273+O45)^2+($F$10+273)^2)*(($F$10+273+O45)+($F$10+273)))","v":15.447206715014989},17.752227056043481,31.853664805801806,5.7600000000000034E-4,1.9360000000000011E-3,168.21957568556911,0.59363382107297569,104.06561023982113,0.26283496157015451,2.1844214643851756,19.936648520428655,1.7943475320161422]
[null,null,null,null,null,null,104.00000000000004,1.9508322738544117,2.6000000000000009E-2,0.10400000000000004,4.6000000000000013E-2,4.2320000000000023E-3,{"$f":"IF(【事例1】危険部品判断シート!$O$36=0,2.51*0.56*(O46/K46)^0.25+0.0000000567*$F$9*(($F$10+273+O46)^2+($F$10+273)^2)*(($F$10+273+O46)+($F$10+273)),3.86*(【事例1】危険部品判断シート!$O$36/K46)^0.5+0.0000000567*$F$9*(($F$10+273+O46)^2+($F$10+273)^2)*(($F$10+273+O46)+($F$10+273)))","v":15.365723644095862},16.323231506917327,31.843886837291507,6.7600000000000049E-4,2.1160000000000011E-3,159.51214708831469,0.52414491225172433,99.171771119392147,0.24981870072966736,2.0217806113537993,18.345012118271129,1.9508322738544117]
[null,null,null,null,null,null,112.00000000000004,2.1134911412160662,2.8000000000000011E-2,0.11200000000000004,4.8000000000000015E-2,4.6080000000000027E-3,{"$f":"IF(【事例1】危険部品判断シート!$O$36=0,2.51*0.56*(O47/K47)^0.25+0.0000000567*$F$9*(($F$10+273+O47)^2+($F$10+273)^2)*(($F$10+273+O47)+($F$10+273)),3.86*(【事例1】危険部品判断シート!$O$36/K47)^0.5+0.0000000567*$F$9*(($F$10+273+O47)^2+($F$10+273)^2)*(($F$10+273+O47)+($F$10+273)))","v":15.288564389583801},15.062579211206426,31.834627726750064,7.8400000000000063E-4,2.3040000000000014E-3,151.72111898161293,0.46642657370019508,94.776433247512131,0.23809512723711207,1.8805764235995908,16.943155634806018,2.1134911412160662]
[null,null,null,null,null,null,120.00000000000006,2.2822999598443521,3.0000000000000013E-2,0.12000000000000005,5.0000000000000017E-2,5.0000000000000036E-3,{"$f":"IF(【事例1】危険部品判断シート!$O$36=0,2.51*0.56*(O48/K48)^0.25+0.0000000567*$F$9*(($F$10+273+O48)^2+($F$10+273)^2)*(($F$10+273+O48)+($F$10+273)),3.86*(【事例1】危険部品判断シート!$O$36/K48)^0.5+0.0000000567*$F$9*(($F$10+273+O48)^2+($F$10+273)^2)*(($F$10+273+O48)+($F$10+273)))","v":15.215333065629004},13.944635029501526,31.825839967875478,9.0000000000000073E-4,2.5000000000000018E-3,144.69989326996745,0.41791821003537483,90.80042402058848,0.22747003886988262,1.7567910791498318,15.701426108651358,2.2822999598443521]
[null,null,null,null,null,null,128.00000000000006,2.4572357855406941,3.2000000000000015E-2,0.12800000000000006,5.2000000000000018E-2,5.4080000000000039E-3,{"$f":"IF(【事例1】危険部品判断シート!$O$36=0,2.51*0.56*(O49/K49)^0.25+0.0000000567*$F$9*(($F$10+273+O49)^2+($F$10+273)^2)*(($F$10+273+O49)+($F$10+273)),3.86*(【事例1】危険部品判断シート!$O$36/K49)^0.5+0.0000000567*$F$9*(($F$10+273+O49)^2+($F$10+273)^2)*(($F$10+273+O49)+($F$10+273)))","v":15.145684082474684},12.948485561346237,31.817482089896956,1.024000000000001E-3,2.704000000000002E-3,138.33323070830204,0.37672915568092674,87.181570667882852,0.21778836413070807,1.6473542726594594,14.595839834005696,2.4572357855406946]
[null,null,null,null,null,null,136.00000000000006,2.6382767959243871,3.4000000000000016E-2,0.13600000000000007,5.400000000000002E-2,5.8320000000000047E-3,{"$f":"IF(【事例1】危険部品判断シート!$O$36=0,2.51*0.56*(O50/K50)^0.25+0.0000000567*$F$9*(($F$10+273+O50)^2+($F$10+273)^2)*(($F$10+273+O50)+($F$10+273)),3.86*(【事例1】危険部品判断シート!$O$36/K50)^0.5+0.0000000567*$F$9*(($F$10+273+O50)^2+($F$10+273)^2)*(($F$10+273+O50)+($F$10+273)))","v":15.079314105649205},12.056929637488107,31.809517692677904,1.1560000000000012E-3,2.9160000000000024E-3,132.52894983239543,0.34143644610733226,83.870167003940963,0.20892433317177841,1.549879181167084,13.606808818655191,2.6382767959243871]
[null,null,null,null,null,null,144.00000000000009,2.8254021954339334,3.6000000000000018E-2,0.14400000000000007,5.6000000000000022E-2,6.272000000000005E-3,{"$f":"IF(【事例1】危険部品判断シート!$O$36=0,2.51*0.56*(O51/K51)^0.25+0.0000000567*$F$9*(($F$10+273+O51)^2+($F$10+273)^2)*(($F$10+273+O51)+($F$10+273)),3.86*(【事例1】危険部品判断シート!$O$36/K51)^0.5+0.0000000567*$F$9*(($F$10+273+O51)^2+($F$10+273)^2)*(($F$10+273+O51)+($F$10+273)))","v":15.015955545460947},11.255712449310629,31.801914665455307,1.2960000000000014E-3,3.1360000000000025E-3,127.21220629262967,0.31095104913346333,80.825859866348935,0.20077457179325225,1.4624821527895324,12.71819460210016,2.8254021954339343]
[null,null,null,null,null,null,152.00000000000009,3.0185921315281457,3.800000000000002E-2,0.15200000000000008,5.8000000000000024E-2,6.7280000000000057E-3,{"$f":"IF(【事例1】危険部品判断シート!$O$36=0,2.51*0.56*(O52/K52)^0.25+0.0000000567*$F$9*(($F$10+273+O52)^2+($F$10+273)^2)*(($F$10+273+O52)+($F$10+273)),3.86*(【事例1】危険部品判断シート!$O$36/K52)^0.5+0.0000000567*$F$9*(($F$10+273+O52)^2+($F$10+273)^2)*(($F$10+273+O52)+($F$10+273)))","v":14.955371242212362},10.532938258528361,31.794644549065481,1.4440000000000015E-3,3.3640000000000028E-3,122.32144459147224,0.28442709394422055,78.015452545972508,0.19325312753656981,1.3836566638967598,11.916594922425121,3.0185921315281457]
[null,null,null,null,null,null,160.00000000000009,3.2178276204205063,4.0000000000000022E-2,0.16000000000000009,6.0000000000000026E-2,7.2000000000000059E-3,{"$f":"IF(【事例1】危険部品判断シート!$O$36=0,2.51*0.56*(O53/K53)^0.25+0.0000000567*$F$9*(($F$10+273+O53)^2+($F$10+273)^2)*(($F$10+273+O53)+($F$10+273)),3.86*(【事例1】危険部品判断シート!$O$36/K53)^0.5+0.0000000567*$F$9*(($F$10+273+O53)^2+($F$10+273)^2)*(($F$10+273+O53)+($F$10+273)))","v":14.897350094539371},9.8786155633752379,31.787682011344721,1.6000000000000018E-3,3.6000000000000029E-3,117.80546661386175,0.26119888127210916,75.411318553066067,0.18628780939122261,1.312183381231754,11.190798944606993,3.2178276204205067]
[null,null,null,null,null,null,168.00000000000009,3.4230904809763394,4.2000000000000023E-2,0.16800000000000009,6.2000000000000027E-2,7.6880000000000065E-3,{"$f":"IF(【事例1】危険部品判断シート!$O$36=0,2.51*0.56*(O54/K54)^0.25+0.0000000567*$F$9*(($F$10+273+O54)^2+($F$10+273)^2)*(($F$10+273+O54)+($F$10+273)),3.86*(【事例1】危険部品判断シート!$O$36/K54)^0.5+0.0000000567*$F$9*(($F$10+273+O54)^2+($F$10+273)^2)*(($F$10+273+O54)+($F$10+273)))","v":14.841703438156159},9.2843015950645036,31.781004412578746,1.7640000000000019E-3,3.8440000000000032E-3,113.62126569390615,0.24073629610332642,72.990232450624035,0.17981744300926975,1.2470648034306104,10.531366398495114,3.4230904809763394]
[null,null,null,null,null,null,176.00000000000011,3.6343632756377304,4.4000000000000025E-2,0.1760000000000001,6.4000000000000029E-2,8.1920000000000083E-3,{"$f":"IF(【事例1】危険部品判断シート!$O$36=0,2.51*0.56*(O55/K55)^0.25+0.0000000567*$F$9*(($F$10+273+O55)^2+($F$10+273)^2)*(($F$10+273+O55)+($F$10+273)),3.86*(【事例1】危険部品判断シート!$O$36/K55)^0.5+0.0000000567*$F$9*(($F$10+273+O55)^2+($F$10+273)^2)*(($F$10+273+O55)+($F$10+273)))","v":14.788262026520698},8.7428220662963092,31.774591443182484,1.9360000000000022E-3,4.0960000000000042E-3,109.73239767776813,0.22261268290236577,70.732492392391862,0.17378977806974827,1.1874769814739865,9.9302990477702959,3.6343632756377304]
[null,null,null,null,null,null,184.00000000000011,3.8516292574300155,4.6000000000000027E-2,0.18400000000000011,6.6000000000000031E-2,8.7120000000000079E-3,{"$f":"IF(【事例1】危険部品判断シート!$O$36=0,2.51*0.56*(O56/K56)^0.25+0.0000000567*$F$9*(($F$10+273+O56)^2+($F$10+273)^2)*(($F$10+273+O56)+($F$10+273)),3.86*(【事例1】危険部品判断シート!$O$36/K56)^0.5+0.0000000567*$F$9*(($F$10+273+O56)^2+($F$10+273)^2)*(($F$10+273+O56)+($F$10+273)))","v":14.736873497972191},8.2480484741550697,31.768424819756664,2.1160000000000024E-3,4.356000000000004E-3,106.1077364473842,0.20648132906886099,68.621250944179891,0.16815986928356499,1.1327333259661243,9.3807818001211949,3.8516292574300155]
[null,null,null,null,null,null,192.00000000000011,4.0748723222561622,4.8000000000000029E-2,0.19200000000000012,6.8000000000000033E-2,9.2480000000000097E-3,{"$f":"IF(【事例1】危険部品判断シート!$O$36=0,2.51*0.56*(O57/K57)^0.25+0.0000000567*$F$9*(($F$10+273+O57)^2+($F$10+273)^2)*(($F$10+273+O57)+($F$10+273)),3.86*(【事例1】危険部品判断シート!$O$36/K57)^0.5+0.0000000567*$F$9*(($F$10+273+O57)^2+($F$10+273)^2)*(($F$10+273+O57)+($F$10+273)))","v":14.687400238812565},7.794719813717097,31.762488028657508,2.3040000000000027E-3,4.6240000000000048E-3,102.72050975732901,0.1920580009353744,66.641997393989499,0.16288880738207773,1.0822571109085573,8.8769769246256551,4.0748723222561622]
[null,null,null,null,null,null,200.00000000000011,4.3040769658095384,5.0000000000000031E-2,0.20000000000000012,7.0000000000000034E-2,9.8000000000000101E-3,{"$f":"IF(【事例1】危険部品判断シート!$O$36=0,2.51*0.56*(O58/K58)^0.25+0.0000000567*$F$9*(($F$10+273+O58)^2+($F$10+273)^2)*(($F$10+273+O58)+($F$10+273)),3.86*(【事例1】危険部品判断シート!$O$36/K58)^0.5+0.0000000567*$F$9*(($F$10+273+O58)^2+($F$10+273)^2)*(($F$10+273+O58)+($F$10+273)))","v":14.639717570780729},7.3782988456668246,31.756766108493686,2.5000000000000031E-3,4.900000000000005E-3,99.547542811881499,0.17910780430087486,64.782152083216559,0.15794271274300262,1.0355603291336275,8.4138591748004519,4.3040769658095384]
[]
[null,null,null,null,null,null,null,null,null,null,"隙間",{"$f":"L32+E33","v":15}]
[null,null,null,null,null,null,null,"発熱量","部品L","周長","周囲幅","P表面積","熱伝達率","熱抵抗R0","温度上昇","As","Ap","λ","AC","BC","CC","Rc","Rt","ERR"]
[null,null,null,null,null,null,{"$f":"J62*1000","v":8},{"$f":"X62","v":0.98664020975888533},2E-3,{"$f":"I62*4","v":8.0000000000000002E-3},{"$f":"I62+$L$60/1000*2","v":3.2000000000000001E-2},{"$f":"K62^2*2","v":2.0479999999999999E-3},{"$f":"IF(【事例1】危険部品判断シート!$O$36=0,2.51*0.56*(O62/K62)^0.25+0.0000000567*$F$9*(($F$10+273+O62)^2+($F$10+273)^2)*(($F$10+273+O62)+($F$10+273)),3.86*(【事例1】危険部品判断シート!$O$36/K62)^0.5+0.0000000567*$F$9*(($F$10+273+O62)^2+($F$10+273)^2)*(($F$10+273+O62)+($F$10+273)))","v":16.058597164044357},{"$f":"1/L62/M62+$F$8/$M$3/L62","v":32.359345730991073},{"$f":"H62*N62","v":31.927031659685323},{"$f":"I62^2","v":3.9999999999999998E-6},{"$f":"K62^2","v":1.024E-3},{"$f":"(PI()^1.5)/((Q62)^0.5)+1/(P62)^0.5","v":674.01024990099086},{"$f":"$F$6*(Q62^0.5-P62^0.5)/($L$3*(PI()*Q62*P62)^0.5)","v":14.692437071556157},{"$f":"R62*$L$3*Q62*N62/$F$6","v":402.01170191360137},{"$f":"TANH(R62*$F$8/$F$6)","v":0.79261110432189874},{"$f":"S62*(T62+U62)/(1+T62*U62)","v":18.515194173798619},{"$f":"N62+V62","v":50.874539904789692},{"$f":"L62*M62*$Q$3","v":0.98664020975888533}]
[null,null,null,null,null,null,{"$f":"J63*1000","v":16},{"$f":"X63","v":1.1054852741313401},{"$f":"I62+0.002","v":4.0000000000000001E-3},1.6E-2,{"$f":"I63+$L$60/1000*2","v":3.4000000000000002E-2},{"$f":"K63^2*2","v":2.3120000000000003E-3},{"$f":"IF(【事例1】危険部品判断シート!$O$36=0,2.51*0.56*(O63/K63)^0.25+0.0000000567*$F$9*(($F$10+273+O63)^2+($F$10+273)^2)*(($F$10+273+O63)+($F$10+273)),3.86*(【事例1】危険部品判断シート!$O$36/K63)^0.5+0.0000000567*$F$9*(($F$10+273+O63)^2+($F$10+273)^2)*(($F$10+273+O63)+($F$10+273)))","v":15.93836900420041},28.867507353799969,31.912604280504034,{"$f":"I63^2","v":1.5999999999999999E-5},{"$f":"K63^2","v":1.1560000000000001E-3},{"$f":"(PI()^1.5)/((Q63)^0.5)+1/(P63)^0.5","v":413.77435284799139},6.9140880336734849,248.54394788537613,0.57971873515809735,{"$f":"S63*(T63+U63)/(1+T63*U63)","v":11.872047694131549},{"$f":"N63+V63","v":40.739555047931518},{"$f":"L63*M63*$Q$3","v":1.1054852741313406}]
[null,null,null,null,null,null,24,{"$f":"X64","v":1.2306838634908444},{"$f":"I63+0.002","v":6.0000000000000001E-3},2.4E-2,3.5999999999999997E-2,2.5919999999999997E-3,{"$f":"IF(【事例1】危険部品判断シート!$O$36=0,2.51*0.56*(O64/K64)^0.25+0.0000000567*$F$9*(($F$10+273+O64)^2+($F$10+273)^2)*(($F$10+273+O64)+($F$10+273)),3.86*(【事例1】危険部品判断シート!$O$36/K64)^0.5+0.0000000567*$F$9*(($F$10+273+O64)^2+($F$10+273)^2)*(($F$10+273+O64)+($F$10+273)))","v":15.826695775345227},25.919900666089081,31.899203493041419,3.6000000000000001E-5,1.2959999999999998E-3,321.34244435643632,4.3533146878684894,194.3027433327986,0.4731707440047504,9.1234741315290222,35.0433747976181,1.2306838634908448]
[null,null,null,null,null,null,32,1.3622009934922665,8.0000000000000002E-3,3.2000000000000001E-2,3.7999999999999999E-2,2.8879999999999999E-3,{"$f":"IF(【事例1】危険部品判断シート!$O$36=0,2.51*0.56*(O65/K65)^0.25+0.0000000567*$F$9*(($F$10+273+O65)^2+($F$10+273)^2)*(($F$10+273+O65)+($F$10+273)),3.86*(【事例1】危険部品判断シート!$O$36/K65)^0.5+0.0000000567*$F$9*(($F$10+273+O65)^2+($F$10+273)^2)*(($F$10+273+O65)+($F$10+273)))","v":15.722541476134195},23.408223257412512,31.886704977136105,6.3999999999999997E-5,1.444E-3,271.53494728504495,3.0931446466434007,165.20906816884391,0.4090384445860526,7.470169351615783,30.878392609028296,1.3622009934922665]
[null,null,null,null,null,null,40,1.5000040351629551,0.01,0.04,0.04,3.2000000000000002E-3,{"$f":"IF(【事例1】危険部品判断シート!$O$36=0,2.51*0.56*(O66/K66)^0.25+0.0000000567*$F$9*(($F$10+273+O66)^2+($F$10+273)^2)*(($F$10+273+O66)+($F$10+273)),3.86*(【事例1】危険部品判断シート!$O$36/K66)^0.5+0.0000000567*$F$9*(($F$10+273+O66)^2+($F$10+273)^2)*(($F$10+273+O66)+($F$10+273)))","v":15.625042032947448},21.249946197972001,31.875005043953699,1E-4,1.6000000000000001E-3,239.20819992079271,2.3507899314489844,146.39504769880057,0.36507867066847427,6.3366283802602625,27.586574578232263,1.5000040351629551]
[null,null,null,null,null,null,48,1.6440624440206666,1.2E-2,4.8000000000000001E-2,4.1999999999999996E-2,{"$f":"K67^2*2","v":3.5279999999999995E-3},{"$f":"IF(【事例1】危険部品判断シート!$O$36=0,2.51*0.56*(O67/K67)^0.25+0.0000000567*$F$9*(($F$10+273+O67)^2+($F$10+273)^2)*(($F$10+273+O67)+($F$10+273)),3.86*(【事例1】危険部品判断シート!$O$36/K67)^0.5+0.0000000567*$F$9*(($F$10+273+O67)^2+($F$10+273)^2)*(($F$10+273+O67)+($F$10+273)))","v":15.533469803672215},19.381268936789919,31.864016376440659,1.44E-4,1.7639999999999997E-3,215.91257135313595,1.8657062948007812,132.87131200749425,0.33234320970289677,5.5032123766044512,24.884481313394371,1.644062444020667]
[null,null,null,null,null,null,56,1.7943475320161408,1.4E-2,5.6000000000000001E-2,4.3999999999999997E-2,3.8719999999999996E-3,{"$f":"IF(【事例1】危険部品判断シート!$O$36=0,2.51*0.56*(O68/K68)^0.25+0.0000000567*$F$9*(($F$10+273+O68)^2+($F$10+273)^2)*(($F$10+273+O68)+($F$10+273)),3.86*(【事例1】危険部品判断シート!$O$36/K68)^0.5+0.0000000567*$F$9*(($F$10+273+O68)^2+($F$10+273)^2)*(($F$10+273+O68)+($F$10+273)))","v":15.447206715014989},17.752227056043491,31.853664805801799,1.9600000000000002E-4,1.9359999999999998E-3,197.98148044747393,1.5264869684733664,122.47720572937484,0.30658375914367086,4.8620020218140061,22.614229077857498,1.7943475320161408]
[null,null,null,null,null,null,64,1.9508322738544106,1.6E-2,6.4000000000000001E-2,4.5999999999999999E-2,4.2319999999999997E-3,{"$f":"IF(【事例1】危険部品判断シート!$O$36=0,2.51*0.56*(O69/K69)^0.25+0.0000000567*$F$9*(($F$10+273+O69)^2+($F$10+273)^2)*(($F$10+273+O69)+($F$10+273)),3.86*(【事例1】危険部品判断シート!$O$36/K69)^0.5+0.0000000567*$F$9*(($F$10+273+O69)^2+($F$10+273)^2)*(($F$10+273+O69)+($F$10+273)))","v":15.365723644095862},16.323231506917335,31.8438868372915,2.5599999999999999E-4,2.1159999999999998E-3,183.5506086267763,1.2776032236135786,114.11694519716784,0.28551925063531575,4.3522843393836554,20.675515846300989,1.9508322738544106]
[null,null,null,null,null,null,72.000000000000014,2.1134911412160649,1.8000000000000002E-2,7.2000000000000008E-2,4.8000000000000001E-2,4.6080000000000001E-3,{"$f":"IF(【事例1】危険部品判断シート!$O$36=0,2.51*0.56*(O70/K70)^0.25+0.0000000567*$F$9*(($F$10+273+O70)^2+($F$10+273)^2)*(($F$10+273+O70)+($F$10+273)),3.86*(【事例1】危険部品判断シート!$O$36/K70)^0.5+0.0000000567*$F$9*(($F$10+273+O70)^2+($F$10+273)^2)*(($F$10+273+O70)+($F$10+273)))","v":15.288564389583801},15.062579211206433,31.834627726750057,3.2400000000000007E-4,2.3040000000000001E-3,171.56238882288281,1.0883286719671224,107.17078414130485,0.26780693939903272,3.9368433859657133,18.999422597172146,2.1134911412160649]
[null,null,null,null,null,null,80.000000000000014,2.2822999598443512,2.0000000000000004E-2,8.0000000000000016E-2,0.05,5.000000000000001E-3,{"$f":"IF(【事例1】危険部品判断シート!$O$36=0,2.51*0.56*(O71/K71)^0.25+0.0000000567*$F$9*(($F$10+273+O71)^2+($F$10+273)^2)*(($F$10+273+O71)+($F$10+273)),3.86*(【事例1】危険部品判断シート!$O$36/K71)^0.5+0.0000000567*$F$9*(($F$10+273+O71)^2+($F$10+273)^2)*(($F$10+273+O71)+($F$10+273)))","v":15.215333065629004},13.944635029501534,31.825839967875481,4.0000000000000018E-4,2.5000000000000005E-3,161.36655993663416,0.94031597257959332,101.25890029271466,0.25259852023238644,3.5914451158737934,17.536080145375326,2.2822999598443512]
[null,null,null,null,null,null,88.000000000000028,2.4572357855406928,2.2000000000000006E-2,8.8000000000000023E-2,5.2000000000000005E-2,5.4080000000000013E-3,{"$f":"IF(【事例1】危険部品判断シート!$O$36=0,2.51*0.56*(O72/K72)^0.25+0.0000000567*$F$9*(($F$10+273+O72)^2+($F$10+273)^2)*(($F$10+273+O72)+($F$10+273)),3.86*(【事例1】危険部品判断シート!$O$36/K72)^0.5+0.0000000567*$F$9*(($F$10+273+O72)^2+($F$10+273)^2)*(($F$10+273+O72)+($F$10+273)))","v":15.145684082474684},12.948485561346242,31.817482089896952,4.8400000000000027E-4,2.7040000000000007E-3,152.53777616284754,0.82195452148565851,96.133682730977256,0.23932732153638372,3.2995732956290174,16.248058856975259,2.4572357855406932]
[null,null,null,null,null,null,96.000000000000028,2.6382767959243858,2.4000000000000007E-2,9.600000000000003E-2,5.4000000000000006E-2,5.8320000000000012E-3,{"$f":"IF(【事例1】危険部品判断シート!$O$36=0,2.51*0.56*(O73/K73)^0.25+0.0000000567*$F$9*(($F$10+273+O73)^2+($F$10+273)^2)*(($F$10+273+O73)+($F$10+273)),3.86*(【事例1】危険部品判断シート!$O$36/K73)^0.5+0.0000000567*$F$9*(($F$10+273+O73)^2+($F$10+273)^2)*(($F$10+273+O73)+($F$10+273)))","v":15.079314105649205},12.056929637488114,31.809517692677908,5.7600000000000034E-4,2.9160000000000006E-3,144.78385179317976,0.72555244797808138,91.625609685466415,0.22759741783980311,3.0495595787244012,15.106489216212516,2.6382767959243858]
[null,null,null,null,null,null,104.00000000000004,2.8254021954339317,2.6000000000000009E-2,0.10400000000000004,5.6000000000000008E-2,6.2720000000000015E-3,{"$f":"IF(【事例1】危険部品判断シート!$O$36=0,2.51*0.56*(O74/K74)^0.25+0.0000000567*$F$9*(($F$10+273+O74)^2+($F$10+273)^2)*(($F$10+273+O74)+($F$10+273)),3.86*(【事例1】危険部品判断シート!$O$36/K74)^0.5+0.0000000567*$F$9*(($F$10+273+O74)^2+($F$10+273)^2)*(($F$10+273+O74)+($F$10+273)))","v":15.015955545460947},11.255712449310636,31.801914665455307,6.7600000000000049E-4,3.1360000000000008E-3,137.89596697639038,0.6458214097387317,87.613920297317847,0.21712182501765526,2.8329154952318398,14.088627944542475,2.8254021954339326]
[null,null,null,null,null,null,112.00000000000004,3.0185921315281439,2.8000000000000011E-2,0.11200000000000004,5.800000000000001E-2,6.7280000000000022E-3,{"$f":"IF(【事例1】危険部品判断シート!$O$36=0,2.51*0.56*(O75/K75)^0.25+0.0000000567*$F$9*(($F$10+273+O75)^2+($F$10+273)^2)*(($F$10+273+O75)+($F$10+273)),3.86*(【事例1】危険部品判断シート!$O$36/K75)^0.5+0.0000000567*$F$9*(($F$10+273+O75)^2+($F$10+273)^2)*(($F$10+273+O75)+($F$10+273)))","v":14.955371242212362},10.532938258528366,31.794644549065477,7.8400000000000063E-4,3.3640000000000011E-3,131.71994083207377,0.57901229838644919,84.009723950393663,0.20768608497974433,2.6433130715489641,13.176251330077331,3.0185921315281439]
[null,null,null,null,null,null,120.00000000000006,3.217827620420505,3.0000000000000013E-2,0.12000000000000005,6.0000000000000012E-2,7.2000000000000024E-3,{"$f":"IF(【事例1】危険部品判断シート!$O$36=0,2.51*0.56*(O76/K76)^0.25+0.0000000567*$F$9*(($F$10+273+O76)^2+($F$10+273)^2)*(($F$10+273+O76)+($F$10+273)),3.86*(【事例1】危険部品判断シート!$O$36/K76)^0.5+0.0000000567*$F$9*(($F$10+273+O76)^2+($F$10+273)^2)*(($F$10+273+O76)+($F$10+273)))","v":14.897350094539371},9.8786155633752415,31.787682011344721,9.0000000000000073E-4,3.6000000000000012E-3,126.13879994719511,0.52239776254421844,80.745770957288713,0.19912578587866675,2.4759359293210728,12.354551492696315,3.217827620420505]
[null,null,null,null,null,null,128.00000000000006,3.4230904809763376,3.2000000000000015E-2,0.12800000000000006,6.2000000000000013E-2,7.688000000000003E-3,{"$f":"IF(【事例1】危険部品判断シート!$O$36=0,2.51*0.56*(O77/K77)^0.25+0.0000000567*$F$9*(($F$10+273+O77)^2+($F$10+273)^2)*(($F$10+273+O77)+($F$10+273)),3.86*(【事例1】危険部品判断シート!$O$36/K77)^0.5+0.0000000567*$F$9*(($F$10+273+O77)^2+($F$10+273)^2)*(($F$10+273+O77)+($F$10+273)))","v":14.841703438156159},9.2843015950645071,31.781004412578742,1.024000000000001E-3,3.8440000000000015E-3,121.06174188438237,0.47394958295342404,77.769989861083175,0.19131212312621915,2.3270519586286684,11.611353553693176,3.4230904809763376]
[null,null,null,null,null,null,136.00000000000006,3.6343632756377278,3.4000000000000016E-2,0.13600000000000007,6.4000000000000015E-2,8.1920000000000031E-3,{"$f":"IF(【事例1】危険部品判断シート!$O$36=0,2.51*0.56*(O78/K78)^0.25+0.0000000567*$F$9*(($F$10+273+O78)^2+($F$10+273)^2)*(($F$10+273+O78)+($F$10+273)),3.86*(【事例1】危険部品判断シート!$O$36/K78)^0.5+0.0000000567*$F$9*(($F$10+273+O78)^2+($F$10+273)^2)*(($F$10+273+O78)+($F$10+273)))","v":14.788262026520698},8.7428220662963145,31.77459144318248,1.1560000000000012E-3,4.0960000000000015E-3,116.41688965637776,0.43213050210459247,75.041254326241429,0.18414230259364817,2.1937236814889145,10.936545747785228,3.6343632756377278]
[null,null,null,null,null,null,144.00000000000009,3.8516292574300142,3.6000000000000018E-2,0.14400000000000007,6.6000000000000017E-2,8.7120000000000045E-3,{"$f":"IF(【事例1】危険部品判断シート!$O$36=0,2.51*0.56*(O79/K79)^0.25+0.0000000567*$F$9*(($F$10+273+O79)^2+($F$10+273)^2)*(($F$10+273+O79)+($F$10+273)),3.86*(【事例1】危険部品判断シート!$O$36/K79)^0.5+0.0000000567*$F$9*(($F$10+273+O79)^2+($F$10+273)^2)*(($F$10+273+O79)+($F$10+273)))","v":14.736873497972194},8.2480484741550715,31.76842481975666,1.2960000000000014E-3,4.3560000000000022E-3,112.14638379037939,0.39575588071531692,72.5265225912907,0.17753296969025451,2.0736070038579064,10.321655478012978,3.8516292574300151]
[null,null,null,null,null,null,152.00000000000009,4.0748723222561605,3.800000000000002E-2,0.15200000000000008,6.8000000000000019E-2,9.2480000000000045E-3,{"$f":"IF(【事例1】危険部品判断シート!$O$36=0,2.51*0.56*(O80/K80)^0.25+0.0000000567*$F$9*(($F$10+273+O80)^2+($F$10+273)^2)*(($F$10+273+O80)+($F$10+273)),3.86*(【事例1】危険部品判断シート!$O$36/K80)^0.5+0.0000000567*$F$9*(($F$10+273+O80)^2+($F$10+273)^2)*(($F$10+273+O80)+($F$10+273)))","v":14.687400238812566},7.7947198137171005,31.762488028657508,1.4440000000000015E-3,4.6240000000000022E-3,108.20296589767989,0.36389937019334101,70.198851119511986,0.17141559147636184,1.9648083184821585,9.7595281321992591,4.0748723222561605]
[null,null,null,null,null,null,160.00000000000009,4.3040769658095366,4.0000000000000022E-2,0.16000000000000009,7.0000000000000021E-2,9.8000000000000049E-3,{"$f":"IF(【事例1】危険部品判断シート!$O$36=0,2.51*0.56*(O81/K81)^0.25+0.0000000567*$F$9*(($F$10+273+O81)^2+($F$10+273)^2)*(($F$10+273+O81)+($F$10+273)),3.86*(【事例1】危険部品判断シート!$O$36/K81)^0.5+0.0000000567*$F$9*(($F$10+273+O81)^2+($F$10+273)^2)*(($F$10+273+O81)+($F$10+273)))","v":14.639717570780729},7.3782988456668281,31.756766108493689,1.6000000000000018E-3,4.9000000000000024E-3,104.54754281188151,0.33582713306414036,68.035981874155638,0.16573313581951751,1.8657810818082017,9.2440799274750294,4.3040769658095366]
[null,null,null,null,null,null,168.00000000000009,4.5392282445372771,4.2000000000000023E-2,0.16800000000000009,7.2000000000000022E-2,1.0368000000000006E-2,{"$f":"IF(【事例1】危険部品判断シート!$O$36=0,2.51*0.56*(O82/K82)^0.25+0.0000000567*$F$9*(($F$10+273+O82)^2+($F$10+273)^2)*(($F$10+273+O82)+($F$10+273)),3.86*(【事例1】危険部品判断シート!$O$36/K82)^0.5+0.0000000567*$F$9*(($F$10+273+O82)^2+($F$10+273)^2)*(($F$10+273+O82)+($F$10+273)))","v":14.593712205945454},6.9948554587279048,31.751245464713456,1.7640000000000019E-3,5.1840000000000028E-3,101.14741265440861,0.31095104913346328,66.019316031237253,0.16043763403361952,1.7752496767837793,8.7701051355116846,4.5392282445372771]
[null,null,null,null,null,null,176.00000000000011,4.7803117401702293,4.4000000000000025E-2,0.1760000000000001,7.4000000000000024E-2,1.0952000000000007E-2,{"$f":"IF(【事例1】危険部品判断シート!$O$36=0,2.51*0.56*(O83/K83)^0.25+0.0000000567*$F$9*(($F$10+273+O83)^2+($F$10+273)^2)*(($F$10+273+O83)+($F$10+273)),3.86*(【事例1】危険部品判断シート!$O$36/K83)^0.5+0.0000000567*$F$9*(($F$10+273+O83)^2+($F$10+273)^2)*(($F$10+273+O83)+($F$10+273)))","v":14.549280923332805},6.6409714337311074,31.745913710799933,1.9360000000000022E-3,5.4760000000000034E-3,97.974948360133624,0.28879483187333932,64.133154198834532,0.1554883590761664,1.6921525019621915,8.3331239356932993,4.7803117401702293]
[null,null,null,null,null,null,184.00000000000011,5.027313527405008,4.6000000000000027E-2,0.18400000000000011,7.6000000000000026E-2,1.1552000000000008E-2,{"$f":"IF(【事例1】危険部品判断シート!$O$36=0,2.51*0.56*(O84/K84)^0.25+0.0000000567*$F$9*(($F$10+273+O84)^2+($F$10+273)^2)*(($F$10+273+O84)+($F$10+273)),3.86*(【事例1】危険部品判断シート!$O$36/K84)^0.5+0.0000000567*$F$9*(($F$10+273+O84)^2+($F$10+273)^2)*(($F$10+273+O84)+($F$10+273)))","v":14.506329430416102},6.3136622290660744,31.740759531649932,2.1160000000000024E-3,5.7760000000000042E-3,95.006604077305056,0.26896909970812155,62.364124330724906,0.15085044143511225,1.6155988429720254,7.9292610720381003,5.027313527405008]
[null,null,null,null,null,null,192.00000000000011,5.2802201443815502,4.8000000000000029E-2,0.19200000000000012,7.8000000000000028E-2,1.2168000000000009E-2,{"$f":"IF(【事例1】危険部品判断シート!$O$36=0,2.51*0.56*(O85/K85)^0.25+0.0000000567*$F$9*(($F$10+273+O85)^2+($F$10+273)^2)*(($F$10+273+O85)+($F$10+273)),3.86*(【事例1】危険部品判断シート!$O$36/K85)^0.5+0.0000000567*$F$9*(($F$10+273+O85)^2+($F$10+273)^2)*(($F$10+273+O85)+($F$10+273)))","v":14.464771379524292},6.0103123918633479,31.735772565542906,2.3040000000000027E-3,6.0840000000000043E-3,92.222153805534703,0.25115277045395107,60.700744350925646,0.14649380199203793,1.5448357784456663,7.555148170309014,5.2802201443815511]
[null,null,null,null,null,null,200.00000000000011,5.5390185656481812,5.0000000000000031E-2,0.20000000000000012,8.0000000000000029E-2,1.2800000000000009E-2,{"$f":"IF(【事例1】危険部品判断シート!$O$36=0,2.51*0.56*(O86/K86)^0.25+0.0000000567*$F$9*(($F$10+273+O86)^2+($F$10+273)^2)*(($F$10+273+O86)+($F$10+273)),3.86*(【事例1】危険部品判断シート!$O$36/K86)^0.5+0.0000000567*$F$9*(($F$10+273+O86)^2+($F$10+273)^2)*(($F$10+273+O86)+($F$10+273)))","v":14.424527514708798},5.7286219437056296,31.730943301765052,2.5000000000000031E-3,6.4000000000000046E-3,89.604099960396326,0.23507899314489825,59.133083129754567,0.14239231828545371,1.4792224953645723,7.2078444390702021,5.5390185656481821]
[]
[null,null,null,null,null,null,null,null,null,null,"隙間",{"$f":"L60+E33","v":20}]
[null,null,null,null,null,null,null,"発熱量","部品L","周長","周囲幅","P表面積","熱伝達率","熱抵抗R0","温度上昇","As","Ap","λ","AC","BC","CC","Rc","Rt","ERR"]
[null,null,null,null,null,null,{"$f":"J90*1000","v":8},{"$f":"X90","v":1.644062444020667},2E-3,{"$f":"I90*4","v":8.0000000000000002E-3},{"$f":"I90+$L$88/1000*2","v":4.2000000000000003E-2},{"$f":"K90^2*2","v":3.5280000000000003E-3},{"$f":"IF(【事例1】危険部品判断シート!$O$36=0,2.51*0.56*(O90/K90)^0.25+0.0000000567*$F$9*(($F$10+273+O90)^2+($F$10+273)^2)*(($F$10+273+O90)+($F$10+273)),3.86*(【事例1】危険部品判断シート!$O$36/K90)^0.5+0.0000000567*$F$9*(($F$10+273+O90)^2+($F$10+273)^2)*(($F$10+273+O90)+($F$10+273)))","v":15.533469803672215},{"$f":"1/L90/M90+$F$8/$M$3/L90","v":19.381268936789912},{"$f":"H90*N90","v":31.864016376440656},{"$f":"I90^2","v":3.9999999999999998E-6},{"$f":"K90^2","v":1.7640000000000002E-3},{"$f":"(PI()^1.5)/((Q90)^0.5)+1/(P90)^0.5","v":632.57923801980257},{"$f":"$F$6*(Q90^0.5-P90^0.5)/($L$3*(PI()*Q90*P90)^0.5)","v":14.925650358406251},{"$f":"R90*$L$3*Q90*N90/$F$6","v":389.28550004122474},{"$f":"TANH(R90*$F$8/$F$6)","v":0.76664024133959741},{"$f":"S90*(T90+U90)/(1+T90*U90)","v":19.442106431811016},{"$f":"N90+V90","v":38.823375368600928},{"$f":"L90*M90*$Q$3","v":1.6440624440206675}]
[null,null,null,null,null,null,{"$f":"J91*1000","v":16},{"$f":"X91","v":1.7943475320161408},{"$f":"I90+0.002","v":4.0000000000000001E-3},1.6E-2,{"$f":"I91+$L$88/1000*2","v":4.3999999999999997E-2},{"$f":"K91^2*2","v":3.8719999999999996E-3},{"$f":"IF(【事例1】危険部品判断シート!$O$36=0,2.51*0.56*(O91/K91)^0.25+0.0000000567*$F$9*(($F$10+273+O91)^2+($F$10+273)^2)*(($F$10+273+O91)+($F$10+273)),3.86*(【事例1】危険部品判断シート!$O$36/K91)^0.5+0.0000000567*$F$9*(($F$10+273+O91)^2+($F$10+273)^2)*(($F$10+273+O91)+($F$10+273)))","v":15.447206715014989},{"$f":"1/L91/M91+$F$8/$M$3/L91","v":17.752227056043491},31.853664805801799,{"$f":"I91^2","v":1.5999999999999999E-5},{"$f":"K91^2","v":1.9359999999999998E-3},{"$f":"(PI()^1.5)/((Q91)^0.5)+1/(P91)^0.5","v":376.55290901890248},7.12360585287571,232.9467786666969,0.53881523213205573,{"$f":"S91*(T91+U91)/(1+T91*U91)","v":13.146707972824084},{"$f":"N91+V91","v":30.898935028867577},{"$f":"L91*M91*$Q$3","v":1.7943475320161408}]
[null,null,null,null,null,null,24,{"$f":"X92","v":1.9508322738544106},{"$f":"I91+0.002","v":6.0000000000000001E-3},2.4E-2,4.5999999999999999E-2,4.2319999999999997E-3,{"$f":"IF(【事例1】危険部品判断シート!$O$36=0,2.51*0.56*(O92/K92)^0.25+0.0000000567*$F$9*(($F$10+273+O92)^2+($F$10+273)^2)*(($F$10+273+O92)+($F$10+273)),3.86*(【事例1】危険部品判断シート!$O$36/K92)^0.5+0.0000000567*$F$9*(($F$10+273+O92)^2+($F$10+273)^2)*(($F$10+273+O92)+($F$10+273)))","v":15.365723644095862},16.323231506917335,31.8438868372915,3.6000000000000001E-5,2.1159999999999998E-3,287.71727529344292,4.5425892395149461,178.87936620086234,0.43036750560140707,10.444858687030729,26.768090193948062,1.9508322738544106]
[null,null,null,null,null,null,32,2.1134911412160649,8.0000000000000002E-3,3.2000000000000001E-2,4.8000000000000001E-2,4.6080000000000001E-3,{"$f":"IF(【事例1】危険部品判断シート!$O$36=0,2.51*0.56*(O93/K93)^0.25+0.0000000567*$F$9*(($F$10+273+O93)^2+($F$10+273)^2)*(($F$10+273+O93)+($F$10+273)),3.86*(【事例1】危険部品判断シート!$O$36/K93)^0.5+0.0000000567*$F$9*(($F$10+273+O93)^2+($F$10+273)^2)*(($F$10+273+O93)+($F$10+273)))","v":15.288564389583801},15.062579211206433,31.834627726750057,6.3999999999999997E-5,2.3040000000000001E-3,241.00683326732727,3.2649860159013677,150.55101226957939,0.3675702973974575,8.74625224235111,23.808831453557545,2.1134911412160649]
[null,null,null,null,null,null,40,2.2822999598443512,0.01,0.04,0.05,5.000000000000001E-3,{"$f":"IF(【事例1】危険部品判断シート!$O$36=0,2.51*0.56*(O94/K94)^0.25+0.0000000567*$F$9*(($F$10+273+O94)^2+($F$10+273)^2)*(($F$10+273+O94)+($F$10+273)),3.86*(【事例1】危険部品判断シート!$O$36/K94)^0.5+0.0000000567*$F$9*(($F$10+273+O94)^2+($F$10+273)^2)*(($F$10+273+O94)+($F$10+273)))","v":15.215333065629004},13.944635029501534,31.825839967875481,1E-4,2.5000000000000005E-3,211.36655993663419,2.5075092602122502,132.63432910909313,0.32585741320471845,7.5395705184246973,21.48420554792623,2.2822999598443512]
[null,null,null,null,null,null,48,2.4572357855406928,1.2E-2,4.8000000000000001E-2,5.2000000000000005E-2,{"$f":"K95^2*2","v":5.4080000000000013E-3},{"$f":"IF(【事例1】危険部品判断シート!$O$36=0,2.51*0.56*(O95/K95)^0.25+0.0000000567*$F$9*(($F$10+273+O95)^2+($F$10+273)^2)*(($F$10+273+O95)+($F$10+273)),3.86*(【事例1】危険部品判断シート!$O$36/K95)^0.5+0.0000000567*$F$9*(($F$10+273+O95)^2+($F$10+273)^2)*(($F$10+273+O95)+($F$10+273)))","v":15.145684082474684},12.948485561346242,31.817482089896952,1.44E-4,2.7040000000000007E-3,190.41656404163541,2.0092221636316108,120.00598156589562,0.2955772729586848,6.6275201703986539,19.576005731744896,2.4572357855406932]
[null,null,null,null,null,null,56,2.6382767959243849,1.4E-2,5.6000000000000001E-2,5.3999999999999999E-2,5.8319999999999995E-3,{"$f":"IF(【事例1】危険部品判断シート!$O$36=0,2.51*0.56*(O96/K96)^0.25+0.0000000567*$F$9*(($F$10+273+O96)^2+($F$10+273)^2)*(($F$10+273+O96)+($F$10+273)),3.86*(【事例1】危険部品判断シート!$O$36/K96)^0.5+0.0000000567*$F$9*(($F$10+273+O96)^2+($F$10+273)^2)*(($F$10+273+O96)+($F$10+273)))","v":15.079314105649205},12.056929637488118,31.809517692677908,1.9600000000000002E-4,2.9159999999999998E-3,174.54575655508455,1.6584055953784724,110.46025619774252,0.27223228696026064,5.9103432751579366,17.967272912646052,2.6382767959243849]
[null,null,null,null,null,null,64,2.8254021954339312,1.6E-2,6.4000000000000001E-2,5.6000000000000001E-2,6.2720000000000007E-3,{"$f":"IF(【事例1】危険部品判断シート!$O$36=0,2.51*0.56*(O97/K97)^0.25+0.0000000567*$F$9*(($F$10+273+O97)^2+($F$10+273)^2)*(($F$10+273+O97)+($F$10+273)),3.86*(【事例1】危険部品判断シート!$O$36/K97)^0.5+0.0000000567*$F$9*(($F$10+273+O97)^2+($F$10+273)^2)*(($F$10+273+O97)+($F$10+273)))","v":15.015955545460947},11.255712449310638,31.801914665455307,2.5599999999999999E-4,3.1360000000000003E-3,161.93442851485196,1.3992797211005861,102.88705626699785,0.25344894105748683,5.3301498327272245,16.585862282037862,2.8254021954339321]
[null,null,null,null,null,null,72.000000000000014,3.0185921315281434,1.8000000000000002E-2,7.2000000000000008E-2,5.8000000000000003E-2,6.7280000000000005E-3,{"$f":"IF(【事例1】危険部品判断シート!$O$36=0,2.51*0.56*(O98/K98)^0.25+0.0000000567*$F$9*(($F$10+273+O98)^2+($F$10+273)^2)*(($F$10+273+O98)+($F$10+273)),3.86*(【事例1】危険部品判断シート!$O$36/K98)^0.5+0.0000000567*$F$9*(($F$10+273+O98)^2+($F$10+273)^2)*(($F$10+273+O98)+($F$10+273)))","v":14.955371242212362},10.53293825852837,31.794644549065485,3.2400000000000007E-4,3.3640000000000002E-3,151.56121067334362,1.2009143966533762,96.664296915282762,0.23785376338732289,4.8504230084718341,15.383361267000204,3.0185921315281434]
[null,null,null,null,null,null,80.000000000000014,3.217827620420505,2.0000000000000004E-2,8.0000000000000016E-2,6.0000000000000005E-2,7.2000000000000015E-3,{"$f":"IF(【事例1】危険部品判断シート!$O$36=0,2.51*0.56*(O99/K99)^0.25+0.0000000567*$F$9*(($F$10+273+O99)^2+($F$10+273)^2)*(($F$10+273+O99)+($F$10+273)),3.86*(【事例1】危険部品判断シート!$O$36/K99)^0.5+0.0000000567*$F$9*(($F$10+273+O99)^2+($F$10+273)^2)*(($F$10+273+O99)+($F$10+273)))","v":14.897350094539371},9.8786155633752433,31.787682011344724,4.0000000000000018E-4,3.6000000000000008E-3,142.8054666138618,1.0447955250884373,91.414675765734003,0.22459381808382831,4.4467761888401762,14.32539175221542,3.217827620420505]
[null,null,null,null,null,null,88.000000000000028,3.4230904809763372,2.2000000000000006E-2,8.8000000000000023E-2,6.2000000000000006E-2,7.6880000000000013E-3,{"$f":"IF(【事例1】危険部品判断シート!$O$36=0,2.51*0.56*(O100/K100)^0.25+0.0000000567*$F$9*(($F$10+273+O100)^2+($F$10+273)^2)*(($F$10+273+O100)+($F$10+273)),3.86*(【事例1】危険部品判断シート!$O$36/K100)^0.5+0.0000000567*$F$9*(($F$10+273+O100)^2+($F$10+273)^2)*(($F$10+273+O100)+($F$10+273)))","v":14.841703438156159},9.2843015950645089,31.781004412578746,4.8400000000000027E-4,3.8440000000000006E-3,135.26628733892784,0.91917494875815586,86.894981281050548,0.21310904434811101,4.1022204070715622,13.386522002136072,3.4230904809763372]
[null,null,null,null,null,null,96.000000000000028,3.6343632756377269,2.4000000000000007E-2,9.600000000000003E-2,6.4000000000000001E-2,8.1919999999999996E-3,{"$f":"IF(【事例1】危険部品判断シート!$O$36=0,2.51*0.56*(O101/K101)^0.25+0.0000000567*$F$9*(($F$10+273+O101)^2+($F$10+273)^2)*(($F$10+273+O101)+($F$10+273)),3.86*(【事例1】危険部品判断シート!$O$36/K101)^0.5+0.0000000567*$F$9*(($F$10+273+O101)^2+($F$10+273)^2)*(($F$10+273+O101)+($F$10+273)))","v":14.788262026520698},8.7428220662963181,31.774591443182487,5.7600000000000034E-4,4.0959999999999998E-3,128.67179161716211,0.81624650397534149,82.940651204965647,0.20301471547384281,3.8045223440392015,12.547344410335519,3.6343632756377269]
[null,null,null,null,null,null,104.00000000000004,3.8516292574300124,2.6000000000000009E-2,0.10400000000000004,6.6000000000000003E-2,8.712000000000001E-3,{"$f":"IF(【事例1】危険部品判断シート!$O$36=0,2.51*0.56*(O102/K102)^0.25+0.0000000567*$F$9*(($F$10+273+O102)^2+($F$10+273)^2)*(($F$10+273+O102)+($F$10+273)),3.86*(【事例1】危険部品判断シート!$O$36/K102)^0.5+0.0000000567*$F$9*(($F$10+273+O102)^2+($F$10+273)^2)*(($F$10+273+O102)+($F$10+273)))","v":14.736873497972194},8.2480484741550733,31.768424819756653,6.7600000000000049E-4,4.3560000000000005E-3,122.8301444741401,0.73062624132058529,79.435849351563675,0.19403652667591154,3.5446333268562635,11.792681801011337,3.8516292574300133]
[null,null,null,null,null,null,112.00000000000004,4.0748723222561596,2.8000000000000011E-2,0.11200000000000004,6.8000000000000005E-2,9.248000000000001E-3,{"$f":"IF(【事例1】危険部品判断シート!$O$36=0,2.51*0.56*(O103/K103)^0.25+0.0000000567*$F$9*(($F$10+273+O103)^2+($F$10+273)^2)*(($F$10+273+O103)+($F$10+273)),3.86*(【事例1】危険部品判断シート!$O$36/K103)^0.5+0.0000000567*$F$9*(($F$10+273+O103)^2+($F$10+273)^2)*(($F$10+273+O103)+($F$10+273)))","v":14.687400238812566},7.7947198137171041,31.762488028657515,7.8400000000000063E-4,4.6240000000000005E-3,117.60146213828142,0.65848457463556942,76.296314648979134,0.18597271043767025,3.3157086658128829,11.110428479529986,4.0748723222561596]
[null,null,null,null,null,null,120.00000000000006,4.3040769658095348,3.0000000000000013E-2,0.12000000000000005,7.0000000000000007E-2,9.8000000000000014E-3,{"$f":"IF(【事例1】危険部品判断シート!$O$36=0,2.51*0.56*(O104/K104)^0.25+0.0000000567*$F$9*(($F$10+273+O104)^2+($F$10+273)^2)*(($F$10+273+O104)+($F$10+273)),3.86*(【事例1】危険部品判断シート!$O$36/K104)^0.5+0.0000000567*$F$9*(($F$10+273+O104)^2+($F$10+273)^2)*(($F$10+273+O104)+($F$10+273)))","v":14.639717570780729},7.3782988456668308,31.756766108493686,9.0000000000000073E-4,4.9000000000000007E-3,112.88087614521487,0.59702601433624958,73.459031525720775,0.17867088001114831,3.1124711997265648,10.490770045393395,4.3040769658095348]
[null,null,null,null,null,null,128.00000000000006,4.5392282445372754,3.2000000000000015E-2,0.12800000000000006,7.2000000000000008E-2,1.0368000000000002E-2,{"$f":"IF(【事例1】危険部品判断シート!$O$36=0,2.51*0.56*(O105/K105)^0.25+0.0000000567*$F$9*(($F$10+273+O105)^2+($F$10+273)^2)*(($F$10+273+O105)+($F$10+273)),3.86*(【事例1】危険部品判断シート!$O$36/K105)^0.5+0.0000000567*$F$9*(($F$10+273+O105)^2+($F$10+273)^2)*(($F$10+273+O105)+($F$10+273)))","v":14.593712205945454},6.9948554587279066,31.751245464713453,1.024000000000001E-3,5.1840000000000011E-3,108.58788884488482,0.54416433598356084,70.875744249725486,0.17201330852143265,2.9307847447448094,9.9256402034727156,4.5392282445372754]
[null,null,null,null,null,null,136.00000000000006,4.7803117401702275,3.4000000000000016E-2,0.13600000000000007,7.400000000000001E-2,1.0952000000000003E-2,{"$f":"IF(【事例1】危険部品判断シート!$O$36=0,2.51*0.56*(O106/K106)^0.25+0.0000000567*$F$9*(($F$10+273+O106)^2+($F$10+273)^2)*(($F$10+273+O106)+($F$10+273)),3.86*(【事例1】危険部品判断シート!$O$36/K106)^0.5+0.0000000567*$F$9*(($F$10+273+O106)^2+($F$10+273)^2)*(($F$10+273+O106)+($F$10+273)))","v":14.549280923332805},6.6409714337311092,31.745913710799929,1.1560000000000012E-3,5.4760000000000017E-3,104.65944033874325,0.49831265107556605,68.508737569690197,0.16590724902676049,2.7673603545334928,9.4083317882646025,4.7803117401702275]
[null,null,null,null,null,null,144.00000000000009,5.0273135274050054,3.6000000000000018E-2,0.14400000000000007,7.6000000000000012E-2,1.1552000000000003E-2,{"$f":"IF(【事例1】危険部品判断シート!$O$36=0,2.51*0.56*(O107/K107)^0.25+0.0000000567*$F$9*(($F$10+273+O107)^2+($F$10+273)^2)*(($F$10+273+O107)+($F$10+273)),3.86*(【事例1】危険部品判断シート!$O$36/K107)^0.5+0.0000000567*$F$9*(($F$10+273+O107)^2+($F$10+273)^2)*(($F$10+273+O107)+($F$10+273)))","v":14.506329430416102},6.3136622290660771,31.740759531649928,1.2960000000000014E-3,5.7760000000000016E-3,101.04525142030025,0.45824365135457745,66.328006182364661,0.16027837933062242,2.6195492637902853,8.933211492856362,5.0273135274050054]
[null,null,null,null,null,null,152.00000000000009,5.2802201443815484,3.800000000000002E-2,0.15200000000000008,7.8000000000000014E-2,1.2168000000000003E-2,{"$f":"IF(【事例1】危険部品判断シート!$O$36=0,2.51*0.56*(O108/K108)^0.25+0.0000000567*$F$9*(($F$10+273+O108)^2+($F$10+273)^2)*(($F$10+273+O108)+($F$10+273)),3.86*(【事例1】危険部品判断シート!$O$36/K108)^0.5+0.0000000567*$F$9*(($F$10+273+O108)^2+($F$10+273)^2)*(($F$10+273+O108)+($F$10+273)))","v":14.464771379524292},6.0103123918633505,31.735772565542909,1.4440000000000015E-3,6.0840000000000017E-3,97.704609945885579,0.42299413971191768,64.309304277777287,0.15506624664527685,2.4851939347939709,8.4955063266573205,5.2802201443815484]
[null,null,null,null,null,null,160.00000000000009,5.5390185656481812,4.0000000000000022E-2,0.16000000000000009,8.0000000000000016E-2,1.2800000000000006E-2,{"$f":"IF(【事例1】危険部品判断シート!$O$36=0,2.51*0.56*(O109/K109)^0.25+0.0000000567*$F$9*(($F$10+273+O109)^2+($F$10+273)^2)*(($F$10+273+O109)+($F$10+273)),3.86*(【事例1】危険部品判断シート!$O$36/K109)^0.5+0.0000000567*$F$9*(($F$10+273+O109)^2+($F$10+273)^2)*(($F$10+273+O109)+($F$10+273)))","v":14.424527514708798},5.7286219437056314,31.730943301765063,1.6000000000000018E-3,6.4000000000000029E-3,94.604099960396326,0.39179832190816366,62.432769369329009,0.15022102870941192,2.362518962735924,8.0911409064415558,5.5390185656481812]
[null,null,null,null,null,null,168.00000000000009,5.8036961773469864,4.2000000000000023E-2,0.16800000000000009,8.2000000000000017E-2,1.3448000000000005E-2,{"$f":"IF(【事例1】危険部品判断シート!$O$36=0,2.51*0.56*(O110/K110)^0.25+0.0000000567*$F$9*(($F$10+273+O110)^2+($F$10+273)^2)*(($F$10+273+O110)+($F$10+273)),3.86*(【事例1】危険部品判断シート!$O$36/K110)^0.5+0.0000000567*$F$9*(($F$10+273+O110)^2+($F$10+273)^2)*(($F$10+273+O110)+($F$10+273)))","v":14.385524928978249},5.4665616569164115,31.726262991477384,1.7640000000000019E-3,6.7240000000000025E-3,91.715962795276326,0.3640402526440546,60.681930701700821,0.14570118343383223,2.2500498878314374,7.7166115447478489,5.8036961773469864]
[null,null,null,null,null,null,176.00000000000011,6.0742407543869428,4.4000000000000025E-2,0.1760000000000001,8.4000000000000019E-2,1.4112000000000006E-2,{"$f":"IF(【事例1】危険部品判断シート!$O$36=0,2.51*0.56*(O111/K111)^0.25+0.0000000567*$F$9*(($F$10+273+O111)^2+($F$10+273)^2)*(($F$10+273+O111)+($F$10+273)),3.86*(【事例1】危険部品判断シート!$O$36/K111)^0.5+0.0000000567*$F$9*(($F$10+273+O111)^2+($F$10+273)^2)*(($F$10+273+O111)+($F$10+273)))","v":14.347696415313072},5.2223355728742664,31.72172356983755,1.9360000000000022E-3,7.0560000000000032E-3,89.016891737173992,0.33921932632741447,59.042981207471591,0.14147171181078483,2.1465519038445597,7.3688874767188262,6.0742407543869454]
[null,null,null,null,null,null,184.00000000000011,6.3506404394015563,4.6000000000000027E-2,0.18400000000000011,8.6000000000000021E-2,1.4792000000000007E-2,{"$f":"IF(【事例1】危険部品判断シート!$O$36=0,2.51*0.56*(O112/K112)^0.25+0.0000000567*$F$9*(($F$10+273+O112)^2+($F$10+273)^2)*(($F$10+273+O112)+($F$10+273)),3.86*(【事例1】危険部品判断シート!$O$36/K112)^0.5+0.0000000567*$F$9*(($F$10+273+O112)^2+($F$10+273)^2)*(($F$10+273+O112)+($F$10+273)))","v":14.310979897695949},4.9943494503228951,31.71731758772351,2.1160000000000024E-3,7.3960000000000033E-3,86.487130397941982,0.31692483066383315,57.504233847551376,0.1375028527025047,2.0509829845952612,7.0453324349181567,6.3506404394015572]
[null,null,null,null,null,null,192.00000000000011,6.6328837233128848,4.8000000000000029E-2,0.19200000000000012,8.8000000000000023E-2,1.5488000000000009E-2,{"$f":"IF(【事例1】危険部品判断シート!$O$36=0,2.51*0.56*(O113/K113)^0.25+0.0000000567*$F$9*(($F$10+273+O113)^2+($F$10+273)^2)*(($F$10+273+O113)+($F$10+273)),3.86*(【事例1】危険部品判断シート!$O$36/K113)^0.5+0.0000000567*$F$9*(($F$10+273+O113)^2+($F$10+273)^2)*(($F$10+273+O113)+($F$10+273)))","v":14.275317930683716},4.7811840934613175,31.713038151682042,2.3040000000000027E-3,7.7440000000000044E-3,84.109787842784542,0.29681691053648762,56.055709380484984,0.13376908736075438,1.9624576130724731,6.7436417065337908,6.6328837233128857]
[null,null,null,null,null,null,200.00000000000011,6.9209594273452542,5.0000000000000031E-2,0.20000000000000012,9.0000000000000024E-2,1.620000000000001E-2,{"$f":"IF(【事例1】危険部品判断シート!$O$36=0,2.51*0.56*(O114/K114)^0.25+0.0000000567*$F$9*(($F$10+273+O114)^2+($F$10+273)^2)*(($F$10+273+O114)+($F$10+273)),3.86*(【事例1】危険部品判断シート!$O$36/K114)^0.5+0.0000000567*$F$9*(($F$10+273+O114)^2+($F$10+273)^2)*(($F$10+273+O114)+($F$10+273)))","v":14.240657257912037},4.5815727145668816,31.708878870949448,2.5000000000000031E-3,8.1000000000000048E-3,81.87031107590785,0.27861214002358309,54.688819413666728,0.13024836978377824,1.8802184121345489,6.4617911267014305,6.9209594273452542]

{"sheet":"【事例2】　自然空冷通風機器","index":19,"n_rows":22,"n_cols":5,"rows_kept":22,"cut":false,"hidden":false,"merged":[[9,2,9,3],[10,2,10,3],[11,2,11,3]]}
["12.2 密閉筐体の熱設計事例（筐体）"]
["筐体幅(m)",0.08]
["筐体奥行(m)",0.1,"上面代表長",{"$f":"MIN(B2,B3)","v":0.08}]
["筐体高さ(m)",0.15,"Stop",{"$f":"B2*B3+F4","v":8.0000000000000002E-3}]
["表面放射率",0.85,"Sside",{"$f":"(B2+B3)*2*B4","v":5.3999999999999999E-2}]
["発熱量 (W)",20,"Sbot",{"$f":"B2*B3","v":8.0000000000000002E-3}]
["通風口面積　(m2)",3.2000000000000002E-3,"σ",5.6699999999999998E-8]
["周囲空気温度℃",35,"煙突長",{"$f":"B4/2","v":7.4999999999999997E-2}]
[null,{"$f":"B8+B10","v":44.369320581736304}]
["表面温度上昇ΔＴ（仮定値）",9.3693205817363037,"内部空気温度上昇",null,{"$f":"B10*2","v":18.738641163472607}]
["周囲温度（K）",{"$f":"B8+273.15","v":308.14999999999998},"内部空気温度",null,{"$f":"E10+B8","v":53.738641163472607}]
["表面温度（K)",{"$f":"B8+B10+273.15","v":317.51932058173628},"表面温度",null,{"$f":"B10+B8","v":44.369320581736304}]
[]
[null,"熱伝達率","熱ｺﾝﾀﾞｸﾀﾝｽ","放熱量"]
["上面の対流熱伝達率",{"$f":"2.51*0.54*(B10/D3)^0.25","v":4.4588412404371258},{"$f":"B15*D4","v":3.5670729923497006E-2},{"$f":"C15*$B$10","v":0.33421050403777752}]
["側面の対流熱伝達率",{"$f":"2.51*0.56*(B10/B4)^0.25","v":3.9515361420317499},{"$f":"B16*D5","v":0.21338295166971449},{"$f":"C16*$B$10","v":1.9992532808706989}]
["底面の対流熱伝達率",{"$f":"2.51*0.27*(B10/D3)^0.25","v":2.2294206202185629},{"$f":"B17*D6","v":1.7835364961748503E-2},{"$f":"C17*$B$10","v":0.16710525201888876}]
["全面の放射熱伝達率",{"$f":"D7*B5*(B12^2+B11^2)*(B12+B11)","v":5.9034236038168979},{"$f":"B18*(D4+D5+D6)","v":0.4132396522671829},{"$f":"C18*$B$10","v":3.8717747791764698}]
["換気による放熱量",null,null,{"$f":"1150*B7*0.1667*(D8*E10)^0.5*E10","v":13.62765694361604}]
["合計放熱量",null,null,{"$f":"SUM(D15:D19)","v":20.000000759719875}]
[]
["ＥＲＲ",{"$f":"B6-D20","v":-7.5971987456568968E-7}]

{"sheet":"【事例2】危険部品判断シート","index":20,"n_rows":46,"n_cols":18,"rows_kept":46,"cut":false,"hidden":false,"merged":[[35,2,35,4],[35,9,36,9],[35,10,36,10],[35,15,36,15],[35,16,36,16]]}
[]
[null,null,"熱対策が必要な部品かどうかを見分けるグラフ",null,null,null,null,null,null,null,"基板で対策が可能かどうかを見分けるグラフ"]
[]
[null,null,null,null,null,null,null,null,null,null,null,null,null,null,null,null,"放熱限界ラインの調整"]
[null,null,null,null,null,null,null,null,null,null,null,null,null,null,null,null,"基板熱伝導率",18]
[null,null,null,null,null,null,null,null,null,null,null,null,null,null,null,null,"部品周囲の放熱領域（㎜）"]
[null,null,null,null,null,null,null,null,null,null,null,null,null,null,null,null,"最小",5]
[null,null,null,null,null,null,null,null,null,null,null,null,null,null,null,null,"最大",20]
[]
[]
[]
[]
[]
[]
[]
[]
[]
[]
[]
[]
[]
[]
[]
[]
[]
[]
[]
[]
[]
[]
[]
[]
[]
[]
[" 部品リスト",null,null,null,null,null,"※色のついていないセルが入力部分です",null,null,null,null,null,null,"基板放射率",0.85]
["名称","許容温度"," 外形寸法(mm)",null,null,"消費電力","周長","表面積","熱流束","単体\n熱抵抗\nK/W","目標\n熱抵抗\nK/W","周囲温度℃",{"$f":"'【事例2】　自然空冷通風機器'!B8+'【事例2】　自然空冷通風機器'!E10","v":53.738641163472607},"風速[m/s]",0,"放射率","対流・放射熱伝達率\nW/m2K"]
[null,"(℃)","縦","横","高さ","Ｗ","mm","mm2","W/m2",null,null,"単体＜目標","目標＞30","単体÷目標","対策方針"]
["CPU",90,35,35,2.2999999999999998,6.7,{"$f":"(C38+D38)*2","v":140},{"$f":"(C38*D38+D38*E38+E38*C38)*2","v":2772},{"$f":"F38/H38*1000000","v":2417.027417027417},{"$f":"1/H38/Q38*1000000","v":22.037193242350156},{"$f":"(B38-$M$36)/F38","v":5.4121431099294615},{"$f":"IF(J38<K38,\"○\",\"×\")","v":"×"},{"$f":"IF(OR(K38>=30,L38=\"○\"),\"○\",\"×\")","v":"×"},{"$f":"J38/K38","v":4.0718053448955036},null,0.9,{"$f":"IF($O$36<>0,3.86*($O$36/MIN(C38,D38)*1000)^0.5+0.0000000567*P38*(($M$36+273+(B38-$M$36))^2+($M$36+273)^2)*(($M$36+273+(B38-$M$36))+($M$36+273)),2.51*0.56*((B38-$M$36)/(MIN(C38,D38)/1000))^0.25+0.0000000567*P38*(($M$36+273+(B38-$M$36))^2+($M$36+273)^2)*(($M$36+273+(B38-$M$36))+($M$36+273)))","v":16.370068401319173}]
["部品1",90,15,15,2,2.2000000000000002,{"$f":"(C39+D39)*2","v":60},570,3859.6491228070176,{"$f":"1/H39/Q39*1000000","v":96.122787602888266},{"$f":"(B39-$M$36)/F39","v":16.482435834785178},"×","×",5.8318314456912352,null,0.9,{"$f":"IF($O$36<>0,3.86*($O$36/MIN(C39,D39)*1000)^0.5+0.0000000567*P39*(($M$36+273+(B39-$M$36))^2+($M$36+273)^2)*(($M$36+273+(B39-$M$36))+($M$36+273)),2.51*0.56*((B39-$M$36)/(MIN(C39,D39)/1000))^0.25+0.0000000567*P39*(($M$36+273+(B39-$M$36))^2+($M$36+273)^2)*(($M$36+273+(B39-$M$36))+($M$36+273)))","v":18.251509435620711}]
["部品2",90,12,12,2.2999999999999998,0.6,48,398.4,1506.0240963855422,{"$f":"1/H40/Q40*1000000","v":133.39244003683345},{"$f":"(B40-$M$36)/F40","v":60.435598060878988},"×","○",2.2071832548502681,null,0.9,{"$f":"IF($O$36<>0,3.86*($O$36/MIN(C40,D40)*1000)^0.5+0.0000000567*P40*(($M$36+273+(B40-$M$36))^2+($M$36+273)^2)*(($M$36+273+(B40-$M$36))+($M$36+273)),2.51*0.56*((B40-$M$36)/(MIN(C40,D40)/1000))^0.25+0.0000000567*P40*(($M$36+273+(B40-$M$36))^2+($M$36+273)^2)*(($M$36+273+(B40-$M$36))+($M$36+273)))","v":18.816959641412041}]
["部品3",90,9,9,1.4,0.4,36,212.39999999999998,1883.239171374765,{"$f":"1/H41/Q41*1000000","v":240.28158888082476},{"$f":"(B41-$M$36)/F41","v":90.653397091318482},{"$f":"IF(J41<K41,\"○\",\"×\")","v":"×"},"○",2.6505525064745266,null,0.9,19.594085216291965]
["部品4",90,24,18,2.8,0.6,84,1099.1999999999998,545.8515283842795,51.074244853729731,60.435598060878988,"○","○",0.84510200101405097,null,0.9,17.812354346355004]
["部品5",90,22,22,2,0.8,88,1144,699.30069930069931,50.377282703272058,45.326698545659241,"×","○",1.111426252510431,null,0.9,17.351588398972911]
["電源IC1",90,4.8,31,16,4.5,71.599999999999994,1443.1999999999998,3118.0709534368075,32.228445875376188,8.0580797414505323,{"$f":"IF(J44<K44,\"○\",\"×\")","v":"×"},{"$f":"IF(OR(K44>=30,L44=\"○\"),\"○\",\"×\")","v":"×"},{"$f":"J44/K44","v":3.9995193531771571},null,0.9,21.49978497252631]
["電源IC2",90,4.5,17,10,0.4,43,583,686.10634648370501,{"$f":"1/H45/Q45*1000000","v":78.997430975533405},90.653397091318482,"○","○",0.87142273218902544,null,0.9,21.712932243840992]
["電源IC3",90,4.5,17,10,0.2,43,583,343.05317324185251,78.997430975533405,181.30679418263696,"○","○",0.43571136609451272,null,0.9,21.712932243840992]

{"sheet":"LEEの式 (3)","index":21,"n_rows":114,"n_cols":25,"rows_kept":114,"cut":false,"hidden":true,"merged":[]}
[]
[null,null,null,null,null,null,null,null,null,null,null,"面方向","厚み方向"]
[null,null,null,null,null,null,null,null,null,null,"等価熱伝導率",{"$f":"【事例2】危険部品判断シート!R5","v":18},0.4,null,"ターゲット温度上昇",null,30]
[null,null,null,null,null,null,null,null,null,null,"隙間",{"$f":"【事例2】危険部品判断シート!R7","v":5}]
[null,null,null,null,"位置",null,null,"発熱量","部品L","周長","周囲幅","P表面積","熱伝達率","熱抵抗R0","温度上昇","As","Ap","λ","AC","BC","CC","Rc","Rt","ERR"]
[null,null,null,null,"C0",1,{"$f":"J6*1000","v":8},{"$f":"X6","v":0.15462199942205776},2E-3,{"$f":"I6*4","v":8.0000000000000002E-3},{"$f":"I6+$L$4/1000*2","v":1.2E-2},{"$f":"K6^2*2","v":2.8800000000000001E-4},{"$f":"IF(【事例2】危険部品判断シート!$O$36=0,2.51*0.56*(O6/K6)^0.25+0.0000000567*$F$9*(($F$10+273+O6)^2+($F$10+273)^2)*(($F$10+273+O6)+($F$10+273)),3.86*(【事例2】危険部品判断シート!$O$36/K6)^0.5+0.0000000567*$F$9*(($F$10+273+O6)^2+($F$10+273)^2)*(($F$10+273+O6)+($F$10+273)))","v":17.896064747923351},{"$f":"1/L6/M6+$F$8/$M$3/L6","v":207.91043894084302},{"$f":"H6*N6","v":32.147527769750802},{"$f":"I6^2","v":3.9999999999999998E-6},{"$f":"K6^2","v":1.44E-4},{"$f":"(PI()^1.5)/((Q6)^0.5)+1/(P6)^0.5","v":964.02733306930907},{"$f":"$F$6*(Q6^0.5-P6^0.5)/($L$3*(PI()*Q6*P6)^0.5)","v":13.059944063605471},{"$f":"R6*$L$3*Q6*N6/$F$6","v":519.51804875271159},{"$f":"TANH(R6*$F$8/$F$6)","v":0.91253009128967677},{"$f":"S6*(T6+U6)/(1+T6*U6)","v":14.306755886602424},{"$f":"N6+V6","v":222.21719482744544},{"$f":"L6*M6*$Q$3","v":0.15462199942205776},{"$f":"J6*1000","v":8}]
[null,null,null,null,null,null,{"$f":"J7*1000","v":16},{"$f":"X7","v":0.20590137779613857},{"$f":"I6+0.002","v":4.0000000000000001E-3},1.6E-2,{"$f":"I7+$L$4/1000*2","v":1.4E-2},{"$f":"K7^2*2","v":3.9200000000000004E-4},{"$f":"IF(【事例2】危険部品判断シート!$O$36=0,2.51*0.56*(O7/K7)^0.25+0.0000000567*$F$9*(($F$10+273+O7)^2+($F$10+273)^2)*(($F$10+273+O7)+($F$10+273)),3.86*(【事例2】危険部品判断シート!$O$36/K7)^0.5+0.0000000567*$F$9*(($F$10+273+O7)^2+($F$10+273)^2)*(($F$10+273+O7)+($F$10+273)))","v":17.508620560896127},{"$f":"1/L7/M7+$F$8/$M$3/L7","v":155.90490365290586},{"$f":"H7*N7","v":32.101034467307556},{"$f":"I7^2","v":1.5999999999999999E-5},{"$f":"K7^2","v":1.9600000000000002E-4},{"$f":"(PI()^1.5)/((Q7)^0.5)+1/(P7)^0.5","v":647.73771405940784},5.5971188844023443,356.27679426502715,0.77645466972204769,{"$f":"S7*(T7+U7)/(1+T7*U7)","v":7.1982475480095545},{"$f":"N7+V7","v":163.10315120091542},{"$f":"L7*M7*$Q$3","v":0.20590137779613849},{"$f":"J7*1000","v":16}]
[null,null,null,null,"t",1.6000000000000001E-3,24,{"$f":"X8","v":0.26396272071676941},{"$f":"I7+0.002","v":6.0000000000000001E-3},2.4E-2,1.6E-2,5.1199999999999998E-4,{"$f":"IF(【事例2】危険部品判断シート!$O$36=0,2.51*0.56*(O8/K8)^0.25+0.0000000567*$F$9*(($F$10+273+O8)^2+($F$10+273)^2)*(($F$10+273+O8)+($F$10+273)),3.86*(【事例2】危険部品判断シート!$O$36/K8)^0.5+0.0000000567*$F$9*(($F$10+273+O8)^2+($F$10+273)^2)*(($F$10+273+O8)+($F$10+273)))","v":17.185072963331343},121.46491242603283,32.062208755599755,3.6000000000000001E-5,2.5599999999999999E-4,514.68716646864846,3.2649860159013677,288.07571682163518,0.6769700699595429,4.8096114408034181,126.27452386683625,0.26396272071676941,24]
[null,null,null,null,"放射率",{"$f":"【事例2】危険部品判断シート!O35","v":0.85},32,0.32870446387298363,8.0000000000000002E-3,3.2000000000000001E-2,1.8000000000000002E-2,6.4800000000000014E-4,{"$f":"IF(【事例2】危険部品判断シート!$O$36=0,2.51*0.56*(O9/K9)^0.25+0.0000000567*$F$9*(($F$10+273+O9)^2+($F$10+273)^2)*(($F$10+273+O9)+($F$10+273)),3.86*(【事例2】危険部品判断シート!$O$36/K9)^0.5+0.0000000567*$F$9*(($F$10+273+O9)^2+($F$10+273)^2)*(($F$10+273+O9)+($F$10+273)))","v":16.908665837087632},97.440234072473743,32.029039900450513,6.3999999999999997E-5,3.2400000000000007E-4,434.35155537953932,2.1766573439342456,246.82958606159667,0.60116053184182494,3.6052804301137993,101.04551450258754,0.32870446387298363,32]
[null,null,null,null,"室温",{"$f":"【事例2】危険部品判断シート!M36","v":53.738641163472607},40,0.40003990299514997,0.01,0.04,0.02,8.0000000000000004E-4,{"$f":"IF(【事例2】危険部品判断シート!$O$36=0,2.51*0.56*(O10/K10)^0.25+0.0000000567*$F$9*(($F$10+273+O10)^2+($F$10+273)^2)*(($F$10+273+O10)+($F$10+273)),3.86*(【事例2】危険部品判断シート!$O$36/K10)^0.5+0.0000000567*$F$9*(($F$10+273+O10)^2+($F$10+273)^2)*(($F$10+273+O10)+($F$10+273)))","v":16.668329291464577},79.992518934701678,32.000199514975755,1E-4,4.0000000000000002E-4,378.41639984158542,1.5671932876326564,217.94746341261356,0.54092779792344237,2.8799939169605362,82.872512851662208,0.40003990299514985,40]
[null,null,null,null,null,null,48,0.47789368335972215,1.2E-2,4.8000000000000001E-2,2.1999999999999999E-2,{"$f":"K11^2*2","v":9.6799999999999989E-4},{"$f":"IF(【事例2】危険部品判断シート!$O$36=0,2.51*0.56*(O11/K11)^0.25+0.0000000567*$F$9*(($F$10+273+O11)^2+($F$10+273)^2)*(($F$10+273+O11)+($F$10+273)),3.86*(【事例2】危険部品判断シート!$O$36/K11)^0.5+0.0000000567*$F$9*(($F$10+273+O11)^2+($F$10+273)^2)*(($F$10+273+O11)+($F$10+273)))","v":16.45639405508685},66.907700185152365,31.974767286610426,1.44E-4,4.8399999999999995E-4,336.43915137113828,1.1872676421459516,196.1103423116846,0.49170205506160097,2.3958162444400792,69.303516429592449,0.47789368335972204,48]
[null,null,null,null,null,null,56,0.56219937537561449,1.4E-2,5.6000000000000001E-2,2.4E-2,1.152E-3,{"$f":"IF(【事例2】危険部品判断シート!$O$36=0,2.51*0.56*(O12/K12)^0.25+0.0000000567*$F$9*(($F$10+273+O12)^2+($F$10+273)^2)*(($F$10+273+O12)+($F$10+273)),3.86*(【事例2】危険部品判断シート!$O$36/K12)^0.5+0.0000000567*$F$9*(($F$10+273+O12)^2+($F$10+273)^2)*(($F$10+273+O12)+($F$10+273)))","v":16.267343037488843},56.834074465399333,31.952081164498665,1.9600000000000002E-4,5.7600000000000001E-4,303.44223796322598,0.93285314740039071,178.8050635028867,0.45064358951546418,2.0498243567440451,58.883898822143379,0.56219937537561449,56]
[null,null,null,null,null,null,64,0.65289773439634147,1.6E-2,6.4000000000000001E-2,2.6000000000000002E-2,1.3520000000000003E-3,{"$f":"IF(【事例2】危険部品判断シート!$O$36=0,2.51*0.56*(O13/K13)^0.25+0.0000000567*$F$9*(($F$10+273+O13)^2+($F$10+273)^2)*(($F$10+273+O13)+($F$10+273)),3.86*(【事例2】危険部品判断シート!$O$36/K13)^0.5+0.0000000567*$F$9*(($F$10+273+O13)^2+($F$10+273)^2)*(($F$10+273+O13)+($F$10+273)))","v":16.097084181369361},48.907582948327743,31.931650101764326,2.5599999999999999E-4,6.7600000000000017E-4,276.66646141660419,0.75345831136185404,164.64627769804119,0.41585212525732529,1.7902707782176344,50.697853726545375,0.65289773439634147,64]
[null,null,null,null,null,null,72.000000000000014,0.74993541210118053,1.8000000000000002E-2,7.2000000000000008E-2,2.8000000000000004E-2,1.5680000000000004E-3,{"$f":"IF(【事例2】危険部品判断シート!$O$36=0,2.51*0.56*(O14/K14)^0.25+0.0000000567*$F$9*(($F$10+273+O14)^2+($F$10+273)^2)*(($F$10+273+O14)+($F$10+273)),3.86*(【事例2】危険部品判断シート!$O$36/K14)^0.5+0.0000000567*$F$9*(($F$10+273+O14)^2+($F$10+273)^2)*(($F$10+273+O14)+($F$10+273)))","v":15.942504508953661},42.554465392772734,31.913100541074446,3.2400000000000007E-4,7.8400000000000019E-4,254.4244125852594,0.62190209826692722,152.78914027047219,0.38598973202305409,1.5883263412303388,44.142791734003076,0.74993541210118042,72.000000000000014]
[null,null,null,null,null,null,80.000000000000014,0.85326397738008708,2.0000000000000004E-2,8.0000000000000016E-2,3.0000000000000006E-2,1.8000000000000006E-3,{"$f":"IF(【事例2】危険部品判断シート!$O$36=0,2.51*0.56*(O15/K15)^0.25+0.0000000567*$F$9*(($F$10+273+O15)^2+($F$10+273)^2)*(($F$10+273+O15)+($F$10+273)),3.86*(【事例2】危険部品判断シート!$O$36/K15)^0.5+0.0000000567*$F$9*(($F$10+273+O15)^2+($F$10+273)^2)*(($F$10+273+O15)+($F$10+273)))","v":15.801184766297904},37.381329831702928,31.896142171955741,4.0000000000000018E-4,9.000000000000003E-4,235.61093322772359,0.52239776254421877,142.68069011244216,0.36007971902724906,1.4266758611771988,38.80800569288013,0.85326397738008708,80.000000000000014]
[null,null,null,null,null,null,88.000000000000028,0.96283915611434101,2.2000000000000006E-2,8.8000000000000023E-2,3.2000000000000008E-2,2.0480000000000008E-3,{"$f":"IF(【事例2】危険部品判断シート!$O$36=0,2.51*0.56*(O16/K16)^0.25+0.0000000567*$F$9*(($F$10+273+O16)^2+($F$10+273)^2)*(($F$10+273+O16)+($F$10+273)),3.86*(【事例2】危険部品判断シート!$O$36/K16)^0.5+0.0000000567*$F$9*(($F$10+273+O16)^2+($F$10+273)^2)*(($F$10+273+O16)+($F$10+273)))","v":15.671210223215173},33.110977076839916,31.880545226785834,4.8400000000000027E-4,1.0240000000000004E-3,219.4647953555363,0.44522536580473182,133.93970027256782,0.3373894215775724,1.2943012784905654,34.405278355330481,0.96283915611434057,88.000000000000028]
[null,null,null,null,null,null,96.000000000000028,{"$f":"X17","v":1.0786202299271299},2.4000000000000007E-2,9.600000000000003E-2,3.4000000000000009E-2,2.3120000000000011E-3,{"$f":"IF(【事例2】危険部品判断シート!$O$36=0,2.51*0.56*(O17/K17)^0.25+0.0000000567*$F$9*(($F$10+273+O17)^2+($F$10+273)^2)*(($F$10+273+O17)+($F$10+273)),3.86*(【事例2】危険部品判断シート!$O$36/K17)^0.5+0.0000000567*$F$9*(($F$10+273+O17)^2+($F$10+273)^2)*(($F$10+273+O17)+($F$10+273)))","v":15.551041377265417},29.543414893511393,31.866124965271855,5.7600000000000034E-4,1.1560000000000006E-3,205.44101951465805,0.38411600187074896,126.29268436808968,0.3173572498856026,1.183862282445715,30.727277175957109,{"$f":"L17*M17*$Q$3","v":1.0786202299271299},96.000000000000028]
[null,null,null,null,null,null,104.00000000000004,{"$f":"X18","v":1.2005695530320259},2.6000000000000009E-2,0.10400000000000004,3.6000000000000011E-2,2.5920000000000014E-3,{"$f":"IF(【事例2】危険部品判断シート!$O$36=0,2.51*0.56*(O18/K18)^0.25+0.0000000567*$F$9*(($F$10+273+O18)^2+($F$10+273)^2)*(($F$10+273+O18)+($F$10+273)),3.86*(【事例2】危険部品判断シート!$O$36/K18)^0.5+0.0000000567*$F$9*(($F$10+273+O18)^2+($F$10+273)^2)*(($F$10+273+O18)+($F$10+273)))","v":15.439423264300736},26.5313498174865,31.852730791716091,6.7600000000000049E-4,1.2960000000000007E-3,193.13731615130808,0.33487036060526831,119.53719057809904,0.29954502429688962,1.0902823081079875,27.621632125594488,{"$f":"L18*M18*$Q$3","v":1.2005695530320259},104.00000000000004]
[null,null,null,null,null,null,112.00000000000004,1.3286521585559841,2.8000000000000011E-2,0.11200000000000004,3.8000000000000013E-2,2.8880000000000021E-3,{"$f":"IF(【事例2】危険部品判断シート!$O$36=0,2.51*0.56*(O19/K19)^0.25+0.0000000567*$F$9*(($F$10+273+O19)^2+($F$10+273)^2)*(($F$10+273+O19)+($F$10+273)),3.86*(【事例2】危険部品判断シート!$O$36/K19)^0.5+0.0000000567*$F$9*(($F$10+273+O19)^2+($F$10+273)^2)*(($F$10+273+O19)+($F$10+273)))","v":15.33532038961199},23.964314694192268,31.840238446753443,7.8400000000000063E-4,1.4440000000000011E-3,182.24923299933062,0.29458520444222852,113.51948745787048,0.28360565836302504,1.0099394719241612,24.974254166116431,1.3286521585559836,112.00000000000004]
[null,null,null,null,null,null,120.00000000000006,1.4628354338257132,3.0000000000000013E-2,0.12000000000000005,4.0000000000000015E-2,3.2000000000000023E-3,{"$f":"IF(【事例2】危険部品判断シート!$O$36=0,2.51*0.56*(O20/K20)^0.25+0.0000000567*$F$9*(($F$10+273+O20)^2+($F$10+273)^2)*(($F$10+273+O20)+($F$10+273)),3.86*(【事例2】危険部品判断シート!$O$36/K20)^0.5+0.0000000567*$F$9*(($F$10+273+O20)^2+($F$10+273)^2)*(($F$10+273+O20)+($F$10+273)))","v":15.237869102351169},21.758116843698421,31.828544292282139,9.0000000000000073E-4,1.6000000000000012E-3,172.54153325412599,0.26119888127210922,108.12035061890361,0.2692605997557056,0.94018091345681676,22.698297757155238,1.4628354338257132,120.00000000000006]
[null,null,null,null,null,null,128.00000000000006,1.6030888496202058,3.2000000000000015E-2,0.12800000000000006,4.2000000000000016E-2,3.5280000000000029E-3,{"$f":"IF(【事例2】危険部品判断シート!$O$36=0,2.51*0.56*(O21/K21)^0.25+0.0000000567*$F$9*(($F$10+273+O21)^2+($F$10+273)^2)*(($F$10+273+O21)+($F$10+273)),3.86*(【事例2】危険部品判断シート!$O$36/K21)^0.5+0.0000000567*$F$9*(($F$10+273+O21)^2+($F$10+273)^2)*(($F$10+273+O21)+($F$10+273)))","v":15.146342116593004},19.847659137251942,31.817561053991181,1.024000000000001E-3,1.7640000000000015E-3,163.82923801980252,0.23321328685009748,103.24565646936098,0.25628370432311187,0.87901930296033326,20.726678440212275,1.6030888496202049,128.00000000000006]
[null,null,null,null,null,null,136.00000000000006,1.7493837322266648,3.4000000000000016E-2,0.13600000000000007,4.4000000000000018E-2,3.872000000000003E-3,{"$f":"IF(【事例2】危険部品判断シート!$O$36=0,2.51*0.56*(O22/K22)^0.25+0.0000000567*$F$9*(($F$10+273+O22)^2+($F$10+273)^2)*(($F$10+273+O22)+($F$10+273)),3.86*(【事例2】危険部品判断シート!$O$36/K22)^0.5+0.0000000567*$F$9*(($F$10+273+O22)^2+($F$10+273)^2)*(($F$10+273+O22)+($F$10+273)))","v":15.060121661730918},18.181954029561368,31.807214599407711,1.1560000000000012E-3,1.9360000000000015E-3,155.96467372478477,0.20951781920222662,98.819955612244442,0.24448947694923887,0.82493657130786691,19.006890600869234,1.7493837322266648,136.00000000000006]
[null,null,null,null,null,null,144.00000000000009,1.9016930698581165,3.6000000000000018E-2,0.14400000000000007,4.600000000000002E-2,4.232000000000004E-3,{"$f":"IF(【事例2】危険部品判断シート!$O$36=0,2.51*0.56*(O23/K23)^0.25+0.0000000567*$F$9*(($F$10+273+O23)^2+($F$10+273)^2)*(($F$10+273+O23)+($F$10+273)),3.86*(【事例2】危険部品判断シート!$O$36/K23)^0.5+0.0000000567*$F$9*(($F$10+273+O23)^2+($F$10+273)^2)*(($F$10+273+O23)+($F$10+273)))","v":14.978678874118735},16.720595962032203,31.797441464894245,1.2960000000000014E-3,2.116000000000002E-3,148.82838640455398,0.18927455164645593,94.781961976440883,0.23372434888504259,0.77675316879004264,17.497349130822244,1.9016930698581165,144.00000000000009]
[null,null,null,null,null,null,152.00000000000009,2.0599913469571041,3.800000000000002E-2,0.15200000000000008,4.8000000000000022E-2,4.6080000000000045E-3,{"$f":"IF(【事例2】危険部品判断シート!$O$36=0,2.51*0.56*(O24/K24)^0.25+0.0000000567*$F$9*(($F$10+273+O24)^2+($F$10+273)^2)*(($F$10+273+O24)+($F$10+273)),3.86*(【事例2】危険部品判断シート!$O$36/K24)^0.5+0.0000000567*$F$9*(($F$10+273+O24)^2+($F$10+273)^2)*(($F$10+273+O24)+($F$10+273)))","v":14.901557776020702},15.431223524350283,31.788186933122489,1.4440000000000015E-3,2.3040000000000022E-3,142.3226227410114,0.17184136925796659,91.081312527951127,0.22386011000054215,0.73353869678853723,16.164762221138819,2.0599913469571041,152.00000000000009]
[null,null,null,null,null,null,160.00000000000009,2.2242544013538836,4.0000000000000022E-2,0.16000000000000009,5.0000000000000024E-2,5.0000000000000044E-3,{"$f":"IF(【事例2】危険部品判断シート!$O$36=0,2.51*0.56*(O25/K25)^0.25+0.0000000567*$F$9*(($F$10+273+O25)^2+($F$10+273)^2)*(($F$10+273+O25)+($F$10+273)),3.86*(【事例2】危険部品判断シート!$O$36/K25)^0.5+0.0000000567*$F$9*(($F$10+273+O25)^2+($F$10+273)^2)*(($F$10+273+O25)+($F$10+273)))","v":14.828362675692546},14.28766579116996,31.779403521083101,1.6000000000000018E-3,2.5000000000000022E-3,136.3665599366341,0.1567193287632655,87.676192505977966,0.21478889752092473,0.694549415447551,14.982215206617511,2.2242544013538836,160.00000000000009]
[null,null,null,null,null,null,168.00000000000009,2.3944593003236352,4.2000000000000023E-2,0.16800000000000009,5.2000000000000025E-2,5.4080000000000057E-3,{"$f":"IF(【事例2】危険部品判断シート!$O$36=0,2.51*0.56*(O26/K26)^0.25+0.0000000567*$F$9*(($F$10+273+O26)^2+($F$10+273)^2)*(($F$10+273+O26)+($F$10+273)),3.86*(【事例2】危険部品判断シート!$O$36/K26)^0.5+0.0000000567*$F$9*(($F$10+273+O26)^2+($F$10+273)^2)*(($F$10+273+O26)+($F$10+273)))","v":14.758748152882347},13.268569557248986,31.771049778345894,1.7640000000000019E-3,2.7040000000000028E-3,130.89275451782584,0.14351586883082923,84.53156412046684,0.20641932653849454,0.6591836544497186,13.927753211698704,2.3944593003236343,168.00000000000009]
[null,null,null,null,null,null,176.00000000000011,2.5705842324000168,4.4000000000000025E-2,0.1760000000000001,5.4000000000000027E-2,5.8320000000000056E-3,{"$f":"IF(【事例2】危険部品判断シート!$O$36=0,2.51*0.56*(O27/K27)^0.25+0.0000000567*$F$9*(($F$10+273+O27)^2+($F$10+273)^2)*(($F$10+273+O27)+($F$10+273)),3.86*(【事例2】危険部品判断シート!$O$36/K27)^0.5+0.0000000567*$F$9*(($F$10+273+O27)^2+($F$10+273)^2)*(($F$10+273+O27)+($F$10+273)))","v":14.692411021947951},12.356369778623543,31.763089322633768,1.9360000000000022E-3,2.9160000000000028E-3,125.8444578537858,0.13191862690510567,81.617824663298705,0.19867346971582525,0.62694941932786541,12.983319197951408,2.5705842324000159,176.00000000000011]
[null,null,null,null,null,null,184.00000000000011,2.7526084124237911,4.6000000000000027E-2,0.18400000000000011,5.6000000000000029E-2,6.2720000000000067E-3,{"$f":"IF(【事例2】危険部品判断シート!$O$36=0,2.51*0.56*(O28/K28)^0.25+0.0000000567*$F$9*(($F$10+273+O28)^2+($F$10+273)^2)*(($F$10+273+O28)+($F$10+273)),3.86*(【事例2】危険部品判断シート!$O$36/K28)^0.5+0.0000000567*$F$9*(($F$10+273+O28)^2+($F$10+273)^2)*(($F$10+273+O28)+($F$10+273)))","v":14.629083824531186},11.536508395315719,31.755490058943739,2.1160000000000024E-3,3.1360000000000034E-3,121.17355894963448,0.12167649748700737,78.909775747804161,0.19148447646351829,0.59744047332796824,12.133948868643687,2.7526084124237911,184.00000000000011]
[null,null,null,null,null,null,192.00000000000011,2.9405119977856362,4.8000000000000029E-2,0.19200000000000012,5.8000000000000031E-2,6.7280000000000074E-3,{"$f":"IF(【事例2】危険部品判断シート!$O$36=0,2.51*0.56*(O29/K29)^0.25+0.0000000567*$F$9*(($F$10+273+O29)^2+($F$10+273)^2)*(($F$10+273+O29)+($F$10+273)),3.86*(【事例2】危険部品判断シート!$O$36/K29)^0.5+0.0000000567*$F$9*(($F$10+273+O29)^2+($F$10+273)^2)*(($F$10+273+O29)+($F$10+273)))","v":14.568529517368372},10.796835233453335,31.748223542084212,2.3040000000000027E-3,3.3640000000000037E-3,116.83898845112137,0.11258572468625394,76.385821630553821,0.184794679131945,0.57031841673793804,11.367153650191273,2.9405119977856353,192.00000000000011]
[null,null,null,null,null,null,200.00000000000011,3.1342760141974897,5.0000000000000031E-2,0.20000000000000012,6.0000000000000032E-2,7.2000000000000076E-3,{"$f":"IF(【事例2】危険部品判断シート!$O$36=0,2.51*0.56*(O30/K30)^0.25+0.0000000567*$F$9*(($F$10+273+O30)^2+($F$10+273)^2)*(($F$10+273+O30)+($F$10+273)),3.86*(【事例2】危険部品判断シート!$O$36/K30)^0.5+0.0000000567*$F$9*(($F$10+273+O30)^2+($F$10+273)^2)*(($F$10+273+O30)+($F$10+273)))","v":14.510537102766142},10.127143974733531,31.741264452331936,2.5000000000000031E-3,3.6000000000000038E-3,112.80546661386175,0.10447955250884366,74.027338659505318,0.17855407395523462,0.54529908003209893,10.67244305476563,3.1342760141974897,200.00000000000011]
[]
[null,null,null,null,null,null,null,null,null,null,"隙間",{"$f":"L4+E33","v":10}]
[null,null,null,null,{"$f":"(【事例2】危険部品判断シート!R8-【事例2】危険部品判断シート!R7)/3","v":5},null,null,"発熱量","部品L","周長","周囲幅","P表面積","熱伝達率","熱抵抗R0","温度上昇","As","Ap","λ","AC","BC","CC","Rc","Rt","ERR"]
[null,null,null,null,null,null,{"$f":"J34*1000","v":8},{"$f":"X34","v":0.47789368335972215},2E-3,{"$f":"I34*4","v":8.0000000000000002E-3},{"$f":"I34+$L$32/1000*2","v":2.1999999999999999E-2},{"$f":"K34^2*2","v":9.6799999999999989E-4},{"$f":"IF(【事例2】危険部品判断シート!$O$36=0,2.51*0.56*(O34/K34)^0.25+0.0000000567*$F$9*(($F$10+273+O34)^2+($F$10+273)^2)*(($F$10+273+O34)+($F$10+273)),3.86*(【事例2】危険部品判断シート!$O$36/K34)^0.5+0.0000000567*$F$9*(($F$10+273+O34)^2+($F$10+273)^2)*(($F$10+273+O34)+($F$10+273)))","v":16.45639405508685},{"$f":"1/L34/M34+$F$8/$M$3/L34","v":66.907700185152365},{"$f":"H34*N34","v":31.974767286610426},{"$f":"I34^2","v":3.9999999999999998E-6},{"$f":"K34^2","v":4.8399999999999995E-4},{"$f":"(PI()^1.5)/((Q34)^0.5)+1/(P34)^0.5","v":753.10581803780497},{"$f":"$F$6*(Q34^0.5-P34^0.5)/($L$3*(PI()*Q34*P34)^0.5)","v":14.24721170575142},{"$f":"R34*$L$3*Q34*N34/$F$6","v":438.98529398378764},{"$f":"TANH(R34*$F$8/$F$6)","v":0.83516407988298669},{"$f":"S34*(T34+U34)/(1+T34*U34)","v":17.045139624975207},{"$f":"N34+V34","v":83.952839810127571},{"$f":"L34*M34*$Q$3","v":0.47789368335972204}]
[null,null,null,null,null,null,{"$f":"J35*1000","v":16},{"$f":"X35","v":0.56219937537561449},{"$f":"I34+0.002","v":4.0000000000000001E-3},1.6E-2,{"$f":"I35+$L$32/1000*2","v":2.4E-2},{"$f":"K35^2*2","v":1.152E-3},{"$f":"IF(【事例2】危険部品判断シート!$O$36=0,2.51*0.56*(O35/K35)^0.25+0.0000000567*$F$9*(($F$10+273+O35)^2+($F$10+273)^2)*(($F$10+273+O35)+($F$10+273)),3.86*(【事例2】危険部品判断シート!$O$36/K35)^0.5+0.0000000567*$F$9*(($F$10+273+O35)^2+($F$10+273)^2)*(($F$10+273+O35)+($F$10+273)))","v":16.267343037488843},56.834074465399333,{"$f":"H35*N35","v":31.952081164498665},{"$f":"I35^2","v":1.5999999999999999E-5},{"$f":"K35^2","v":5.7600000000000001E-4},{"$f":"(PI()^1.5)/((Q35)^0.5)+1/(P35)^0.5","v":482.01366653465453},6.5299720318027354,284.02929279882602,0.64763938261437681,{"$f":"S35*(T35+U35)/(1+T35*U35)","v":10.051078241056727},{"$f":"N35+V35","v":66.885152706456054},{"$f":"L35*M35*$Q$3","v":0.56219937537561449}]
[null,null,null,null,null,null,24,{"$f":"X36","v":0.65289773439634147},{"$f":"I35+0.002","v":6.0000000000000001E-3},2.4E-2,2.6000000000000002E-2,1.3520000000000003E-3,{"$f":"IF(【事例2】危険部品判断シート!$O$36=0,2.51*0.56*(O36/K36)^0.25+0.0000000567*$F$9*(($F$10+273+O36)^2+($F$10+273)^2)*(($F$10+273+O36)+($F$10+273)),3.86*(【事例2】危険部品判断シート!$O$36/K36)^0.5+0.0000000567*$F$9*(($F$10+273+O36)^2+($F$10+273)^2)*(($F$10+273+O36)+($F$10+273)))","v":16.097084181369361},48.907582948327743,31.931650101764326,3.6000000000000001E-5,6.7600000000000017E-4,380.83312808327082,4.0184443272632215,226.6366390850466,0.5436574134908021,7.3495822449945081,56.257165193322251,0.65289773439634147]
[null,null,null,null,null,null,32,0.74993541210118042,8.0000000000000002E-3,3.2000000000000001E-2,2.8000000000000001E-2,1.5680000000000002E-3,{"$f":"IF(【事例2】危険部品判断シート!$O$36=0,2.51*0.56*(O37/K37)^0.25+0.0000000567*$F$9*(($F$10+273+O37)^2+($F$10+273)^2)*(($F$10+273+O37)+($F$10+273)),3.86*(【事例2】危険部品判断シート!$O$36/K37)^0.5+0.0000000567*$F$9*(($F$10+273+O37)^2+($F$10+273)^2)*(($F$10+273+O37)+($F$10+273)))","v":15.942504508953661},42.554465392772741,31.913100541074446,6.3999999999999997E-5,7.8400000000000008E-4,323.86885702970392,2.7985594422011721,194.49251635538954,0.47630197429922477,5.8270858701785002,48.381551262951241,0.74993541210118031]
[null,null,null,null,null,null,40,0.85326397738008675,0.01,0.04,0.03,1.8E-3,{"$f":"IF(【事例2】危険部品判断シート!$O$36=0,2.51*0.56*(O38/K38)^0.25+0.0000000567*$F$9*(($F$10+273+O38)^2+($F$10+273)^2)*(($F$10+273+O38)+($F$10+273)),3.86*(【事例2】危険部品判断シート!$O$36/K38)^0.5+0.0000000567*$F$9*(($F$10+273+O38)^2+($F$10+273)^2)*(($F$10+273+O38)+($F$10+273)))","v":15.801184766297904},37.381329831702942,31.896142171955741,1E-4,8.9999999999999998E-4,285.61093322772365,2.0895910501768751,172.95956727612156,0.42761758606203659,4.8333196183792122,42.214649450082156,0.85326397738008675]
[null,null,null,null,null,null,48,0.96283915611434079,1.2E-2,4.8000000000000001E-2,3.2000000000000001E-2,{"$f":"K39^2*2","v":2.0479999999999999E-3},{"$f":"IF(【事例2】危険部品判断シート!$O$36=0,2.51*0.56*(O39/K39)^0.25+0.0000000567*$F$9*(($F$10+273+O39)^2+($F$10+273)^2)*(($F$10+273+O39)+($F$10+273)),3.86*(【事例2】危険部品判断シート!$O$36/K39)^0.5+0.0000000567*$F$9*(($F$10+273+O39)^2+($F$10+273)^2)*(($F$10+273+O39)+($F$10+273)))","v":15.671210223215173},33.11097707683993,31.880545226785841,1.44E-4,1.024E-3,257.34358323432423,1.6324930079506839,157.05718244985246,0.38995734868785564,4.1293094561328694,37.240286532972803,0.96283915611434012]
[null,null,null,null,null,null,56,1.0786202299271295,1.4E-2,5.6000000000000001E-2,3.4000000000000002E-2,2.3120000000000003E-3,{"$f":"IF(【事例2】危険部品判断シート!$O$36=0,2.51*0.56*(O40/K40)^0.25+0.0000000567*$F$9*(($F$10+273+O40)^2+($F$10+273)^2)*(($F$10+273+O40)+($F$10+273)),3.86*(【事例2】危険部品判断シート!$O$36/K40)^0.5+0.0000000567*$F$9*(($F$10+273+O40)^2+($F$10+273)^2)*(($F$10+273+O40)+($F$10+273)))","v":15.551041377265417},29.543414893511404,31.866124965271851,1.9600000000000002E-4,1.1560000000000001E-3,235.20292427656284,1.3169691492711399,144.58849916285712,0.35951141340755177,3.6030139298921866,33.146428823403589,1.0786202299271295]
[null,null,null,null,null,null,64,1.2005695530320255,1.6E-2,6.4000000000000001E-2,3.6000000000000004E-2,2.5920000000000006E-3,{"$f":"IF(【事例2】危険部品判断シート!$O$36=0,2.51*0.56*(O41/K41)^0.25+0.0000000567*$F$9*(($F$10+273+O41)^2+($F$10+273)^2)*(($F$10+273+O41)+($F$10+273)),3.86*(【事例2】危険部品判断シート!$O$36/K41)^0.5+0.0000000567*$F$9*(($F$10+273+O41)^2+($F$10+273)^2)*(($F$10+273+O41)+($F$10+273)))","v":15.439423264300732},26.531349817486511,31.852730791716091,2.5599999999999999E-4,1.2960000000000003E-3,217.17577768976966,1.0883286719671228,134.41515520652032,0.33413989266282124,3.1940852140318787,29.725435031518391,1.2005695530320253]
[null,null,null,null,null,null,72.000000000000014,1.3286521585559834,1.8000000000000002E-2,7.2000000000000008E-2,3.8000000000000006E-2,2.8880000000000008E-3,{"$f":"IF(【事例2】危険部品判断シート!$O$36=0,2.51*0.56*(O42/K42)^0.25+0.0000000567*$F$9*(($F$10+273+O42)^2+($F$10+273)^2)*(($F$10+273+O42)+($F$10+273)),3.86*(【事例2】危険部品判断シート!$O$36/K42)^0.5+0.0000000567*$F$9*(($F$10+273+O42)^2+($F$10+273)^2)*(($F$10+273+O42)+($F$10+273)))","v":15.335320389611994},23.964314694192275,31.840238446753439,3.2400000000000007E-4,1.4440000000000004E-3,202.09050284060049,0.91648730270915579,125.87822689301821,0.31252817277605865,2.8669016738802062,26.831216368072482,1.3286521585559834]
[null,0.1,0.1,null,null,null,80.000000000000014,1.462835433825713,2.0000000000000004E-2,8.0000000000000016E-2,4.0000000000000008E-2,3.2000000000000015E-3,{"$f":"IF(【事例2】危険部品判断シート!$O$36=0,2.51*0.56*(O43/K43)^0.25+0.0000000567*$F$9*(($F$10+273+O43)^2+($F$10+273)^2)*(($F$10+273+O43)+($F$10+273)),3.86*(【事例2】危険部品判断シート!$O$36/K43)^0.5+0.0000000567*$F$9*(($F$10+273+O43)^2+($F$10+273)^2)*(($F$10+273+O43)+($F$10+273)))","v":15.237869102351169},21.758116843698431,31.82854429228215,4.0000000000000018E-4,1.6000000000000007E-3,189.20819992079268,0.78359664381632799,118.56424670387888,0.29381179541559732,2.5990033038326614,24.357120147531091,1.4628354338257128]
[null,1000,1000,null,null,null,88.000000000000028,1.6030888496202051,2.2000000000000006E-2,8.8000000000000023E-2,4.200000000000001E-2,3.5280000000000016E-3,{"$f":"IF(【事例2】危険部品判断シート!$O$36=0,2.51*0.56*(O44/K44)^0.25+0.0000000567*$F$9*(($F$10+273+O44)^2+($F$10+273)^2)*(($F$10+273+O44)+($F$10+273)),3.86*(【事例2】危険部品判断シート!$O$36/K44)^0.5+0.0000000567*$F$9*(($F$10+273+O44)^2+($F$10+273)^2)*(($F$10+273+O44)+($F$10+273)))","v":15.146342116593004},19.847659137251945,31.817561053991174,4.8400000000000027E-4,1.7640000000000008E-3,178.03378347434798,0.67843865265482939,112.1974018234238,0.27739163932387439,2.3754987742952105,22.223157911547155,1.6030888496202043]
[null,null,null,null,null,null,96.000000000000028,1.7493837322266643,2.4000000000000007E-2,9.600000000000003E-2,4.4000000000000011E-2,3.8720000000000022E-3,{"$f":"IF(【事例2】危険部品判断シート!$O$36=0,2.51*0.56*(O45/K45)^0.25+0.0000000567*$F$9*(($F$10+273+O45)^2+($F$10+273)^2)*(($F$10+273+O45)+($F$10+273)),3.86*(【事例2】危険部品判断シート!$O$36/K45)^0.5+0.0000000567*$F$9*(($F$10+273+O45)^2+($F$10+273)^2)*(($F$10+273+O45)+($F$10+273)))","v":15.060121661730918},18.181954029561371,31.807214599407711,5.7600000000000034E-4,1.9360000000000011E-3,168.21957568556911,0.59363382107297569,106.58471950957478,0.26283496157015451,2.1861137808203219,20.368067810381692,1.7493837322266643]
[null,null,null,null,null,null,104.00000000000004,1.9016930698581156,2.6000000000000009E-2,0.10400000000000004,4.6000000000000013E-2,4.2320000000000023E-3,{"$f":"IF(【事例2】危険部品判断シート!$O$36=0,2.51*0.56*(O46/K46)^0.25+0.0000000567*$F$9*(($F$10+273+O46)^2+($F$10+273)^2)*(($F$10+273+O46)+($F$10+273)),3.86*(【事例2】危険部品判断シート!$O$36/K46)^0.5+0.0000000567*$F$9*(($F$10+273+O46)^2+($F$10+273)^2)*(($F$10+273+O46)+($F$10+273)))","v":14.978678874118735},16.72059596203221,31.797441464894245,6.7600000000000049E-4,2.1160000000000011E-3,159.51214708831469,0.52414491225172433,101.58595833329862,0.24981870072966736,2.0235256074925765,18.744121569524786,1.9016930698581156]
[null,null,null,null,null,null,112.00000000000004,2.0599913469571032,2.8000000000000011E-2,0.11200000000000004,4.8000000000000015E-2,4.6080000000000027E-3,{"$f":"IF(【事例2】危険部品判断シート!$O$36=0,2.51*0.56*(O47/K47)^0.25+0.0000000567*$F$9*(($F$10+273+O47)^2+($F$10+273)^2)*(($F$10+273+O47)+($F$10+273)),3.86*(【事例2】危険部品判断シート!$O$36/K47)^0.5+0.0000000567*$F$9*(($F$10+273+O47)^2+($F$10+273)^2)*(($F$10+273+O47)+($F$10+273)))","v":14.901557776020702},15.431223524350289,31.788186933122489,7.8400000000000063E-4,2.3040000000000014E-3,151.72111898161293,0.46642657370019508,97.096008975337014,0.23809512723711207,1.8823720725698756,17.313595596920166,2.0599913469571032]
[null,null,null,null,null,null,120.00000000000006,2.2242544013538832,3.0000000000000013E-2,0.12000000000000005,5.0000000000000017E-2,5.0000000000000036E-3,{"$f":"IF(【事例2】危険部品判断シート!$O$36=0,2.51*0.56*(O48/K48)^0.25+0.0000000567*$F$9*(($F$10+273+O48)^2+($F$10+273)^2)*(($F$10+273+O48)+($F$10+273)),3.86*(【事例2】危険部品判断シート!$O$36/K48)^0.5+0.0000000567*$F$9*(($F$10+273+O48)^2+($F$10+273)^2)*(($F$10+273+O48)+($F$10+273)))","v":14.828362675692546},14.287665791169962,31.779403521083101,9.0000000000000073E-4,2.5000000000000018E-3,144.69989326996745,0.41791821003537483,93.034067177666699,0.22747003886988262,1.7586355322858782,16.04630132345584,2.2242544013538832]
[null,null,null,null,null,null,128.00000000000006,2.3944593003236343,3.2000000000000015E-2,0.12800000000000006,5.2000000000000018E-2,5.4080000000000039E-3,{"$f":"IF(【事例2】危険部品判断シート!$O$36=0,2.51*0.56*(O49/K49)^0.25+0.0000000567*$F$9*(($F$10+273+O49)^2+($F$10+273)^2)*(($F$10+273+O49)+($F$10+273)),3.86*(【事例2】危険部品判断シート!$O$36/K49)^0.5+0.0000000567*$F$9*(($F$10+273+O49)^2+($F$10+273)^2)*(($F$10+273+O49)+($F$10+273)))","v":14.758748152882347},13.268569557248989,31.771049778345891,1.024000000000001E-3,2.704000000000002E-3,138.33323070830204,0.37672915568092674,89.336681810127729,0.21778836413070807,1.6492458034275435,14.917815360676533,2.3944593003236339]
[null,null,null,null,null,null,136.00000000000006,2.5705842324000154,3.4000000000000016E-2,0.13600000000000007,5.400000000000002E-2,5.8320000000000047E-3,{"$f":"IF(【事例2】危険部品判断シート!$O$36=0,2.51*0.56*(O50/K50)^0.25+0.0000000567*$F$9*(($F$10+273+O50)^2+($F$10+273)^2)*(($F$10+273+O50)+($F$10+273)),3.86*(【事例2】危険部品判断シート!$O$36/K50)^0.5+0.0000000567*$F$9*(($F$10+273+O50)^2+($F$10+273)^2)*(($F$10+273+O50)+($F$10+273)))","v":14.692411021947951},12.356369778623543,31.76308932263375,1.1560000000000012E-3,2.9160000000000024E-3,132.52894983239543,0.34143644610733226,85.953126380814695,0.20892433317177841,1.551816147815233,13.908185926438776,2.5705842324000154]
[null,null,null,null,null,null,144.00000000000009,2.7526084124237902,3.6000000000000018E-2,0.14400000000000007,5.6000000000000022E-2,6.272000000000005E-3,{"$f":"IF(【事例2】危険部品判断シート!$O$36=0,2.51*0.56*(O51/K51)^0.25+0.0000000567*$F$9*(($F$10+273+O51)^2+($F$10+273)^2)*(($F$10+273+O51)+($F$10+273)),3.86*(【事例2】危険部品判断シート!$O$36/K51)^0.5+0.0000000567*$F$9*(($F$10+273+O51)^2+($F$10+273)^2)*(($F$10+273+O51)+($F$10+273)))","v":14.629083824531186},11.536508395315723,31.755490058943739,1.2960000000000014E-3,3.1360000000000025E-3,127.21220629262967,0.31095104913346333,82.842220348642229,0.20077457179325225,1.4644629731583516,13.000971368474074,2.7526084124237902]
[null,null,null,null,null,null,152.00000000000009,2.9405119977856353,3.800000000000002E-2,0.15200000000000008,5.8000000000000024E-2,6.7280000000000057E-3,{"$f":"IF(【事例2】危険部品判断シート!$O$36=0,2.51*0.56*(O52/K52)^0.25+0.0000000567*$F$9*(($F$10+273+O52)^2+($F$10+273)^2)*(($F$10+273+O52)+($F$10+273)),3.86*(【事例2】危険部品判断シート!$O$36/K52)^0.5+0.0000000567*$F$9*(($F$10+273+O52)^2+($F$10+273)^2)*(($F$10+273+O52)+($F$10+273)))","v":14.568529517368372},10.796835233453336,31.748223542084208,1.4440000000000015E-3,3.3640000000000028E-3,122.32144459147224,0.28442709394422055,79.970086800817327,0.19325312753656981,1.3856797983026719,12.182515031756008,2.9405119977856344]
[null,null,null,null,null,null,160.00000000000009,3.1342760141974892,4.0000000000000022E-2,0.16000000000000009,6.0000000000000026E-2,7.2000000000000059E-3,{"$f":"IF(【事例2】危険部品判断シート!$O$36=0,2.51*0.56*(O53/K53)^0.25+0.0000000567*$F$9*(($F$10+273+O53)^2+($F$10+273)^2)*(($F$10+273+O53)+($F$10+273)),3.86*(【事例2】危険部品判断シート!$O$36/K53)^0.5+0.0000000567*$F$9*(($F$10+273+O53)^2+($F$10+273)^2)*(($F$10+273+O53)+($F$10+273)))","v":14.510537102766142},10.127143974733533,31.741264452331936,1.6000000000000018E-3,3.6000000000000029E-3,117.80546661386175,0.26119888127210916,77.308533307318967,0.18628780939122261,1.3142473208114225,11.441391295544955,3.1342760141974892]
[null,null,null,null,null,null,168.00000000000009,3.3338822896226303,4.2000000000000023E-2,0.16800000000000009,6.2000000000000027E-2,7.6880000000000065E-3,{"$f":"IF(【事例2】危険部品判断シート!$O$36=0,2.51*0.56*(O54/K54)^0.25+0.0000000567*$F$9*(($F$10+273+O54)^2+($F$10+273)^2)*(($F$10+273+O54)+($F$10+273)),3.86*(【事例2】危険部品判断シート!$O$36/K54)^0.5+0.0000000567*$F$9*(($F$10+273+O54)^2+($F$10+273)^2)*(($F$10+273+O54)+($F$10+273)))","v":14.45491800911649},9.5188094252380147,31.734590161093987,1.7640000000000019E-3,3.8440000000000032E-3,113.62126569390615,0.24073629610332642,74.833858582389865,0.17981744300926975,1.2491680622412213,10.767977487479236,3.3338822896226303]
[null,null,null,null,null,null,176.00000000000011,3.5393133952300322,4.4000000000000025E-2,0.1760000000000001,6.4000000000000029E-2,8.1920000000000083E-3,{"$f":"IF(【事例2】危険部品判断シート!$O$36=0,2.51*0.56*(O55/K55)^0.25+0.0000000567*$F$9*(($F$10+273+O55)^2+($F$10+273)^2)*(($F$10+273+O55)+($F$10+273)),3.86*(【事例2】危険部品判断シート!$O$36/K55)^0.5+0.0000000567*$F$9*(($F$10+273+O55)^2+($F$10+273)^2)*(($F$10+273+O55)+($F$10+273)))","v":14.40150307303885},8.9645015362372416,31.728180368764672,1.9360000000000022E-3,4.0960000000000042E-3,109.73239767776813,0.22261268290236577,72.525956939908255,0.17378977806974827,1.189618091212987,10.154119627450228,3.5393133952300313]
[null,null,null,null,null,null,184.00000000000011,3.7505525924272405,4.6000000000000027E-2,0.18400000000000011,6.6000000000000031E-2,8.7120000000000079E-3,{"$f":"IF(【事例2】危険部品判断シート!$O$36=0,2.51*0.56*(O56/K56)^0.25+0.0000000567*$F$9*(($F$10+273+O56)^2+($F$10+273)^2)*(($F$10+273+O56)+($F$10+273)),3.86*(【事例2】危険部品判断シート!$O$36/K56)^0.5+0.0000000567*$F$9*(($F$10+273+O56)^2+($F$10+273)^2)*(($F$10+273+O56)+($F$10+273)))","v":14.350140007756494},8.4579581326178079,31.722016800930781,2.1160000000000024E-3,4.356000000000004E-3,106.1077364473842,0.20648132906886099,70.367635363974927,0.16815986928356499,1.1349108325390969,9.5928689651569048,3.7505525924272405]
[null,null,null,null,null,null,192.00000000000011,3.9675837851785314,4.8000000000000029E-2,0.19200000000000012,6.8000000000000033E-2,9.2480000000000097E-3,{"$f":"IF(【事例2】危険部品判断シート!$O$36=0,2.51*0.56*(O57/K57)^0.25+0.0000000567*$F$9*(($F$10+273+O57)^2+($F$10+273)^2)*(($F$10+273+O57)+($F$10+273)),3.86*(【事例2】危険部品判断シート!$O$36/K57)^0.5+0.0000000567*$F$9*(($F$10+273+O57)^2+($F$10+273)^2)*(($F$10+273+O57)+($F$10+273)))","v":14.300691267223637},7.9938029464044957,31.716082952066845,2.3040000000000027E-3,4.6240000000000048E-3,102.72050975732901,0.1920580009353744,68.344085208152251,0.16288880738207773,1.084469572312881,9.0782725187173767,3.9675837851785305]
[null,null,null,null,null,null,200.00000000000011,4.1903914769391388,5.0000000000000031E-2,0.20000000000000012,7.0000000000000034E-2,9.8000000000000101E-3,{"$f":"IF(【事例2】危険部品判断シート!$O$36=0,2.51*0.56*(O58/K58)^0.25+0.0000000567*$F$9*(($F$10+273+O58)^2+($F$10+273)^2)*(($F$10+273+O58)+($F$10+273)),3.86*(【事例2】危険部品判断シート!$O$36/K58)^0.5+0.0000000567*$F$9*(($F$10+273+O58)^2+($F$10+273)^2)*(($F$10+273+O58)+($F$10+273)))","v":14.253032234486852},7.5673989035747988,31.710363868138423,2.5000000000000031E-3,4.900000000000005E-3,99.547542811881499,0.17910780430087486,66.442468230147071,0.15794271274300262,1.0378063142848195,8.6052052178596181,4.1903914769391388]
[]
[null,null,null,null,null,null,null,null,null,null,"隙間",{"$f":"L32+E33","v":15}]
[null,null,null,null,null,null,null,"発熱量","部品L","周長","周囲幅","P表面積","熱伝達率","熱抵抗R0","温度上昇","As","Ap","λ","AC","BC","CC","Rc","Rt","ERR"]
[null,null,null,null,null,null,{"$f":"J62*1000","v":8},{"$f":"X62","v":0.96283915611434079},2E-3,{"$f":"I62*4","v":8.0000000000000002E-3},{"$f":"I62+$L$60/1000*2","v":3.2000000000000001E-2},{"$f":"K62^2*2","v":2.0479999999999999E-3},{"$f":"IF(【事例2】危険部品判断シート!$O$36=0,2.51*0.56*(O62/K62)^0.25+0.0000000567*$F$9*(($F$10+273+O62)^2+($F$10+273)^2)*(($F$10+273+O62)+($F$10+273)),3.86*(【事例2】危険部品判断シート!$O$36/K62)^0.5+0.0000000567*$F$9*(($F$10+273+O62)^2+($F$10+273)^2)*(($F$10+273+O62)+($F$10+273)))","v":15.671210223215173},{"$f":"1/L62/M62+$F$8/$M$3/L62","v":33.11097707683993},{"$f":"H62*N62","v":31.880545226785841},{"$f":"I62^2","v":3.9999999999999998E-6},{"$f":"K62^2","v":1.024E-3},{"$f":"(PI()^1.5)/((Q62)^0.5)+1/(P62)^0.5","v":674.01024990099086},{"$f":"$F$6*(Q62^0.5-P62^0.5)/($L$3*(PI()*Q62*P62)^0.5)","v":14.692437071556157},{"$f":"R62*$L$3*Q62*N62/$F$6","v":411.34948639998305},{"$f":"TANH(R62*$F$8/$F$6)","v":0.79261110432189874},{"$f":"S62*(T62+U62)/(1+T62*U62)","v":18.515682093647424},{"$f":"N62+V62","v":51.626659170487358},{"$f":"L62*M62*$Q$3","v":0.96283915611434012}]
[null,null,null,null,null,null,{"$f":"J63*1000","v":16},{"$f":"X63","v":1.0786202299271295},{"$f":"I62+0.002","v":4.0000000000000001E-3},1.6E-2,{"$f":"I63+$L$60/1000*2","v":3.4000000000000002E-2},{"$f":"K63^2*2","v":2.3120000000000003E-3},{"$f":"IF(【事例2】危険部品判断シート!$O$36=0,2.51*0.56*(O63/K63)^0.25+0.0000000567*$F$9*(($F$10+273+O63)^2+($F$10+273)^2)*(($F$10+273+O63)+($F$10+273)),3.86*(【事例2】危険部品判断シート!$O$36/K63)^0.5+0.0000000567*$F$9*(($F$10+273+O63)^2+($F$10+273)^2)*(($F$10+273+O63)+($F$10+273)))","v":15.551041377265417},29.543414893511404,31.866124965271851,{"$f":"I63^2","v":1.5999999999999999E-5},{"$f":"K63^2","v":1.1560000000000001E-3},{"$f":"(PI()^1.5)/((Q63)^0.5)+1/(P63)^0.5","v":413.77435284799139},6.9140880336734849,254.36338793146163,0.57971873515809735,{"$f":"S63*(T63+U63)/(1+T63*U63)","v":11.873287930505288},{"$f":"N63+V63","v":41.416702824016696},{"$f":"L63*M63*$Q$3","v":1.0786202299271295}]
[null,null,null,null,null,null,24,{"$f":"X64","v":1.2005695530320251},{"$f":"I63+0.002","v":6.0000000000000001E-3},2.4E-2,3.5999999999999997E-2,2.5919999999999997E-3,{"$f":"IF(【事例2】危険部品判断シート!$O$36=0,2.51*0.56*(O64/K64)^0.25+0.0000000567*$F$9*(($F$10+273+O64)^2+($F$10+273)^2)*(($F$10+273+O64)+($F$10+273)),3.86*(【事例2】危険部品判断シート!$O$36/K64)^0.5+0.0000000567*$F$9*(($F$10+273+O64)^2+($F$10+273)^2)*(($F$10+273+O64)+($F$10+273)))","v":15.439423264300736},26.531349817486518,31.852730791716088,3.6000000000000001E-5,1.2959999999999998E-3,321.34244435643632,4.3533146878684894,198.88633526301257,0.4731707440047504,9.1252261574837199,35.656575974970238,1.2005695530320251]
[null,null,null,null,null,null,32,1.3286521585559832,8.0000000000000002E-3,3.2000000000000001E-2,3.7999999999999999E-2,2.8879999999999999E-3,{"$f":"IF(【事例2】危険部品判断シート!$O$36=0,2.51*0.56*(O65/K65)^0.25+0.0000000567*$F$9*(($F$10+273+O65)^2+($F$10+273)^2)*(($F$10+273+O65)+($F$10+273)),3.86*(【事例2】危険部品判断シート!$O$36/K65)^0.5+0.0000000567*$F$9*(($F$10+273+O65)^2+($F$10+273)^2)*(($F$10+273+O65)+($F$10+273)))","v":15.335320389611994},23.964314694192282,31.840238446753443,6.3999999999999997E-5,1.444E-3,271.53494728504495,3.0931446466434007,169.13381491603528,0.4090384445860526,7.472269689484059,31.43658438367634,1.3286521585559832]
[null,null,null,null,null,null,40,1.4628354338257126,0.01,0.04,0.04,3.2000000000000002E-3,{"$f":"IF(【事例2】危険部品判断シート!$O$36=0,2.51*0.56*(O66/K66)^0.25+0.0000000567*$F$9*(($F$10+273+O66)^2+($F$10+273)^2)*(($F$10+273+O66)+($F$10+273)),3.86*(【事例2】危険部品判断シート!$O$36/K66)^0.5+0.0000000567*$F$9*(($F$10+273+O66)^2+($F$10+273)^2)*(($F$10+273+O66)+($F$10+273)))","v":15.237869102351169},21.758116843698438,31.82854429228215,1E-4,1.6000000000000001E-3,239.20819992079271,2.3507899314489844,149.89593495880465,0.36507867066847427,6.3389794477257384,28.097096291424176,1.4628354338257124]
[null,null,null,null,null,null,48,1.603088849620204,1.2E-2,4.8000000000000001E-2,4.1999999999999996E-2,{"$f":"K67^2*2","v":3.5279999999999995E-3},{"$f":"IF(【事例2】危険部品判断シート!$O$36=0,2.51*0.56*(O67/K67)^0.25+0.0000000567*$F$9*(($F$10+273+O67)^2+($F$10+273)^2)*(($F$10+273+O67)+($F$10+273)),3.86*(【事例2】危険部品判断シート!$O$36/K67)^0.5+0.0000000567*$F$9*(($F$10+273+O67)^2+($F$10+273)^2)*(($F$10+273+O67)+($F$10+273)))","v":15.146342116593004},19.847659137251963,31.817561053991181,1.44E-4,1.7639999999999997E-3,215.91257135313595,1.8657062948007812,136.06872276759148,0.33234320970289677,5.5057546588227382,25.353413796074701,1.6030888496202031]
[null,null,null,null,null,null,56,1.7493837322266632,1.4E-2,5.6000000000000001E-2,4.3999999999999997E-2,3.8719999999999996E-3,{"$f":"IF(【事例2】危険部品判断シート!$O$36=0,2.51*0.56*(O68/K68)^0.25+0.0000000567*$F$9*(($F$10+273+O68)^2+($F$10+273)^2)*(($F$10+273+O68)+($F$10+273)),3.86*(【事例2】危険部品判断シート!$O$36/K68)^0.5+0.0000000567*$F$9*(($F$10+273+O68)^2+($F$10+273)^2)*(($F$10+273+O68)+($F$10+273)))","v":15.060121661730918},18.181954029561382,31.807214599407708,1.9600000000000002E-4,1.9359999999999998E-3,197.98148044747393,1.5264869684733664,125.4420032602342,0.30658375914367086,4.864697650353345,23.046651679914728,1.7493837322266632]
[null,null,null,null,null,null,64,1.9016930698581143,1.6E-2,6.4000000000000001E-2,4.5999999999999999E-2,4.2319999999999997E-3,{"$f":"IF(【事例2】危険部品判断シート!$O$36=0,2.51*0.56*(O69/K69)^0.25+0.0000000567*$F$9*(($F$10+273+O69)^2+($F$10+273)^2)*(($F$10+273+O69)+($F$10+273)),3.86*(【事例2】危険部品判断シート!$O$36/K69)^0.5+0.0000000567*$F$9*(($F$10+273+O69)^2+($F$10+273)^2)*(($F$10+273+O69)+($F$10+273)))","v":14.978678874118735},16.72059596203222,31.797441464894241,2.5599999999999999E-4,2.1159999999999998E-3,183.5506086267763,1.2776032236135786,116.89495013622854,0.28551925063531575,4.3551081249886128,21.075704087020831,1.9016930698581143]
[null,null,null,null,null,null,72.000000000000014,2.0599913469571018,1.8000000000000002E-2,7.2000000000000008E-2,4.8000000000000001E-2,4.6080000000000001E-3,{"$f":"IF(【事例2】危険部品判断シート!$O$36=0,2.51*0.56*(O70/K70)^0.25+0.0000000567*$F$9*(($F$10+273+O70)^2+($F$10+273)^2)*(($F$10+273+O70)+($F$10+273)),3.86*(【事例2】危険部品判断シート!$O$36/K70)^0.5+0.0000000567*$F$9*(($F$10+273+O70)^2+($F$10+273)^2)*(($F$10+273+O70)+($F$10+273)))","v":14.901557776020702},15.431223524350296,31.788186933122482,3.2400000000000007E-4,2.3040000000000001E-3,171.56238882288281,1.0883286719671224,109.79370147537384,0.26780693939903272,3.9397778404103585,19.371001364760655,2.0599913469571018]
[null,null,null,null,null,null,80.000000000000014,2.2242544013538823,2.0000000000000004E-2,8.0000000000000016E-2,0.05,5.000000000000001E-3,{"$f":"IF(【事例2】危険部品判断シート!$O$36=0,2.51*0.56*(O71/K71)^0.25+0.0000000567*$F$9*(($F$10+273+O71)^2+($F$10+273)^2)*(($F$10+273+O71)+($F$10+273)),3.86*(【事例2】危険部品判断シート!$O$36/K71)^0.5+0.0000000567*$F$9*(($F$10+273+O71)^2+($F$10+273)^2)*(($F$10+273+O71)+($F$10+273)))","v":14.828362675692546},14.287665791169971,31.779403521083108,4.0000000000000018E-4,2.5000000000000005E-3,161.36655993663416,0.94031597257959332,103.74981652104421,0.25259852023238644,3.5944775928121078,17.882143383982079,2.2242544013538823]
[null,null,null,null,null,null,88.000000000000028,2.3944593003236339,2.2000000000000006E-2,8.8000000000000023E-2,5.2000000000000005E-2,5.4080000000000013E-3,{"$f":"IF(【事例2】危険部品判断シート!$O$36=0,2.51*0.56*(O72/K72)^0.25+0.0000000567*$F$9*(($F$10+273+O72)^2+($F$10+273)^2)*(($F$10+273+O72)+($F$10+273)),3.86*(【事例2】危険部品判断シート!$O$36/K72)^0.5+0.0000000567*$F$9*(($F$10+273+O72)^2+($F$10+273)^2)*(($F$10+273+O72)+($F$10+273)))","v":14.758748152882347},13.268569557248995,31.771049778345898,4.8400000000000027E-4,2.7040000000000007E-3,152.53777616284754,0.82195452148565851,98.51008830857127,0.23932732153638372,3.3026942887649886,16.571263846013984,2.394459300323633]
[null,null,null,null,null,null,96.000000000000028,2.5705842324000145,2.4000000000000007E-2,9.600000000000003E-2,5.4000000000000006E-2,5.8320000000000012E-3,{"$f":"IF(【事例2】危険部品判断シート!$O$36=0,2.51*0.56*(O73/K73)^0.25+0.0000000567*$F$9*(($F$10+273+O73)^2+($F$10+273)^2)*(($F$10+273+O73)+($F$10+273)),3.86*(【事例2】危険部品判断シート!$O$36/K73)^0.5+0.0000000567*$F$9*(($F$10+273+O73)^2+($F$10+273)^2)*(($F$10+273+O73)+($F$10+273)))","v":14.692411021947951},12.356369778623552,31.763089322633761,5.7600000000000034E-4,2.9160000000000006E-3,144.78385179317976,0.72555244797808138,93.901179529594046,0.22759741783980311,3.0527616745493207,15.409131453172872,2.5705842324000141]
[null,null,null,null,null,null,104.00000000000004,2.7526084124237888,2.6000000000000009E-2,0.10400000000000004,5.6000000000000008E-2,6.2720000000000015E-3,{"$f":"IF(【事例2】危険部品判断シート!$O$36=0,2.51*0.56*(O74/K74)^0.25+0.0000000567*$F$9*(($F$10+273+O74)^2+($F$10+273)^2)*(($F$10+273+O74)+($F$10+273)),3.86*(【事例2】危険部品判断シート!$O$36/K74)^0.5+0.0000000567*$F$9*(($F$10+273+O74)^2+($F$10+273)^2)*(($F$10+273+O74)+($F$10+273)))","v":14.629083824531188},11.53650839531573,31.755490058943742,6.7600000000000049E-4,3.1360000000000008E-3,137.89596697639038,0.6458214097387317,89.799622334740363,0.21712182501765526,2.8361927090288757,14.372701104344605,2.7526084124237888]
[null,null,null,null,null,null,112.00000000000004,2.9405119977856344,2.8000000000000011E-2,0.11200000000000004,5.800000000000001E-2,6.7280000000000022E-3,{"$f":"IF(【事例2】危険部品判断シート!$O$36=0,2.51*0.56*(O75/K75)^0.25+0.0000000567*$F$9*(($F$10+273+O75)^2+($F$10+273)^2)*(($F$10+273+O75)+($F$10+273)),3.86*(【事例2】危険部品判断シート!$O$36/K75)^0.5+0.0000000567*$F$9*(($F$10+273+O75)^2+($F$10+273)^2)*(($F$10+273+O75)+($F$10+273)))","v":14.568529517368372},10.796835233453344,31.748223542084219,7.8400000000000063E-4,3.3640000000000011E-3,131.71994083207377,0.57901229838644919,86.114541378411971,0.20768608497974433,2.6466604151478434,13.443495648601187,2.9405119977856331]
[null,null,null,null,null,null,120.00000000000006,3.1342760141974879,3.0000000000000013E-2,0.12000000000000005,6.0000000000000012E-2,7.2000000000000024E-3,{"$f":"IF(【事例2】危険部品判断シート!$O$36=0,2.51*0.56*(O76/K76)^0.25+0.0000000567*$F$9*(($F$10+273+O76)^2+($F$10+273)^2)*(($F$10+273+O76)+($F$10+273)),3.86*(【事例2】危険部品判断シート!$O$36/K76)^0.5+0.0000000567*$F$9*(($F$10+273+O76)^2+($F$10+273)^2)*(($F$10+273+O76)+($F$10+273)))","v":14.51053710276614},10.127143974733539,31.74126445233194,9.0000000000000073E-4,3.6000000000000012E-3,126.13879994719511,0.52239776254421844,82.777191053675111,0.19912578587866675,2.4793491231339009,12.606493097867439,3.1342760141974875]
[null,null,null,null,null,null,128.00000000000006,3.3338822896226286,3.2000000000000015E-2,0.12800000000000006,6.2000000000000013E-2,7.688000000000003E-3,{"$f":"IF(【事例2】危険部品判断シート!$O$36=0,2.51*0.56*(O77/K77)^0.25+0.0000000567*$F$9*(($F$10+273+O77)^2+($F$10+273)^2)*(($F$10+273+O77)+($F$10+273)),3.86*(【事例2】危険部品判断シート!$O$36/K77)^0.5+0.0000000567*$F$9*(($F$10+273+O77)^2+($F$10+273)^2)*(($F$10+273+O77)+($F$10+273)))","v":14.45491800911649},9.5188094252380182,31.73459016109398,1.024000000000001E-3,3.8440000000000015E-3,121.06174188438237,0.47394958295342404,79.7343456489901,0.19131212312621915,2.3305272358986011,11.849336661136618,3.3338822896226286]
[null,null,null,null,null,null,136.00000000000006,3.53931339523003,3.4000000000000016E-2,0.13600000000000007,6.4000000000000015E-2,8.1920000000000031E-3,{"$f":"IF(【事例2】危険部品判断シート!$O$36=0,2.51*0.56*(O78/K78)^0.25+0.0000000567*$F$9*(($F$10+273+O78)^2+($F$10+273)^2)*(($F$10+273+O78)+($F$10+273)),3.86*(【事例2】危険部品判断シート!$O$36/K78)^0.5+0.0000000567*$F$9*(($F$10+273+O78)^2+($F$10+273)^2)*(($F$10+273+O78)+($F$10+273)))","v":14.40150307303885},8.9645015362372469,31.728180368764669,1.1560000000000012E-3,4.0960000000000015E-3,116.41688965637776,0.43213050210459247,76.94397010343566,0.18414230259364817,2.1972576528761212,11.161759189113369,3.5393133952300291]
[null,null,null,null,null,null,144.00000000000009,3.7505525924272392,3.6000000000000018E-2,0.14400000000000007,6.6000000000000017E-2,8.7120000000000045E-3,{"$f":"IF(【事例2】危険部品判断シート!$O$36=0,2.51*0.56*(O79/K79)^0.25+0.0000000567*$F$9*(($F$10+273+O79)^2+($F$10+273)^2)*(($F$10+273+O79)+($F$10+273)),3.86*(【事例2】危険部品判断シート!$O$36/K79)^0.5+0.0000000567*$F$9*(($F$10+273+O79)^2+($F$10+273)^2)*(($F$10+273+O79)+($F$10+273)))","v":14.350140007756494},8.4579581326178097,31.722016800930778,1.2960000000000014E-3,4.3560000000000022E-3,112.14638379037939,0.39575588071531692,74.372294671114389,0.17753296969025451,2.0771965623462498,10.53515469496406,3.7505525924272392]
[null,null,null,null,null,null,152.00000000000009,3.9675837851785287,3.800000000000002E-2,0.15200000000000008,6.8000000000000019E-2,9.2480000000000045E-3,{"$f":"IF(【事例2】危険部品判断シート!$O$36=0,2.51*0.56*(O80/K80)^0.25+0.0000000567*$F$9*(($F$10+273+O80)^2+($F$10+273)^2)*(($F$10+273+O80)+($F$10+273)),3.86*(【事例2】危険部品判断シート!$O$36/K80)^0.5+0.0000000567*$F$9*(($F$10+273+O80)^2+($F$10+273)^2)*(($F$10+273+O80)+($F$10+273)))","v":14.300691267223637},7.9938029464045002,31.716082952066841,1.4440000000000015E-3,4.6240000000000022E-3,108.20296589767989,0.36389937019334101,71.991783710537902,0.17141559147636184,1.9684505717435683,9.9622535181480689,3.9675837851785278]
[null,null,null,null,null,null,160.00000000000009,4.190391476939137,4.0000000000000022E-2,0.16000000000000009,7.0000000000000021E-2,9.8000000000000049E-3,{"$f":"IF(【事例2】危険部品判断シート!$O$36=0,2.51*0.56*(O81/K81)^0.25+0.0000000567*$F$9*(($F$10+273+O81)^2+($F$10+273)^2)*(($F$10+273+O81)+($F$10+273)),3.86*(【事例2】危険部品判断シート!$O$36/K81)^0.5+0.0000000567*$F$9*(($F$10+273+O81)^2+($F$10+273)^2)*(($F$10+273+O81)+($F$10+273)))","v":14.253032234486852},7.5673989035748024,31.710363868138423,1.6000000000000018E-3,4.9000000000000024E-3,104.54754281188151,0.33582713306414036,69.779691146623577,0.16573313581951751,1.869473303583665,9.4368722071584674,4.190391476939137]
[null,null,null,null,null,null,168.00000000000009,4.4189607316380863,4.2000000000000023E-2,0.16800000000000009,7.2000000000000022E-2,1.0368000000000006E-2,{"$f":"IF(【事例2】危険部品判断シート!$O$36=0,2.51*0.56*(O82/K82)^0.25+0.0000000567*$F$9*(($F$10+273+O82)^2+($F$10+273)^2)*(($F$10+273+O82)+($F$10+273)),3.86*(【事例2】危険部品判断シート!$O$36/K82)^0.5+0.0000000567*$F$9*(($F$10+273+O82)^2+($F$10+273)^2)*(($F$10+273+O82)+($F$10+273)))","v":14.207049677334375},7.1747290566049671,31.704845961280121,1.7640000000000019E-3,5.1840000000000028E-3,101.14741265440861,0.31095104913346328,67.717011140734357,0.16043763403361952,1.7789892716350282,8.9537183282399955,4.4189607316380863]
[null,null,null,null,null,null,176.00000000000011,4.653277138225814,4.4000000000000025E-2,0.1760000000000001,7.4000000000000024E-2,1.0952000000000007E-2,{"$f":"IF(【事例2】危険部品判断シート!$O$36=0,2.51*0.56*(O83/K83)^0.25+0.0000000567*$F$9*(($F$10+273+O83)^2+($F$10+273)^2)*(($F$10+273+O83)+($F$10+273)),3.86*(【事例2】危険部品判断シート!$O$36/K83)^0.5+0.0000000567*$F$9*(($F$10+273+O83)^2+($F$10+273)^2)*(($F$10+273+O83)+($F$10+273)))","v":14.162640425571619},6.8122993557944156,31.699516851068594,1.9360000000000022E-3,5.4760000000000034E-3,97.974948360133624,0.28879483187333932,65.787701301453026,0.1554883590761664,1.6959369795514567,8.5082363353458721,4.653277138225814]
[null,null,null,null,null,null,184.00000000000011,4.8933267783723213,4.6000000000000027E-2,0.18400000000000011,7.6000000000000026E-2,1.1552000000000008E-2,{"$f":"IF(【事例2】危険部品判断シート!$O$36=0,2.51*0.56*(O84/K84)^0.25+0.0000000567*$F$9*(($F$10+273+O84)^2+($F$10+273)^2)*(($F$10+273+O84)+($F$10+273)),3.86*(【事例2】危険部品判断シート!$O$36/K84)^0.5+0.0000000567*$F$9*(($F$10+273+O84)^2+($F$10+273)^2)*(($F$10+273+O84)+($F$10+273)))","v":14.119710233068785},6.4770587911790392,31.694365227968248,2.1160000000000024E-3,5.7760000000000042E-3,95.006604077305056,0.26896909970812155,63.97809782900837,0.15085044143511225,1.6194257992126211,8.0964845903916611,4.8933267783723213]
[null,null,null,null,null,null,192.00000000000011,5.1390961969594713,4.8000000000000029E-2,0.19200000000000012,7.8000000000000028E-2,1.2168000000000009E-2,{"$f":"IF(【事例2】危険部品判断シート!$O$36=0,2.51*0.56*(O85/K85)^0.25+0.0000000567*$F$9*(($F$10+273+O85)^2+($F$10+273)^2)*(($F$10+273+O85)+($F$10+273)),3.86*(【事例2】危険部品判断シート!$O$36/K85)^0.5+0.0000000567*$F$9*(($F$10+273+O85)^2+($F$10+273)^2)*(($F$10+273+O85)+($F$10+273)))","v":14.078172794651181},6.1663334409087458,31.689380735358146,2.3040000000000027E-3,6.0840000000000043E-3,92.222153805534703,0.25115277045395107,62.276468405517065,0.14649380199203793,1.5487028816588935,7.7150363225676397,5.1390961969594713]
[null,null,null,null,null,null,200.00000000000011,5.3905723750595111,5.0000000000000031E-2,0.20000000000000012,8.0000000000000029E-2,1.2800000000000009E-2,{"$f":"IF(【事例2】危険部品判断シート!$O$36=0,2.51*0.56*(O86/K86)^0.25+0.0000000567*$F$9*(($F$10+273+O86)^2+($F$10+273)^2)*(($F$10+273+O86)+($F$10+273)),3.86*(【事例2】危険部品判断シート!$O$36/K86)^0.5+0.0000000567*$F$9*(($F$10+273+O86)^2+($F$10+273)^2)*(($F$10+273+O86)+($F$10+273)))","v":14.037948893384129},5.8777717211998874,31.684553867206109,2.5000000000000031E-3,6.4000000000000046E-3,89.604099960396326,0.23507899314489825,60.672665646810529,0.14239231828545371,1.483127476117057,7.3608991973169449,5.3905723750595094]
[]
[null,null,null,null,null,null,null,null,null,null,"隙間",{"$f":"L60+E33","v":20}]
[null,null,null,null,null,null,null,"発熱量","部品L","周長","周囲幅","P表面積","熱伝達率","熱抵抗R0","温度上昇","As","Ap","λ","AC","BC","CC","Rc","Rt","ERR"]
[null,null,null,null,null,null,{"$f":"J90*1000","v":8},{"$f":"X90","v":1.6030888496202045},2E-3,{"$f":"I90*4","v":8.0000000000000002E-3},{"$f":"I90+$L$88/1000*2","v":4.2000000000000003E-2},{"$f":"K90^2*2","v":3.5280000000000003E-3},{"$f":"IF(【事例2】危険部品判断シート!$O$36=0,2.51*0.56*(O90/K90)^0.25+0.0000000567*$F$9*(($F$10+273+O90)^2+($F$10+273)^2)*(($F$10+273+O90)+($F$10+273)),3.86*(【事例2】危険部品判断シート!$O$36/K90)^0.5+0.0000000567*$F$9*(($F$10+273+O90)^2+($F$10+273)^2)*(($F$10+273+O90)+($F$10+273)))","v":15.146342116593004},{"$f":"1/L90/M90+$F$8/$M$3/L90","v":19.847659137251956},{"$f":"H90*N90","v":31.817561053991177},{"$f":"I90^2","v":3.9999999999999998E-6},{"$f":"K90^2","v":1.7640000000000002E-3},{"$f":"(PI()^1.5)/((Q90)^0.5)+1/(P90)^0.5","v":632.57923801980257},{"$f":"$F$6*(Q90^0.5-P90^0.5)/($L$3*(PI()*Q90*P90)^0.5)","v":14.925650358406251},{"$f":"R90*$L$3*Q90*N90/$F$6","v":398.65325315343483},{"$f":"TANH(R90*$F$8/$F$6)","v":0.76664024133959741},{"$f":"S90*(T90+U90)/(1+T90*U90)","v":19.442734236503739},{"$f":"N90+V90","v":39.290393373755691},{"$f":"L90*M90*$Q$3","v":1.6030888496202036}]
[null,null,null,null,null,null,{"$f":"J91*1000","v":16},{"$f":"X91","v":1.7493837322266632},{"$f":"I90+0.002","v":4.0000000000000001E-3},1.6E-2,{"$f":"I91+$L$88/1000*2","v":4.3999999999999997E-2},{"$f":"K91^2*2","v":3.8719999999999996E-3},{"$f":"IF(【事例2】危険部品判断シート!$O$36=0,2.51*0.56*(O91/K91)^0.25+0.0000000567*$F$9*(($F$10+273+O91)^2+($F$10+273)^2)*(($F$10+273+O91)+($F$10+273)),3.86*(【事例2】危険部品判断シート!$O$36/K91)^0.5+0.0000000567*$F$9*(($F$10+273+O91)^2+($F$10+273)^2)*(($F$10+273+O91)+($F$10+273)))","v":15.060121661730918},18.181954029561382,31.807214599407708,{"$f":"I91^2","v":1.5999999999999999E-5},{"$f":"K91^2","v":1.9359999999999998E-3},{"$f":"(PI()^1.5)/((Q91)^0.5)+1/(P91)^0.5","v":376.55290901890248},7.12360585287571,238.58570576419044,0.53881523213205573,{"$f":"S91*(T91+U91)/(1+T91*U91)","v":13.148447236033652},{"$f":"N91+V91","v":31.330401265595036},{"$f":"L91*M91*$Q$3","v":1.7493837322266632}]
[null,null,null,null,null,null,24,{"$f":"X92","v":1.9016930698581143},{"$f":"I91+0.002","v":6.0000000000000001E-3},2.4E-2,4.5999999999999999E-2,4.2319999999999997E-3,{"$f":"IF(【事例2】危険部品判断シート!$O$36=0,2.51*0.56*(O92/K92)^0.25+0.0000000567*$F$9*(($F$10+273+O92)^2+($F$10+273)^2)*(($F$10+273+O92)+($F$10+273)),3.86*(【事例2】危険部品判断シート!$O$36/K92)^0.5+0.0000000567*$F$9*(($F$10+273+O92)^2+($F$10+273)^2)*(($F$10+273+O92)+($F$10+273)))","v":14.978678874118735},16.72059596203222,31.797441464894241,3.6000000000000001E-5,2.1159999999999998E-3,287.71727529344292,4.5425892395149461,183.23391461559137,0.43036750560140707,10.447446698568001,27.168042660600221,1.9016930698581143]
[null,null,null,null,null,null,32,2.0599913469571018,8.0000000000000002E-3,3.2000000000000001E-2,4.8000000000000001E-2,4.6080000000000001E-3,{"$f":"IF(【事例2】危険部品判断シート!$O$36=0,2.51*0.56*(O93/K93)^0.25+0.0000000567*$F$9*(($F$10+273+O93)^2+($F$10+273)^2)*(($F$10+273+O93)+($F$10+273)),3.86*(【事例2】危険部品判断シート!$O$36/K93)^0.5+0.0000000567*$F$9*(($F$10+273+O93)^2+($F$10+273)^2)*(($F$10+273+O93)+($F$10+273)))","v":14.901557776020702},15.431223524350296,31.788186933122482,6.3999999999999997E-5,2.3040000000000001E-3,241.00683326732727,3.2649860159013677,154.2356252255027,0.3675702973974575,8.749453452663273,24.180676977013569,2.0599913469571018]
[null,null,null,null,null,null,40,2.2242544013538823,0.01,0.04,0.05,5.000000000000001E-3,{"$f":"IF(【事例2】危険部品判断シート!$O$36=0,2.51*0.56*(O94/K94)^0.25+0.0000000567*$F$9*(($F$10+273+O94)^2+($F$10+273)^2)*(($F$10+273+O94)+($F$10+273)),3.86*(【事例2】危険部品判断シート!$O$36/K94)^0.5+0.0000000567*$F$9*(($F$10+273+O94)^2+($F$10+273)^2)*(($F$10+273+O94)+($F$10+273)))","v":14.828362675692546},14.287665791169971,31.779403521083108,1E-4,2.5000000000000005E-3,211.36655993663419,2.5075092602122502,135.89706455117667,0.32585741320471845,7.5432224246199846,21.830888215789955,2.2242544013538823]
[null,null,null,null,null,null,48,2.3944593003236339,1.2E-2,4.8000000000000001E-2,5.2000000000000005E-2,{"$f":"K95^2*2","v":5.4080000000000013E-3},{"$f":"IF(【事例2】危険部品判断シート!$O$36=0,2.51*0.56*(O95/K95)^0.25+0.0000000567*$F$9*(($F$10+273+O95)^2+($F$10+273)^2)*(($F$10+273+O95)+($F$10+273)),3.86*(【事例2】危険部品判断シート!$O$36/K95)^0.5+0.0000000567*$F$9*(($F$10+273+O95)^2+($F$10+273)^2)*(($F$10+273+O95)+($F$10+273)))","v":14.758748152882347},13.268569557248995,31.771049778345898,1.44E-4,2.7040000000000007E-3,190.41656404163541,2.0092221636316108,122.97250563775398,0.2955772729586848,6.6315137140006319,19.900083271249628,2.394459300323633]
[null,null,null,null,null,null,56,2.5705842324000137,1.4E-2,5.6000000000000001E-2,5.3999999999999999E-2,5.8319999999999995E-3,{"$f":"IF(【事例2】危険部品判断シート!$O$36=0,2.51*0.56*(O96/K96)^0.25+0.0000000567*$F$9*(($F$10+273+O96)^2+($F$10+273)^2)*(($F$10+273+O96)+($F$10+273)),3.86*(【事例2】危険部品判断シート!$O$36/K96)^0.5+0.0000000567*$F$9*(($F$10+273+O96)^2+($F$10+273)^2)*(($F$10+273+O96)+($F$10+273)))","v":14.692411021947951},12.356369778623556,31.763089322633761,1.9600000000000002E-4,2.9159999999999998E-3,174.54575655508455,1.6584055953784724,113.20359431948673,0.27223228696026064,5.9146042381524913,18.270974016776048,2.5705842324000132]
[null,null,null,null,null,null,64,2.7526084124237884,1.6E-2,6.4000000000000001E-2,5.6000000000000001E-2,6.2720000000000007E-3,{"$f":"IF(【事例2】危険部品判断シート!$O$36=0,2.51*0.56*(O97/K97)^0.25+0.0000000567*$F$9*(($F$10+273+O97)^2+($F$10+273)^2)*(($F$10+273+O97)+($F$10+273)),3.86*(【事例2】危険部品判断シート!$O$36/K97)^0.5+0.0000000567*$F$9*(($F$10+273+O97)^2+($F$10+273)^2)*(($F$10+273+O97)+($F$10+273)))","v":14.629083824531188},11.536508395315732,31.755490058943742,2.5599999999999999E-4,3.1360000000000003E-3,161.93442851485196,1.3992797211005861,105.45377680346114,0.25344894105748683,5.3346264473658982,16.871134842681631,2.7526084124237884]
[null,null,null,null,null,null,72.000000000000014,2.9405119977856331,1.8000000000000002E-2,7.2000000000000008E-2,5.8000000000000003E-2,6.7280000000000005E-3,{"$f":"IF(【事例2】危険部品判断シート!$O$36=0,2.51*0.56*(O98/K98)^0.25+0.0000000567*$F$9*(($F$10+273+O98)^2+($F$10+273)^2)*(($F$10+273+O98)+($F$10+273)),3.86*(【事例2】危険部品判断シート!$O$36/K98)^0.5+0.0000000567*$F$9*(($F$10+273+O98)^2+($F$10+273)^2)*(($F$10+273+O98)+($F$10+273)))","v":14.568529517368376},10.796835233453344,31.748223542084204,3.2400000000000007E-4,3.3640000000000002E-3,151.56121067334362,1.2009143966533762,99.086167708889462,0.23785376338732289,4.8550781694141163,15.651913402867461,2.9405119977856331]
[null,null,null,null,null,null,80.000000000000014,3.1342760141974875,2.0000000000000004E-2,8.0000000000000016E-2,6.0000000000000005E-2,7.2000000000000015E-3,{"$f":"IF(【事例2】危険部品判断シート!$O$36=0,2.51*0.56*(O99/K99)^0.25+0.0000000567*$F$9*(($F$10+273+O99)^2+($F$10+273)^2)*(($F$10+273+O99)+($F$10+273)),3.86*(【事例2】危険部品判断シート!$O$36/K99)^0.5+0.0000000567*$F$9*(($F$10+273+O99)^2+($F$10+273)^2)*(($F$10+273+O99)+($F$10+273)))","v":14.510537102766142},10.127143974733539,31.741264452331936,4.0000000000000018E-4,3.6000000000000008E-3,142.8054666138618,1.0447955250884373,93.714506546387341,0.22459381808382831,4.4515825631382686,14.578726537871807,3.1342760141974875]
[null,null,null,null,null,null,88.000000000000028,3.3338822896226277,2.2000000000000006E-2,8.8000000000000023E-2,6.2000000000000006E-2,7.6880000000000013E-3,{"$f":"IF(【事例2】危険部品判断シート!$O$36=0,2.51*0.56*(O100/K100)^0.25+0.0000000567*$F$9*(($F$10+273+O100)^2+($F$10+273)^2)*(($F$10+273+O100)+($F$10+273)),3.86*(【事例2】危険部品判断シート!$O$36/K100)^0.5+0.0000000567*$F$9*(($F$10+273+O100)^2+($F$10+273)^2)*(($F$10+273+O100)+($F$10+273)))","v":14.45491800911649},9.51880942523802,31.73459016109398,4.8400000000000027E-4,3.8440000000000006E-3,135.26628733892784,0.91917494875815586,89.089820957954146,0.21310904434811101,4.1071573163307962,13.625966741568817,3.3338822896226277]
[null,null,null,null,null,null,96.000000000000028,3.5393133952300277,2.4000000000000007E-2,9.600000000000003E-2,6.4000000000000001E-2,8.1919999999999996E-3,{"$f":"IF(【事例2】危険部品判断シート!$O$36=0,2.51*0.56*(O101/K101)^0.25+0.0000000567*$F$9*(($F$10+273+O101)^2+($F$10+273)^2)*(($F$10+273+O101)+($F$10+273)),3.86*(【事例2】危険部品判断シート!$O$36/K101)^0.5+0.0000000567*$F$9*(($F$10+273+O101)^2+($F$10+273)^2)*(($F$10+273+O101)+($F$10+273)))","v":14.401503073038851},8.9645015362372487,31.728180368764654,5.7600000000000034E-4,4.0959999999999998E-3,128.67179161716211,0.81624650397534149,85.043660903235917,0.20301471547384281,3.8095737361985575,12.774075272435805,3.5393133952300277]
[null,null,null,null,null,null,104.00000000000004,3.7505525924272392,2.6000000000000009E-2,0.10400000000000004,6.6000000000000003E-2,8.712000000000001E-3,{"$f":"IF(【事例2】危険部品判断シート!$O$36=0,2.51*0.56*(O102/K102)^0.25+0.0000000567*$F$9*(($F$10+273+O102)^2+($F$10+273)^2)*(($F$10+273+O102)+($F$10+273)),3.86*(【事例2】危険部品判断シート!$O$36/K102)^0.5+0.0000000567*$F$9*(($F$10+273+O102)^2+($F$10+273)^2)*(($F$10+273+O102)+($F$10+273)))","v":14.350140007756494},8.4579581326178133,31.722016800930792,6.7600000000000049E-4,4.3560000000000005E-3,122.8301444741401,0.73062624132058529,81.457461137591949,0.19403652667591154,3.549786429101462,12.007744561719274,3.7505525924272374]
[null,null,null,null,null,null,112.00000000000004,3.9675837851785269,2.8000000000000011E-2,0.11200000000000004,6.8000000000000005E-2,9.248000000000001E-3,{"$f":"IF(【事例2】危険部品判断シート!$O$36=0,2.51*0.56*(O103/K103)^0.25+0.0000000567*$F$9*(($F$10+273+O103)^2+($F$10+273)^2)*(($F$10+273+O103)+($F$10+273)),3.86*(【事例2】危険部品判断シート!$O$36/K103)^0.5+0.0000000567*$F$9*(($F$10+273+O103)^2+($F$10+273)^2)*(($F$10+273+O103)+($F$10+273)))","v":14.300691267223637},7.9938029464045037,31.716082952066841,7.8400000000000063E-4,4.6240000000000005E-3,117.60146213828142,0.65848457463556942,78.244981143199013,0.18597271043767025,3.3209530718746825,11.314756018279187,3.9675837851785261]
[null,null,null,null,null,null,120.00000000000006,4.1903914769391353,3.0000000000000013E-2,0.12000000000000005,7.0000000000000007E-2,9.8000000000000014E-3,{"$f":"IF(【事例2】危険部品判断シート!$O$36=0,2.51*0.56*(O104/K104)^0.25+0.0000000567*$F$9*(($F$10+273+O104)^2+($F$10+273)^2)*(($F$10+273+O104)+($F$10+273)),3.86*(【事例2】危険部品判断シート!$O$36/K104)^0.5+0.0000000567*$F$9*(($F$10+273+O104)^2+($F$10+273)^2)*(($F$10+273+O104)+($F$10+273)))","v":14.253032234486854},7.567398903574805,31.710363868138419,9.0000000000000073E-4,4.9000000000000007E-3,112.88087614521487,0.59702601433624958,75.341729340751073,0.17867088001114831,3.117798239938661,10.685197143513467,4.1903914769391353]
[null,null,null,null,null,null,128.00000000000006,4.4189607316380846,3.2000000000000015E-2,0.12800000000000006,7.2000000000000008E-2,1.0368000000000002E-2,{"$f":"IF(【事例2】危険部品判断シート!$O$36=0,2.51*0.56*(O105/K105)^0.25+0.0000000567*$F$9*(($F$10+273+O105)^2+($F$10+273)^2)*(($F$10+273+O105)+($F$10+273)),3.86*(【事例2】危険部品判断シート!$O$36/K105)^0.5+0.0000000567*$F$9*(($F$10+273+O105)^2+($F$10+273)^2)*(($F$10+273+O105)+($F$10+273)))","v":14.207049677334375},7.1747290566049697,31.704845961280121,1.024000000000001E-3,5.1840000000000011E-3,108.58788884488482,0.54416433598356084,72.698323028605813,0.17201330852143265,2.9361870438378688,10.110916100442839,4.4189607316380846]
[null,null,null,null,null,null,136.00000000000006,4.6532771382258131,3.4000000000000016E-2,0.13600000000000007,7.400000000000001E-2,1.0952000000000003E-2,{"$f":"IF(【事例2】危険部品判断シート!$O$36=0,2.51*0.56*(O106/K106)^0.25+0.0000000567*$F$9*(($F$10+273+O106)^2+($F$10+273)^2)*(($F$10+273+O106)+($F$10+273)),3.86*(【事例2】危険部品判断シート!$O$36/K106)^0.5+0.0000000567*$F$9*(($F$10+273+O106)^2+($F$10+273)^2)*(($F$10+273+O106)+($F$10+273)))","v":14.162640425571613},6.81229935579442,31.699516851068609,1.1560000000000012E-3,5.4760000000000017E-3,104.65944033874325,0.49831265107556605,70.276168700530221,0.16590724902676049,2.7728315164129769,9.5851308722073973,4.6532771382258105]
[null,null,null,null,null,null,144.00000000000009,4.8933267783723204,3.6000000000000018E-2,0.14400000000000007,7.6000000000000012E-2,1.1552000000000003E-2,{"$f":"IF(【事例2】危険部品判断シート!$O$36=0,2.51*0.56*(O107/K107)^0.25+0.0000000567*$F$9*(($F$10+273+O107)^2+($F$10+273)^2)*(($F$10+273+O107)+($F$10+273)),3.86*(【事例2】危険部品判断シート!$O$36/K107)^0.5+0.0000000567*$F$9*(($F$10+273+O107)^2+($F$10+273)^2)*(($F$10+273+O107)+($F$10+273)))","v":14.119710233068785},6.4770587911790427,31.694365227968262,1.2960000000000014E-3,5.7760000000000016E-3,101.04525142030025,0.45824365135457745,68.044564304861666,0.16027837933062242,2.625083643698261,9.1021424348773046,4.8933267783723196]
[null,null,null,null,null,null,152.00000000000009,5.1390961969594686,3.800000000000002E-2,0.15200000000000008,7.8000000000000014E-2,1.2168000000000003E-2,{"$f":"IF(【事例2】危険部品判断シート!$O$36=0,2.51*0.56*(O108/K108)^0.25+0.0000000567*$F$9*(($F$10+273+O108)^2+($F$10+273)^2)*(($F$10+273+O108)+($F$10+273)),3.86*(【事例2】危険部品判断シート!$O$36/K108)^0.5+0.0000000567*$F$9*(($F$10+273+O108)^2+($F$10+273)^2)*(($F$10+273+O108)+($F$10+273)))","v":14.078172794651181},6.1663334409087485,31.689380735358142,1.4440000000000015E-3,6.0840000000000017E-3,97.704609945885579,0.42299413971191768,65.97870254905213,0.15506624664527685,2.4907864725659103,8.6571199134746593,5.1390961969594686]
[null,null,null,null,null,null,160.00000000000009,5.3905723750595094,4.0000000000000022E-2,0.16000000000000009,8.0000000000000016E-2,1.2800000000000006E-2,{"$f":"IF(【事例2】危険部品判断シート!$O$36=0,2.51*0.56*(O109/K109)^0.25+0.0000000567*$F$9*(($F$10+273+O109)^2+($F$10+273)^2)*(($F$10+273+O109)+($F$10+273)),3.86*(【事例2】危険部品判断シート!$O$36/K109)^0.5+0.0000000567*$F$9*(($F$10+273+O109)^2+($F$10+273)^2)*(($F$10+273+O109)+($F$10+273)))","v":14.037948893384129},5.8777717211998892,31.684553867206109,1.6000000000000018E-3,6.4000000000000029E-3,94.604099960396326,0.39179832190816366,64.058262158221666,0.15022102870941192,2.3681650593983847,8.2459367805982744,5.3905723750595076]
[null,null,null,null,null,null,168.00000000000009,5.6477427051328331,4.2000000000000023E-2,0.16800000000000009,8.2000000000000017E-2,1.3448000000000005E-2,{"$f":"IF(【事例2】危険部品判断シート!$O$36=0,2.51*0.56*(O110/K110)^0.25+0.0000000567*$F$9*(($F$10+273+O110)^2+($F$10+273)^2)*(($F$10+273+O110)+($F$10+273)),3.86*(【事例2】危険部品判断シート!$O$36/K110)^0.5+0.0000000567*$F$9*(($F$10+273+O110)^2+($F$10+273)^2)*(($F$10+273+O110)+($F$10+273)))","v":13.9989656581718},5.6092987115346142,31.679875878980617,1.7640000000000019E-3,6.7240000000000025E-3,91.715962795276326,0.3640402526440546,62.26639285552065,0.14570118343383223,2.2557453133576097,7.8650440248922244,5.6477427051328331]
[null,null,null,null,null,null,176.00000000000011,5.9105949682124885,4.4000000000000025E-2,0.1760000000000001,8.4000000000000019E-2,1.4112000000000006E-2,{"$f":"IF(【事例2】危険部品判断シート!$O$36=0,2.51*0.56*(O111/K111)^0.25+0.0000000567*$F$9*(($F$10+273+O111)^2+($F$10+273)^2)*(($F$10+273+O111)+($F$10+273)),3.86*(【事例2】危険部品判断シート!$O$36/K111)^0.5+0.0000000567*$F$9*(($F$10+273+O111)^2+($F$10+273)^2)*(($F$10+273+O111)+($F$10+273)))","v":13.961155915089961},5.3590778728981663,31.675338709810788,1.9360000000000022E-3,7.0560000000000032E-3,89.016891737173992,0.33921932632741447,60.588970150141925,0.14147171181078483,2.1522927275828052,7.511370600480971,5.9105949682124885]
[null,null,null,null,null,null,184.00000000000011,6.1791173128723109,4.6000000000000027E-2,0.18400000000000011,8.6000000000000021E-2,1.4792000000000007E-2,{"$f":"IF(【事例2】危険部品判断シート!$O$36=0,2.51*0.56*(O112/K112)^0.25+0.0000000567*$F$9*(($F$10+273+O112)^2+($F$10+273)^2)*(($F$10+273+O112)+($F$10+273)),3.86*(【事例2】危険部品判断シート!$O$36/K112)^0.5+0.0000000567*$F$9*(($F$10+273+O112)^2+($F$10+273)^2)*(($F$10+273+O112)+($F$10+273)))","v":13.924457618695484},5.1254788201328854,31.670934914243457,2.1160000000000024E-3,7.3960000000000033E-3,86.487130397941982,0.31692483066383315,59.014038882388938,0.1375028527025047,2.056765522379552,7.1822443425124369,6.1791173128723109]
[null,null,null,null,null,null,192.00000000000011,6.4532982358006485,4.8000000000000029E-2,0.19200000000000012,8.8000000000000023E-2,1.5488000000000009E-2,{"$f":"IF(【事例2】危険部品判断シート!$O$36=0,2.51*0.56*(O113/K113)^0.25+0.0000000567*$F$9*(($F$10+273+O113)^2+($F$10+273)^2)*(($F$10+273+O113)+($F$10+273)),3.86*(【事例2】危険部品判断シート!$O$36/K113)^0.5+0.0000000567*$F$9*(($F$10+273+O113)^2+($F$10+273)^2)*(($F$10+273+O113)+($F$10+273)))","v":13.888813351843673},4.9070500765865228,31.666657602221246,2.3040000000000027E-3,7.7440000000000044E-3,84.109787842784542,0.29681691053648762,57.531391310533344,0.13376908736075438,1.9682783867302625,6.8753284633167855,6.4532982358006485]
[null,null,null,null,null,null,200.00000000000011,6.7331265638230402,5.0000000000000031E-2,0.20000000000000012,9.0000000000000024E-2,1.620000000000001E-2,{"$f":"IF(【事例2】危険部品判断シート!$O$36=0,2.51*0.56*(O114/K114)^0.25+0.0000000567*$F$9*(($F$10+273+O114)^2+($F$10+273)^2)*(($F$10+273+O114)+($F$10+273)),3.86*(【事例2】危険部品判断シート!$O$36/K114)^0.5+0.0000000567*$F$9*(($F$10+273+O114)^2+($F$10+273)^2)*(($F$10+273+O114)+($F$10+273)))","v":13.854169884409536},4.7024959483534978,31.662500386129157,2.5000000000000031E-3,8.1000000000000048E-3,81.87031107590785,0.27861214002358309,56.132242733010038,0.13024836978377824,1.8860741182916358,6.5885700666451337,6.7331265638230393]

{"sheet":"【事例3】危険部品判断シート","index":22,"n_rows":54,"n_cols":18,"rows_kept":54,"cut":false,"hidden":false,"merged":[[35,2,35,4],[35,9,36,9],[35,10,36,10],[35,15,36,15],[35,16,36,16]]}
[]
[null,null,"熱対策が必要な部品かどうかを見分けるグラフ",null,null,null,null,null,null,null,"基板で対策が可能かどうかを見分けるグラフ"]
[]
[null,null,null,null,null,null,null,null,null,null,null,null,null,null,null,null,"放熱限界ラインの調整"]
[null,null,null,null,null,null,null,null,null,null,null,null,null,null,null,null,"基板熱伝導率",35.6]
[null,null,null,null,null,null,null,null,null,null,null,null,null,null,null,null,"部品周囲の放熱領域（㎜）"]
[null,null,null,null,null,null,null,null,null,null,null,null,null,null,null,null,"最小",5]
[null,null,null,null,null,null,null,null,null,null,null,null,null,null,null,null,"最大",20]
[]
[]
[]
[]
[]
[]
[]
[]
[]
[]
[]
[]
[]
[]
[]
[]
[]
[]
[]
[]
[]
[]
[]
[]
[]
[]
[" 部品リスト",null,null,null,null,null,"※色のついていないセルが入力部分です",null,null,null,null,null,null,"基板放射率",0.85]
["名称","許容温度"," 外形寸法(mm)",null,null,"消費電力","周長","表面積","熱流束","単体\n熱抵抗\nK/W","目標\n熱抵抗\nK/W","周囲温度℃",55,"風速[m/s]",0.66,"放射率","対流・放射熱伝達率\nW/m2K"]
[null,"(℃)","縦","横","高さ","Ｗ","mm","mm2","W/m2",null,null,"単体＜目標","目標＞30","単体÷目標","対策方針"]
["部品A",90,30,30,3,80,{"$f":"(C38+D38)*2","v":120},{"$f":"(C38*D38+D38*E38+E38*C38)*2","v":2160},{"$f":"F38/H38*1000000","v":37037.037037037036},{"$f":"1/H38/Q38*1000000","v":17.440680492091069},{"$f":"(B38-$M$36)/F38","v":0.4375},{"$f":"IF(J38<K38,\"○\",\"×\")","v":"×"},{"$f":"IF(OR(K38>=30,L38=\"○\"),\"○\",\"×\")","v":"×"},{"$f":"J38/K38","v":39.864412553351016},null,0.9,{"$f":"IF($O$36<>0,3.86*($O$36/MIN(C38,D38)*1000)^0.5+0.0000000567*P38*(($M$36+273+(B38-$M$36))^2+($M$36+273)^2)*(($M$36+273+(B38-$M$36))+($M$36+273)),2.51*0.56*((B38-$M$36)/(MIN(C38,D38)/1000))^0.25+0.0000000567*P38*(($M$36+273+(B38-$M$36))^2+($M$36+273)^2)*(($M$36+273+(B38-$M$36))+($M$36+273)))","v":26.545005693608438}]
["部品B",90,37,37,4.5,40,{"$f":"(C39+D39)*2","v":148},3404,11750.881316098708,{"$f":"1/H39/Q39*1000000","v":11.873098922496343},{"$f":"(B39-$M$36)/F39","v":0.875},"×","×",13.569255911424392,null,0.9,{"$f":"IF($O$36<>0,3.86*($O$36/MIN(C39,D39)*1000)^0.5+0.0000000567*P39*(($M$36+273+(B39-$M$36))^2+($M$36+273)^2)*(($M$36+273+(B39-$M$36))+($M$36+273)),2.51*0.56*((B39-$M$36)/(MIN(C39,D39)/1000))^0.25+0.0000000567*P39*(($M$36+273+(B39-$M$36))^2+($M$36+273)^2)*(($M$36+273+(B39-$M$36))+($M$36+273)))","v":24.742658578027033}]
["部品1",90,11,11,1.7,1.1000000000000001,44,316.79999999999995,3472.2222222222231,{"$f":"1/H40/Q40*1000000","v":82.332091732827308},{"$f":"(B40-$M$36)/F40","v":31.818181818181817},"×","○",2.5875800258888586,null,0.9,{"$f":"IF($O$36<>0,3.86*($O$36/MIN(C40,D40)*1000)^0.5+0.0000000567*P40*(($M$36+273+(B40-$M$36))^2+($M$36+273)^2)*(($M$36+273+(B40-$M$36))+($M$36+273)),2.51*0.56*((B40-$M$36)/(MIN(C40,D40)/1000))^0.25+0.0000000567*P40*(($M$36+273+(B40-$M$36))^2+($M$36+273)^2)*(($M$36+273+(B40-$M$36))+($M$36+273)))","v":38.339432293411257}]
["部品2",90,6,6,1,0.15,24,96,1562.4999999999998,{"$f":"1/H41/Q41*1000000","v":212.91517245839441},{"$f":"(B41-$M$36)/F41","v":233.33333333333334},{"$f":"IF(J41<K41,\"○\",\"×\")","v":"○"},"○",0.91249359625026172,null,0.9,{"$f":"IF($O$36<>0,3.86*($O$36/MIN(C41,D41)*1000)^0.5+0.0000000567*P41*(($M$36+273+(B41-$M$36))^2+($M$36+273)^2)*(($M$36+273+(B41-$M$36))+($M$36+273)),2.51*0.56*((B41-$M$36)/(MIN(C41,D41)/1000))^0.25+0.0000000567*P41*(($M$36+273+(B41-$M$36))^2+($M$36+273)^2)*(($M$36+273+(B41-$M$36))+($M$36+273)))","v":48.924022400057844}]
["部品3",90,10,10,1,0.7,40,240,2916.6666666666665,104.69330250040333,50,"×","○",2.0938660500080668,null,0.9,39.798789102584806]
["部品4",90,29,29,2.6,1.8,116,1983.6,907.44101633393836,18.772779583183315,19.444444444444443,"○","○",0.9654572357065706,null,0.9,26.854515375810571]
["部品5",90,10,20,1.5,1.2,60,490,2448.9795918367345,51.278352245095512,29.166666666666668,{"$f":"IF(J44<K44,\"○\",\"×\")","v":"×"},{"$f":"IF(OR(K44>=30,L44=\"○\"),\"○\",\"×\")","v":"×"},{"$f":"J44/K44","v":1.7581149341175604},null,0.9,39.798789102584806]
["部品6",90,19,19,2.2000000000000002,2.2000000000000002,76,889.2,2474.1340530814214,{"$f":"1/H45/Q45*1000000","v":36.056567293849866},15.909090909090908,"×","×",2.2664128013277058,null,0.9,31.19005696241377]
["部品7",90,8,12.5,1.2,0.3,41,249.2,1203.852327447833,92.248813409321571,116.66666666666667,"○","○",0.79070411493704196,null,0.9,43.500191961138952]
["部品8",90,31,31,2.23,3.5,{"$f":"(C47+D47)*2","v":124},{"$f":"(C47*D47+D47*E47+E47*C47)*2","v":2198.5200000000004},{"$f":"F47/H47*1000000","v":1591.9800593126281},{"$f":"1/H47/Q47*1000000","v":17.327280867990083},{"$f":"(B47-$M$36)/F47","v":10},{"$f":"IF(J47<K47,\"○\",\"×\")","v":"×"},{"$f":"IF(OR(K47>=30,L47=\"○\"),\"○\",\"×\")","v":"×"},{"$f":"J47/K47","v":1.7327280867990082},null,0.9,{"$f":"IF($O$36<>0,3.86*($O$36/MIN(C47,D47)*1000)^0.5+0.0000000567*P47*(($M$36+273+(B47-$M$36))^2+($M$36+273)^2)*(($M$36+273+(B47-$M$36))+($M$36+273)),2.51*0.56*((B47-$M$36)/(MIN(C47,D47)/1000))^0.25+0.0000000567*P47*(($M$36+273+(B47-$M$36))^2+($M$36+273)^2)*(($M$36+273+(B47-$M$36))+($M$36+273)))","v":26.250595750321864}]
["部品9",90,12,12,1.75,1.1000000000000001,48,372,2956.9892473118284,72.522900284036027,31.818181818181817,"×","○",2.2792911517839896,null,0.9,37.066527020879256]
["部品10",90,24,24,1.5,2,96,1296,1543.2098765432097,26.902050951491987,17.5,"×","×",1.5372600543709707,null,0.9,28.682011630373921]
["部品11",90,22.22,11.75,1.8,1.23,67.94,644.46199999999988,1908.5686976113413,41.522724680982343,28.45528455284553,"×","×",1.4592271816459508,null,0.9,37.369461659807214]
["部品12",90,12,18.399999999999999,1,2.1,60.8,502.4,4179.9363057324845,53.699281261268702,16.666666666666664,"×","×",3.2219568756761228,null,0.9,37.066527020879256]
["部品13",90,55,25,2.5,1.2,160,3150,380.95238095238096,11.22837579140139,29.166666666666668,"○","○",0.38497288427661908,null,0.9,28.273039962148957]
["UNIT1",80,150,130,100,30,560,95000,315.78947368421052,0.62782199344900858,0.83333333333333337,"○","○",0.7533863921388102,null,0.9,16.766401781572227]
["UNIT2",80,100,100,70,20,400,{"$f":"(C54*D54+D54*E54+E54*C54)*2","v":48000},416.66666666666669,1.1583367579309345,1.25,"○","○",0.92666940634474759,null,0.9,17.985558336719478]

{"sheet":"ダクト計算","index":23,"n_rows":38,"n_cols":7,"rows_kept":38,"cut":false,"hidden":false,"merged":[[16,0,16,1],[28,0,28,1],[29,1,29,2],[34,1,34,2]]}
[null,"流れ計算＋熱計算"]
["◆入力"]
[null,"ダクト幅（m）",0.05,null,"通風抵抗カーブ"]
[null,"ダクト高さ(m)",0.05,null,"Q　m3/s","Pfan","P"]
[null,"ダクト長さ（m）",0.4,null,0,{"$f":"-$C$13/$C$12*E5+$C$13","v":100},{"$f":"$C$24*E5^2","v":0}]
[null,"障害物開口率",0.32,null,{"$f":"E15/10","v":1E-3},90,1.5967013216757187]
[null,"ダクト内発熱量（W)",50,null,{"$f":"E6+$E$6","v":2E-3},80,6.3868052867028746]
[null,"部品流れ方向長さ（m）",0.03,null,3.0000000000000001E-3,70,14.370311895081469]
[null,"部品幅（m）",0.03,null,4.0000000000000001E-3,60,25.547221146811498]
[null,"部品高さ（m）",3.0000000000000001E-3,null,5.0000000000000001E-3,50,39.917533041892973]
[null,"部品発熱量（W)",5,null,6.0000000000000001E-3,40,57.481247580325878]
[null,"ファン最大風量m3/s",0.01,null,7.0000000000000001E-3,30,78.238364762110223]
[null,"ファン最大静圧Pa ",100,null,8.0000000000000002E-3,20,102.18888458724599]
[null,"空気の密度kg/m3",1.1499999999999999,null,9.0000000000000011E-3,9.9999999999999858,129.33280705573324]
[null,"周囲空気温度(℃）",25,null,{"$f":"C12","v":0.01},0,159.67013216757189]
[]
["◆流れ計算"]
[null,"レイノルズ数 Re",{"$f":"C27*C20/0.000017","v":6918.357216550804},"層流","乱流"]
[null,"摩擦係数",{"$f":"IF(C18>2000,E19,D19)","v":3.4692510568597838E-2},{"$f":"64/C18","v":9.2507510087644265E-3},{"$f":"0.3164/C18^0.25","v":3.4692510568597838E-2}]
[null,"ダクト等価直径",{"$f":"1.3*((C3*C4)^5/(C3+C4)^2)^(1/8)","v":5.4658266991491448E-2}]
[null,"摩擦圧損係数",{"$f":"C19*C5/C20","v":0.25388664864913013}]
[null,"局所圧損係数",{"$f":"2.5*(1-C6)/C6^2","v":16.601562499999996}]
[null,"入口圧損係数",0.5]
["①","通風抵抗　Pa･s2/m6",{"$f":"SUM(C21:C23)*C14/2/(C3*C4)^2","v":1596701.3216757188}]
["②","実効風量 m3/s",{"$f":"(-(C13/C12)+SQRT((C13/C12)^2-4*C24*(-C13)))/2/C24","v":5.3794274478036475E-3},"←グラフ交点算出"]
[null,"実効静圧 Pa",{"$f":"C24*C25^2","v":46.205725521963529}]
["②","流路平均風速 m/s",{"$f":"C25/C3/C4","v":2.151770979121459}]
["②","障害物通過風速 m/s",{"$f":"C27/C6","v":6.7242843097545588}]
["◆熱計算"]
[null,"部品が平均風速で冷却された場合"]
["③","空気温度上昇℃",{"$f":"C7/1150/C25","v":8.0823212677246623},"層流熱伝達率","乱流熱伝達率"]
["④","部品熱伝達率W/m2K",{"$f":"MAX(D32,E32)","v":32.690736139625287},{"$f":"3.86*SQRT(C27/C8)","v":32.690736139625287},{"$f":"6*(C27/C8^0.25)^0.8","v":22.333862402981769}]
["⑤","部品表面温度上昇℃",{"$f":"C11/((C8*C9+C9*C10+C8*C10)*2*C32)","v":70.809504103181325}]
[null,"部品表面温度℃",{"$f":"C15+C31+C33","v":103.89182537090599}]
[null,"部品が障害物通過風速で冷却された場合"]
["④","部品熱伝達率W/m2K",{"$f":"MAX(D36,E36)","v":57.789603015772954},{"$f":"3.86*SQRT(C28/C8)","v":57.789603015772954},{"$f":"6*(C28/C8^0.25)^0.8","v":55.570442304888736}]
["⑤","部品表面温度上昇℃",{"$f":"C11/((C8*C9+C9*C10+C8*C10)*2*C36)","v":40.055904419052936}]
[null,"部品表面温度℃",{"$f":"C15+C31+C37","v":73.138225686777602}]

{"sheet":"平板の対流放射","index":24,"n_rows":15,"n_cols":4,"rows_kept":15,"cut":false,"hidden":false,"merged":[]}
[null,"平板の自然対流＋熱放射"]
[]
[null,"平板幅(m)",0.2]
[null,"平板高さ(m)",0.1]
[null,"放射率",0.8]
[null,"発熱量（W)",10]
[null,"周囲空気温度(℃）",40]
[]
[null,null,null,"熱ｺﾝﾀﾞｸﾀﾝｽ"]
[null,null,"対流＋放射熱伝達率","　=熱伝達率×表面積"]
[null,"対流/放射熱伝達率",{"$f":"2.51*0.56*(C13/C4)^0.25+0.0000000567*C5*((273+C13+C7)^2+(273+C7)^2)*(273+C13+C7+273+C7)","v":10.280984389212675},{"$f":"C11*C3*C4*2","v":0.41123937556850704}]
[]
[null,"温度上昇（仮定）",10,"発熱量"]
[null,"温度上昇（結果）",{"$f":"1/D11*C6","v":24.316737632858633},{"$f":"D11*C13","v":4.11239375568507}]
[null,"誤差",{"$f":"C13-C14","v":-14.316737632858633},{"$f":"C6-D14","v":5.88760624431493}]

{"sheet":"平板の強制対流","index":25,"n_rows":14,"n_cols":6,"rows_kept":14,"cut":false,"hidden":false,"merged":[]}
[null,"平板の強制対流"]
[]
[null,"平板幅 (m)",0.1]
[null,"平板長さ (m)",0.2]
[null,"風速 (m/s)",1]
[null,"放射率",0.8]
[null,"発熱量 （W)",10]
[null,"周囲空気温度(℃）",25]
[]
[null,null,"層流","乱流","熱ｺﾝﾀﾞｸﾀﾝｽ","総合熱伝達率(対流＋放射）"]
[null,"対流熱伝達率",{"$f":"3.86*SQRT(C5/C4)","v":8.6312223931491889},{"$f":"6*(C5/C4^0.25)^0.8","v":8.2783779687672894},{"$f":"C3*C4*2*F11","v":0.55542829933571769},{"$f":"MAX(C11,D11)+0.0000000567*C6*((273+C13+C8)^2+(273+C8)^2)*(273+C13+C8+273+C8)","v":13.88570748339294}]
[]
[null,"温度上昇（結果）",{"$f":"1/E11*C7","v":18.004124046181694},"=1/熱コンダクタンス×発熱量"]
[null,"誤差"]

{"sheet":"LEEの式 (4)","index":26,"n_rows":114,"n_cols":25,"rows_kept":114,"cut":false,"hidden":true,"merged":[]}
[]
[null,null,null,null,null,null,null,null,null,null,null,"面方向","厚み方向"]
[null,null,null,null,null,null,null,null,null,null,"等価熱伝導率",{"$f":"【事例3】危険部品判断シート!R5","v":35.6},0.4,null,"ターゲット温度上昇",null,30]
[null,null,null,null,null,null,null,null,null,null,"隙間",{"$f":"【事例3】危険部品判断シート!R7","v":5}]
[null,null,null,null,"位置",null,null,"発熱量","部品L","周長","周囲幅","P表面積","熱伝達率","熱抵抗R0","温度上昇","As","Ap","λ","AC","BC","CC","Rc","Rt","ERR"]
[null,null,null,null,"C0",1,{"$f":"J6*1000","v":8},{"$f":"X6","v":0.316015311968117},2E-3,{"$f":"I6*4","v":8.0000000000000002E-3},{"$f":"I6+$L$4/1000*2","v":1.2E-2},{"$f":"K6^2*2","v":2.8800000000000001E-4},{"$f":"IF(【事例3】危険部品判断シート!$O$36=0,2.51*0.56*(O6/K6)^0.25+0.0000000567*$F$9*(($F$10+273+O6)^2+($F$10+273)^2)*(($F$10+273+O6)+($F$10+273)),3.86*(【事例3】危険部品判断シート!$O$36/K6)^0.5+0.0000000567*$F$9*(($F$10+273+O6)^2+($F$10+273)^2)*(($F$10+273+O6)+($F$10+273)))","v":36.57584629260613},{"$f":"1/L6/M6+$F$8/$M$3/L6","v":108.8209977577994},{"$f":"H6*N6","v":34.389101555112738},{"$f":"I6^2","v":3.9999999999999998E-6},{"$f":"K6^2","v":1.44E-4},{"$f":"(PI()^1.5)/((Q6)^0.5)+1/(P6)^0.5","v":964.02733306930907},{"$f":"$F$6*(Q6^0.5-P6^0.5)/($L$3*(PI()*Q6*P6)^0.5)","v":6.6033425040701816},{"$f":"R6*$L$3*Q6*N6/$F$6","v":537.79225226601272},{"$f":"TANH(R6*$F$8/$F$6)","v":0.91253009128967677},{"$f":"S6*(T6+U6)/(1+T6*U6)","v":7.2338393856710104},{"$f":"N6+V6","v":116.05483714347041},{"$f":"L6*M6*$Q$3","v":0.316015311968117},{"$f":"J6*1000","v":8}]
[null,null,null,null,null,null,{"$f":"J7*1000","v":16},{"$f":"X7","v":0.40505226295737368},{"$f":"I6+0.002","v":4.0000000000000001E-3},1.6E-2,{"$f":"I7+$L$4/1000*2","v":1.4E-2},{"$f":"K7^2*2","v":3.9200000000000004E-4},{"$f":"IF(【事例3】危険部品判断シート!$O$36=0,2.51*0.56*(O7/K7)^0.25+0.0000000567*$F$9*(($F$10+273+O7)^2+($F$10+273)^2)*(($F$10+273+O7)+($F$10+273)),3.86*(【事例3】危険部品判断シート!$O$36/K7)^0.5+0.0000000567*$F$9*(($F$10+273+O7)^2+($F$10+273)^2)*(($F$10+273+O7)+($F$10+273)))","v":34.443219639232453},{"$f":"1/L7/M7+$F$8/$M$3/L7","v":84.268598100141844},{"$f":"H7*N7","v":34.133186356707895},{"$f":"I7^2","v":1.5999999999999999E-5},{"$f":"K7^2","v":1.9600000000000002E-4},{"$f":"(PI()^1.5)/((Q7)^0.5)+1/(P7)^0.5","v":647.73771405940784},2.830003930315792,380.86496324278949,0.77645466972204769,{"$f":"S7*(T7+U7)/(1+T7*U7)","v":3.6398988024432635},{"$f":"N7+V7","v":87.908496902585114},{"$f":"L7*M7*$Q$3","v":0.40505226295737368},{"$f":"J7*1000","v":16}]
[null,null,null,null,"t",1.6000000000000001E-3,24,{"$f":"X8","v":0.50264317925437418},{"$f":"I7+0.002","v":6.0000000000000001E-3},2.4E-2,1.6E-2,5.1199999999999998E-4,{"$f":"IF(【事例3】危険部品判断シート!$O$36=0,2.51*0.56*(O8/K8)^0.25+0.0000000567*$F$9*(($F$10+273+O8)^2+($F$10+273)^2)*(($F$10+273+O8)+($F$10+273)),3.86*(【事例3】危険部品判断シート!$O$36/K8)^0.5+0.0000000567*$F$9*(($F$10+273+O8)^2+($F$10+273)^2)*(($F$10+273+O8)+($F$10+273)))","v":32.724165316039986},67.496986407439763,33.9268998379248,3.6000000000000001E-5,2.5599999999999999E-4,514.68716646864846,1.6508356260175454,316.60493910532165,0.6769700699595429,2.432430452964828,69.929416860404586,0.50264317925437418,24]
[null,null,null,null,"放射率",{"$f":"【事例3】危険部品判断シート!O35","v":0.85},32,0.60847689578706454,8.0000000000000002E-3,3.2000000000000001E-2,1.8000000000000002E-2,6.4800000000000014E-4,{"$f":"IF(【事例3】危険部品判断シート!$O$36=0,2.51*0.56*(O9/K9)^0.25+0.0000000567*$F$9*(($F$10+273+O9)^2+($F$10+273)^2)*(($F$10+273+O9)+($F$10+273)),3.86*(【事例3】危険部品判断シート!$O$36/K9)^0.5+0.0000000567*$F$9*(($F$10+273+O9)^2+($F$10+273)^2)*(($F$10+273+O9)+($F$10+273)))","v":31.300251840898376},55.476272730527256,33.756030220907803,6.3999999999999997E-5,3.2400000000000007E-4,434.35155537953932,1.1005570840116972,277.93527095632891,0.60116053184182494,1.8237652723947984,57.300038002922058,0.60847689578706454,32]
[null,null,null,null,"室温",{"$f":"【事例3】危険部品判断シート!M36","v":55},40,0.72229599579773685,0.01,0.04,0.02,8.0000000000000004E-4,{"$f":"IF(【事例3】危険部品判断シート!$O$36=0,2.51*0.56*(O10/K10)^0.25+0.0000000567*$F$9*(($F$10+273+O10)^2+($F$10+273)^2)*(($F$10+273+O10)+($F$10+273)),3.86*(【事例3】危険部品判断シート!$O$36/K10)^0.5+0.0000000567*$F$9*(($F$10+273+O10)^2+($F$10+273)^2)*(($F$10+273+O10)+($F$10+273)))","v":30.095666491572366},46.534218899921527,33.611479978988683,1E-4,4.0000000000000002E-4,378.41639984158542,0.79240110048842172,250.7565969782116,0.54092779792344237,1.4573087403011828,47.991527640222706,0.72229599579773685,40]
[null,null,null,null,null,null,48,0.8438829042850432,1.2E-2,4.8000000000000001E-2,2.1999999999999999E-2,{"$f":"K11^2*2","v":9.6799999999999989E-4},{"$f":"IF(【事例3】危険部品判断シート!$O$36=0,2.51*0.56*(O11/K11)^0.25+0.0000000567*$F$9*(($F$10+273+O11)^2+($F$10+273)^2)*(($F$10+273+O11)+($F$10+273)),3.86*(【事例3】危険部品判断シート!$O$36/K11)^0.5+0.0000000567*$F$9*(($F$10+273+O11)^2+($F$10+273)^2)*(($F$10+273+O11)+($F$10+273)))","v":29.05932865995328},39.682187266923542,33.487119439194402,1.44E-4,4.8399999999999995E-4,336.43915137113828,0.60030386400638003,230.03689172733323,0.49170205506160097,1.2127567756835529,40.894944042607094,0.8438829042850432,48]
[null,null,null,null,null,null,56,0.9730505547235021,1.4E-2,5.6000000000000001E-2,2.4E-2,1.152E-3,{"$f":"IF(【事例3】危険部品判断シート!$O$36=0,2.51*0.56*(O12/K12)^0.25+0.0000000567*$F$9*(($F$10+273+O12)^2+($F$10+273)^2)*(($F$10+273+O12)+($F$10+273)),3.86*(【事例3】危険部品判断シート!$O$36/K12)^0.5+0.0000000567*$F$9*(($F$10+273+O12)^2+($F$10+273)^2)*(($F$10+273+O12)+($F$10+273)))","v":28.155397995471702},34.303097200269661,33.378647759456605,1.9600000000000002E-4,5.7600000000000001E-4,303.44223796322598,0.47166732171929865,213.44296641022561,0.45064358951546418,1.0380702446804038,35.341167444950067,0.9730505547235021,56]
[null,null,null,null,null,null,64,1.1096358587772728,1.6E-2,6.4000000000000001E-2,2.6000000000000002E-2,1.3520000000000003E-3,{"$f":"IF(【事例3】危険部品判断シート!$O$36=0,2.51*0.56*(O13/K13)^0.25+0.0000000567*$F$9*(($F$10+273+O13)^2+($F$10+273)^2)*(($F$10+273+O13)+($F$10+273)),3.86*(【事例3】危険部品判断シート!$O$36/K13)^0.5+0.0000000567*$F$9*(($F$10+273+O13)^2+($F$10+273)^2)*(($F$10+273+O13)+($F$10+273)))","v":27.357886064528415},29.994476173849023,33.28294632774341,2.5599999999999999E-4,6.7600000000000017E-4,276.66646141660419,0.3809620675425105,199.70755338390313,0.41585212525732529,0.90708513146907621,30.901561305318101,1.1096358587772728,64]
[null,null,null,null,null,null,72.000000000000014,1.2534949809292939,1.8000000000000002E-2,7.2000000000000008E-2,2.8000000000000004E-2,1.5680000000000004E-3,{"$f":"IF(【事例3】危険部品判断シート!$O$36=0,2.51*0.56*(O14/K14)^0.25+0.0000000567*$F$9*(($F$10+273+O14)^2+($F$10+273)^2)*(($F$10+273+O14)+($F$10+273)),3.86*(【事例3】危険部品判断シート!$O$36/K14)^0.5+0.0000000567*$F$9*(($F$10+273+O14)^2+($F$10+273)^2)*(($F$10+273+O14)+($F$10+273)))","v":26.647427315673756},26.484103871935201,33.19769127788085,3.2400000000000007E-4,7.8400000000000019E-4,254.4244125852594,0.31444488114619912,188.06592902268147,0.38598973202305409,0.8052251559760264,27.289329027911226,1.2534949809292939,72.000000000000014]
[null,null,null,null,null,null,80.000000000000014,1.404499822912,2.0000000000000004E-2,8.0000000000000016E-2,3.0000000000000006E-2,1.8000000000000006E-3,{"$f":"IF(【事例3】危険部品判断シート!$O$36=0,2.51*0.56*(O15/K15)^0.25+0.0000000567*$F$9*(($F$10+273+O15)^2+($F$10+273)^2)*(($F$10+273+O15)+($F$10+273)),3.86*(【事例3】危険部品判断シート!$O$36/K15)^0.5+0.0000000567*$F$9*(($F$10+273+O15)^2+($F$10+273)^2)*(($F$10+273+O15)+($F$10+273)))","v":26.009255979851844},23.582139475753745,33.121110717582219,4.0000000000000018E-4,9.000000000000003E-4,235.61093322772359,0.26413370016280718,178.02096485601336,0.36007971902724906,0.72373558773818825,24.305875063491932,1.404499822912,80.000000000000014]
[null,null,null,null,null,null,88.000000000000028,1.5625353464934064,2.2000000000000006E-2,8.8000000000000023E-2,3.2000000000000008E-2,2.0480000000000008E-3,{"$f":"IF(【事例3】危険部品判断シート!$O$36=0,2.51*0.56*(O16/K16)^0.25+0.0000000567*$F$9*(($F$10+273+O16)^2+($F$10+273)^2)*(($F$10+273+O16)+($F$10+273)),3.86*(【事例3】危険部品判断シート!$O$36/K16)^0.5+0.0000000567*$F$9*(($F$10+273+O16)^2+($F$10+273)^2)*(($F$10+273+O16)+($F$10+273)))","v":25.431890405166111},21.152690672114282,33.051826848619939,4.8400000000000027E-4,1.0240000000000004E-3,219.4647953555363,0.22511394900239245,169.23120137508153,0.3373894215775724,0.65704554874074561,21.809736220855029,1.5625353464934064,88.000000000000028]
[null,null,null,null,null,null,96.000000000000028,{"$f":"X17","v":1.7274974937685774},2.4000000000000007E-2,9.600000000000003E-2,3.4000000000000009E-2,2.3120000000000011E-3,{"$f":"IF(【事例3】危険部品判断シート!$O$36=0,2.51*0.56*(O17/K17)^0.25+0.0000000567*$F$9*(($F$10+273+O17)^2+($F$10+273)^2)*(($F$10+273+O17)+($F$10+273)),3.86*(【事例3】危険部品判断シート!$O$36/K17)^0.5+0.0000000567*$F$9*(($F$10+273+O17)^2+($F$10+273)^2)*(($F$10+273+O17)+($F$10+273)))","v":24.906249910158255},19.096265035530234,32.988749989218995,5.7600000000000034E-4,1.1560000000000006E-3,205.44101951465805,0.19421595600206407,161.45199925652085,0.3173572498856026,0.60144363866069517,19.697708674190928,{"$f":"L17*M17*$Q$3","v":1.7274974937685774},96.000000000000028]
[null,null,null,null,null,null,104.00000000000004,{"$f":"X18","v":1.8992915436605944},2.6000000000000009E-2,0.10400000000000004,3.6000000000000011E-2,2.5920000000000014E-3,{"$f":"IF(【事例3】危険部品判断シート!$O$36=0,2.51*0.56*(O18/K18)^0.25+0.0000000567*$F$9*(($F$10+273+O18)^2+($F$10+273)^2)*(($F$10+273+O18)+($F$10+273)),3.86*(【事例3】危険部品判断シート!$O$36/K18)^0.5+0.0000000567*$F$9*(($F$10+273+O18)^2+($F$10+273)^2)*(($F$10+273+O18)+($F$10+273)))","v":24.425045571766887},17.338573205639904,32.931005468612035,6.7600000000000049E-4,1.2960000000000007E-3,193.13731615130808,0.16931647446333792,154.50215739028133,0.29954502429688962,0.55436300944750605,17.89293621508741,{"$f":"L18*M18*$Q$3","v":1.8992915436605944},104.00000000000004]
[null,null,null,null,null,null,112.00000000000004,2.0778307935742784,2.8000000000000011E-2,0.11200000000000004,3.8000000000000013E-2,2.8880000000000021E-3,{"$f":"IF(【事例3】危険部品判断シート!$O$36=0,2.51*0.56*(O19/K19)^0.25+0.0000000567*$F$9*(($F$10+273+O19)^2+($F$10+273)^2)*(($F$10+273+O19)+($F$10+273)),3.86*(【事例3】危険部品判断シート!$O$36/K19)^0.5+0.0000000567*$F$9*(($F$10+273+O19)^2+($F$10+273)^2)*(($F$10+273+O19)+($F$10+273)))","v":23.98234987966617},15.82317582703811,32.877881985559931,7.8400000000000063E-4,1.4440000000000011E-3,182.24923299933062,0.14894757527977845,148.24380530050186,0.28360565836302504,0.51397230143383432,16.337148128471945,2.0778307935742784,112.00000000000004]
[null,null,null,null,null,null,120.00000000000006,2.2630354878726653,3.0000000000000013E-2,0.12000000000000005,4.0000000000000015E-2,3.2000000000000023E-3,{"$f":"IF(【事例3】危険部品判断シート!$O$36=0,2.51*0.56*(O20/K20)^0.25+0.0000000567*$F$9*(($F$10+273+O20)^2+($F$10+273)^2)*(($F$10+273+O20)+($F$10+273)),3.86*(【事例3】危険部品判断シート!$O$36/K20)^0.5+0.0000000567*$F$9*(($F$10+273+O20)^2+($F$10+273)^2)*(($F$10+273+O20)+($F$10+273)))","v":23.573286332006916},14.506530956216277,32.828794359840828,9.0000000000000073E-4,1.6000000000000012E-3,172.54153325412599,0.13206685008140354,142.56968915915272,0.2692605997557056,0.47893009512486256,14.98546105134114,2.2630354878726657,120.00000000000006]
[null,null,null,null,null,null,128.00000000000006,2.4548319367492004,3.2000000000000015E-2,0.12800000000000006,4.2000000000000016E-2,3.5280000000000029E-3,{"$f":"IF(【事例3】危険部品判断シート!$O$36=0,2.51*0.56*(O21/K21)^0.25+0.0000000567*$F$9*(($F$10+273+O21)^2+($F$10+273)^2)*(($F$10+273+O21)+($F$10+273)),3.86*(【事例3】危険部品判断シート!$O$36/K21)^0.5+0.0000000567*$F$9*(($F$10+273+O21)^2+($F$10+273)^2)*(($F$10+273+O21)+($F$10+273)))","v":23.193801367622811},13.354582720447988,32.783256164114739,1.024000000000001E-3,1.7640000000000015E-3,163.82923801980252,0.11791683042982458,137.39480518728476,0.25628370432311187,0.44823146643140799,13.802814186879395,2.4548319367492004,128.00000000000006]
[null,null,null,null,null,null,136.00000000000006,2.6531517840803032,3.4000000000000016E-2,0.13600000000000007,4.4000000000000018E-2,3.872000000000003E-3,{"$f":"IF(【事例3】危険部品判断シート!$O$36=0,2.51*0.56*(O22/K22)^0.25+0.0000000567*$F$9*(($F$10+273+O22)^2+($F$10+273)^2)*(($F$10+273+O22)+($F$10+273)),3.86*(【事例3】危険部品判断シート!$O$36/K22)^0.5+0.0000000567*$F$9*(($F$10+273+O22)^2+($F$10+273)^2)*(($F$10+273+O22)+($F$10+273)))","v":22.840494008955762},12.340364195342893,32.740859281074691,1.1560000000000012E-3,1.9360000000000015E-3,155.96467372478477,0.10593597600112582,132.65070698801622,0.24448947694923887,0.4211087535018348,12.761472948844728,2.6531517840803032,136.00000000000006]
[null,null,null,null,null,null,144.00000000000009,2.8579313933506167,3.6000000000000018E-2,0.14400000000000007,4.600000000000002E-2,4.232000000000004E-3,{"$f":"IF(【事例3】危険部品判断シート!$O$36=0,2.51*0.56*(O23/K23)^0.25+0.0000000567*$F$9*(($F$10+273+O23)^2+($F$10+273)^2)*(($F$10+273+O23)+($F$10+273)),3.86*(【事例3】危険部品判断シート!$O$36/K23)^0.5+0.0000000567*$F$9*(($F$10+273+O23)^2+($F$10+273)^2)*(($F$10+273+O23)+($F$10+273)))","v":22.510486715111956},11.442282513113351,32.701258405813434,1.2960000000000014E-3,2.116000000000002E-3,148.82838640455398,9.5700616001017036E-2,128.28152109256055,0.23372434888504259,0.39696545479620793,11.839247967909559,2.8579313933506167,144.00000000000009]
[null,null,null,null,null,null,152.00000000000009,3.069111328237955,3.800000000000002E-2,0.15200000000000008,4.8000000000000022E-2,4.6080000000000045E-3,{"$f":"IF(【事例3】危険部品判断シート!$O$36=0,2.51*0.56*(O24/K24)^0.25+0.0000000567*$F$9*(($F$10+273+O24)^2+($F$10+273)^2)*(($F$10+273+O24)+($F$10+273)),3.86*(【事例3】危険部品判断シート!$O$36/K24)^0.5+0.0000000567*$F$9*(($F$10+273+O24)^2+($F$10+273)^2)*(($F$10+273+O24)+($F$10+273)))","v":22.201326159128705},10.642872038743757,32.664159139095446,1.4440000000000015E-3,2.3040000000000022E-3,142.3226227410114,8.6886085579870737E-2,124.24108964893098,0.22386011000054215,0.37533104510635751,11.018203083850114,3.069111328237955,152.00000000000009]
[null,null,null,null,null,null,160.00000000000009,3.2866359098818441,4.0000000000000022E-2,0.16000000000000009,5.0000000000000024E-2,5.0000000000000044E-3,{"$f":"IF(【事例3】危険部品判断シート!$O$36=0,2.51*0.56*(O25/K25)^0.25+0.0000000567*$F$9*(($F$10+273+O25)^2+($F$10+273)^2)*(($F$10+273+O25)+($F$10+273)),3.86*(【事例3】危険部品判断シート!$O$36/K25)^0.5+0.0000000567*$F$9*(($F$10+273+O25)^2+($F$10+273)^2)*(($F$10+273+O25)+($F$10+273)))","v":21.91090606587894},9.9278744657416311,32.629308727905475,1.6000000000000018E-3,2.5000000000000022E-3,136.3665599366341,7.9240110048842113E-2,120.49087786545837,0.21478889752092473,0.35582937991571045,10.283703845657342,3.2866359098818441,160.00000000000009]
[null,null,null,null,null,null,168.00000000000009,3.5104528368642489,4.2000000000000023E-2,0.16800000000000009,5.2000000000000025E-2,5.4080000000000057E-3,{"$f":"IF(【事例3】危険部品判断シート!$O$36=0,2.51*0.56*(O26/K26)^0.25+0.0000000567*$F$9*(($F$10+273+O26)^2+($F$10+273)^2)*(($F$10+273+O26)+($F$10+273)),3.86*(【事例3】危険部品判断シート!$O$36/K26)^0.5+0.0000000567*$F$9*(($F$10+273+O26)^2+($F$10+273)^2)*(($F$10+273+O26)+($F$10+273)))","v":21.63740653885753},9.285550981445482,32.596488784662903,1.7640000000000019E-3,2.7040000000000028E-3,130.89275451782584,7.2564203341430503E-2,116.99841307397622,0.20641932653849454,0.33815615142998356,9.6237071328754649,3.5104528368642494,168.00000000000009]
[null,null,null,null,null,null,176.00000000000011,3.7405128569221788,4.4000000000000025E-2,0.1760000000000001,5.4000000000000027E-2,5.8320000000000056E-3,{"$f":"IF(【事例3】危険部品判断シート!$O$36=0,2.51*0.56*(O27/K27)^0.25+0.0000000567*$F$9*(($F$10+273+O27)^2+($F$10+273)^2)*(($F$10+273+O27)+($F$10+273)),3.86*(【事例3】危険部品判断シート!$O$36/K27)^0.5+0.0000000567*$F$9*(($F$10+273+O27)^2+($F$10+273)^2)*(($F$10+273+O27)+($F$10+273)))","v":21.379245867182071},8.7061616280228105,32.565509504061851,1.9360000000000022E-3,2.9160000000000028E-3,125.8444578537858,6.6700429334042188E-2,113.73610130187177,0.19867346971582525,0.32206251055840812,9.0282241385812192,3.7405128569221788,176.00000000000011]
[null,null,null,null,null,null,184.00000000000011,3.9767694816742969,4.6000000000000027E-2,0.18400000000000011,5.6000000000000029E-2,6.2720000000000067E-3,{"$f":"IF(【事例3】危険部品判断シート!$O$36=0,2.51*0.56*(O28/K28)^0.25+0.0000000567*$F$9*(($F$10+273+O28)^2+($F$10+273)^2)*(($F$10+273+O28)+($F$10+273)),3.86*(【事例3】危険部品判断シート!$O$36/K28)^0.5+0.0000000567*$F$9*(($F$10+273+O28)^2+($F$10+273)^2)*(($F$10+273+O28)+($F$10+273)))","v":21.135041888149939},8.1815667658160613,32.536205026577989,2.1160000000000024E-3,3.1360000000000034E-3,121.17355894963448,6.152182457208237E-2,110.68031701406741,0.19148447646351829,0.30734297404424998,8.4889097398603113,3.9767694816742969,184.00000000000011]
[null,null,null,null,null,null,192.00000000000011,4.2191787373749126,4.8000000000000029E-2,0.19200000000000012,5.8000000000000031E-2,6.7280000000000074E-3,{"$f":"IF(【事例3】危険部品判断シート!$O$36=0,2.51*0.56*(O29/K29)^0.25+0.0000000567*$F$9*(($F$10+273+O29)^2+($F$10+273)^2)*(($F$10+273+O29)+($F$10+273)),3.86*(【事例3】危険部品判断シート!$O$36/K29)^0.5+0.0000000567*$F$9*(($F$10+273+O29)^2+($F$10+273)^2)*(($F$10+273+O29)+($F$10+273)))","v":20.903580744029469},7.7049188272857148,32.508429689283531,2.3040000000000027E-3,3.3640000000000037E-3,116.83898845112137,5.6925366414398056E-2,107.81069386824197,0.184794679131945,0.29382636384349553,7.9987451911292107,4.2191787373749126,192.00000000000011]
[null,null,null,null,null,null,200.00000000000011,4.4676989460477721,5.0000000000000031E-2,0.20000000000000012,6.0000000000000032E-2,7.2000000000000076E-3,{"$f":"IF(【事例3】危険部品判断シート!$O$36=0,2.51*0.56*(O30/K30)^0.25+0.0000000567*$F$9*(($F$10+273+O30)^2+($F$10+273)^2)*(($F$10+273+O30)+($F$10+273)),3.86*(【事例3】危険部品判断シート!$O$36/K30)^0.5+0.0000000567*$F$9*(($F$10+273+O30)^2+($F$10+273)^2)*(($F$10+273+O30)+($F$10+273)))","v":20.683791416887811},7.2704216112773006,32.482054970026539,2.5000000000000031E-3,3.6000000000000038E-3,112.80546661386175,5.2826740032561409E-2,105.10956562784845,0.17855407395523462,0.28136892751316317,7.5517905387904634,4.4676989460477721,200.00000000000011]
[]
[null,null,null,null,null,null,null,null,null,null,"隙間",{"$f":"L4+E33","v":10}]
[null,null,null,null,{"$f":"(【事例3】危険部品判断シート!R8-【事例3】危険部品判断シート!R7)/3","v":5},null,null,"発熱量","部品L","周長","周囲幅","P表面積","熱伝達率","熱抵抗R0","温度上昇","As","Ap","λ","AC","BC","CC","Rc","Rt","ERR"]
[null,null,null,null,null,null,{"$f":"J34*1000","v":8},{"$f":"X34","v":0.8438829042850432},2E-3,{"$f":"I34*4","v":8.0000000000000002E-3},{"$f":"I34+$L$32/1000*2","v":2.1999999999999999E-2},{"$f":"K34^2*2","v":9.6799999999999989E-4},{"$f":"IF(【事例3】危険部品判断シート!$O$36=0,2.51*0.56*(O34/K34)^0.25+0.0000000567*$F$9*(($F$10+273+O34)^2+($F$10+273)^2)*(($F$10+273+O34)+($F$10+273)),3.86*(【事例3】危険部品判断シート!$O$36/K34)^0.5+0.0000000567*$F$9*(($F$10+273+O34)^2+($F$10+273)^2)*(($F$10+273+O34)+($F$10+273)))","v":29.05932865995328},{"$f":"1/L34/M34+$F$8/$M$3/L34","v":39.682187266923542},{"$f":"H34*N34","v":33.487119439194402},{"$f":"I34^2","v":3.9999999999999998E-6},{"$f":"K34^2","v":4.8399999999999995E-4},{"$f":"(PI()^1.5)/((Q34)^0.5)+1/(P34)^0.5","v":753.10581803780497},{"$f":"$F$6*(Q34^0.5-P34^0.5)/($L$3*(PI()*Q34*P34)^0.5)","v":7.2036463680765603},{"$f":"R34*$L$3*Q34*N34/$F$6","v":514.92854151233291},{"$f":"TANH(R34*$F$8/$F$6)","v":0.83516407988298669},{"$f":"S34*(T34+U34)/(1+T34*U34)","v":8.6193733498759908},{"$f":"N34+V34","v":48.301560616799534},{"$f":"L34*M34*$Q$3","v":0.8438829042850432}]
[null,null,null,null,null,null,{"$f":"J35*1000","v":16},{"$f":"X35","v":0.9730505547235021},{"$f":"I34+0.002","v":4.0000000000000001E-3},1.6E-2,{"$f":"I35+$L$32/1000*2","v":2.4E-2},{"$f":"K35^2*2","v":1.152E-3},{"$f":"IF(【事例3】危険部品判断シート!$O$36=0,2.51*0.56*(O35/K35)^0.25+0.0000000567*$F$9*(($F$10+273+O35)^2+($F$10+273)^2)*(($F$10+273+O35)+($F$10+273)),3.86*(【事例3】危険部品判断シート!$O$36/K35)^0.5+0.0000000567*$F$9*(($F$10+273+O35)^2+($F$10+273)^2)*(($F$10+273+O35)+($F$10+273)))","v":28.155397995471702},34.303097200269661,{"$f":"H35*N35","v":33.378647759456605},{"$f":"I35^2","v":1.5999999999999999E-5},{"$f":"K35^2","v":5.7600000000000001E-4},{"$f":"(PI()^1.5)/((Q35)^0.5)+1/(P35)^0.5","v":482.01366653465453},3.3016712520350908,339.05110747269879,0.64763938261437681,{"$f":"S35*(T35+U35)/(1+T35*U35)","v":5.0845910607272682},{"$f":"N35+V35","v":39.387688260996931},{"$f":"L35*M35*$Q$3","v":0.9730505547235021}]
[null,null,null,null,null,null,24,{"$f":"X36","v":1.1096358587772728},{"$f":"I35+0.002","v":6.0000000000000001E-3},2.4E-2,2.6000000000000002E-2,1.3520000000000003E-3,{"$f":"IF(【事例3】危険部品判断シート!$O$36=0,2.51*0.56*(O36/K36)^0.25+0.0000000567*$F$9*(($F$10+273+O36)^2+($F$10+273)^2)*(($F$10+273+O36)+($F$10+273)),3.86*(【事例3】危険部品判断シート!$O$36/K36)^0.5+0.0000000567*$F$9*(($F$10+273+O36)^2+($F$10+273)^2)*(($F$10+273+O36)+($F$10+273)))","v":27.357886064528415},29.994476173849023,33.28294632774341,3.6000000000000001E-5,6.7600000000000017E-4,380.83312808327082,2.0317976935600557,274.89870607238032,0.5436574134908021,3.7197772176987871,33.714253391547807,1.1096358587772728]
[null,null,null,null,null,null,32,1.2534949809292937,8.0000000000000002E-3,3.2000000000000001E-2,2.8000000000000001E-2,1.5680000000000002E-3,{"$f":"IF(【事例3】危険部品判断シート!$O$36=0,2.51*0.56*(O37/K37)^0.25+0.0000000567*$F$9*(($F$10+273+O37)^2+($F$10+273)^2)*(($F$10+273+O37)+($F$10+273)),3.86*(【事例3】危険部品判断シート!$O$36/K37)^0.5+0.0000000567*$F$9*(($F$10+273+O37)^2+($F$10+273)^2)*(($F$10+273+O37)+($F$10+273)))","v":26.647427315673756},26.484103871935204,33.19769127788085,6.3999999999999997E-5,7.8400000000000008E-4,323.86885702970392,1.415001965157896,239.39800768290797,0.47630197429922477,2.9508404695318911,29.434944341467094,1.2534949809292937]
[null,null,null,null,null,null,40,1.4044998229119998,0.01,0.04,0.03,1.8E-3,{"$f":"IF(【事例3】危険部品判断シート!$O$36=0,2.51*0.56*(O38/K38)^0.25+0.0000000567*$F$9*(($F$10+273+O38)^2+($F$10+273)^2)*(($F$10+273+O38)+($F$10+273)),3.86*(【事例3】危険部品判断シート!$O$36/K38)^0.5+0.0000000567*$F$9*(($F$10+273+O38)^2+($F$10+273)^2)*(($F$10+273+O38)+($F$10+273)))","v":26.009255979851851},23.582139475753745,33.121110717582219,1E-4,8.9999999999999998E-4,285.61093322772365,1.0565348006512287,215.79955229617087,0.42761758606203659,2.449102751489646,26.031242227243393,1.4044998229119998]
[null,null,null,null,null,null,48,1.5625353464934058,1.2E-2,4.8000000000000001E-2,3.2000000000000001E-2,{"$f":"K39^2*2","v":2.0479999999999999E-3},{"$f":"IF(【事例3】危険部品判断シート!$O$36=0,2.51*0.56*(O39/K39)^0.25+0.0000000567*$F$9*(($F$10+273+O39)^2+($F$10+273)^2)*(($F$10+273+O39)+($F$10+273)),3.86*(【事例3】危険部品判断シート!$O$36/K39)^0.5+0.0000000567*$F$9*(($F$10+273+O39)^2+($F$10+273)^2)*(($F$10+273+O39)+($F$10+273)))","v":25.431890405166111},21.152690672114289,33.051826848619932,1.44E-4,1.024E-3,257.34358323432423,0.8254178130087727,198.43986224013926,0.38995734868785564,2.0937894951331844,23.246480167247473,1.5625353464934058]
[null,null,null,null,null,null,56,1.727497493768577,1.4E-2,5.6000000000000001E-2,3.4000000000000002E-2,2.3120000000000003E-3,{"$f":"IF(【事例3】危険部品判断シート!$O$36=0,2.51*0.56*(O40/K40)^0.25+0.0000000567*$F$9*(($F$10+273+O40)^2+($F$10+273)^2)*(($F$10+273+O40)+($F$10+273)),3.86*(【事例3】危険部品判断シート!$O$36/K40)^0.5+0.0000000567*$F$9*(($F$10+273+O40)^2+($F$10+273)^2)*(($F$10+273+O40)+($F$10+273)))","v":24.906249910158259},19.096265035530237,32.988749989218988,1.9600000000000002E-4,1.1560000000000001E-3,235.20292427656284,0.6658832777213628,184.8412865412291,0.35951141340755177,1.8282794407634431,20.924544476293679,1.727497493768577]
[null,null,null,null,null,null,64,1.8992915436605935,1.6E-2,6.4000000000000001E-2,3.6000000000000004E-2,2.5920000000000006E-3,{"$f":"IF(【事例3】危険部品判断シート!$O$36=0,2.51*0.56*(O41/K41)^0.25+0.0000000567*$F$9*(($F$10+273+O41)^2+($F$10+273)^2)*(($F$10+273+O41)+($F$10+273)),3.86*(【事例3】危険部品判断シート!$O$36/K41)^0.5+0.0000000567*$F$9*(($F$10+273+O41)^2+($F$10+273)^2)*(($F$10+273+O41)+($F$10+273)))","v":24.425045571766887},17.338573205639907,32.931005468612021,2.5599999999999999E-4,1.2960000000000003E-3,217.17577768976966,0.55027854200584858,173.73196881173641,0.33413989266282124,1.622075817152218,18.960649022792126,1.8992915436605935]
[null,null,null,null,null,null,72.000000000000014,2.0778307935742779,1.8000000000000002E-2,7.2000000000000008E-2,3.8000000000000006E-2,2.8880000000000008E-3,{"$f":"IF(【事例3】危険部品判断シート!$O$36=0,2.51*0.56*(O42/K42)^0.25+0.0000000567*$F$9*(($F$10+273+O42)^2+($F$10+273)^2)*(($F$10+273+O42)+($F$10+273)),3.86*(【事例3】危険部品判断シート!$O$36/K42)^0.5+0.0000000567*$F$9*(($F$10+273+O42)^2+($F$10+273)^2)*(($F$10+273+O42)+($F$10+273)))","v":23.982349879666174},15.823175827038117,32.877881985559945,3.2400000000000007E-4,1.4440000000000004E-3,202.09050284060049,0.46339245642597759,164.38294232103866,0.31252817277605865,1.4571772369520615,17.28035306399018,2.0778307935742779]
[null,0.1,0.1,null,null,null,80.000000000000014,2.2630354878726644,2.0000000000000004E-2,8.0000000000000016E-2,4.0000000000000008E-2,3.2000000000000015E-3,{"$f":"IF(【事例3】危険部品判断シート!$O$36=0,2.51*0.56*(O43/K43)^0.25+0.0000000567*$F$9*(($F$10+273+O43)^2+($F$10+273)^2)*(($F$10+273+O43)+($F$10+273)),3.86*(【事例3】危険部品判断シート!$O$36/K43)^0.5+0.0000000567*$F$9*(($F$10+273+O43)^2+($F$10+273)^2)*(($F$10+273+O43)+($F$10+273)))","v":23.573286332006916},14.506530956216283,32.828794359840828,4.0000000000000018E-4,1.6000000000000007E-3,189.20819992079268,0.39620055024421075,156.34122254692073,0.29381179541559732,1.3222334130127273,15.82876436922901,2.2630354878726648]
[null,1000,1000,null,null,null,88.000000000000028,2.4548319367492,2.2000000000000006E-2,8.8000000000000023E-2,4.200000000000001E-2,3.5280000000000016E-3,{"$f":"IF(【事例3】危険部品判断シート!$O$36=0,2.51*0.56*(O44/K44)^0.25+0.0000000567*$F$9*(($F$10+273+O44)^2+($F$10+273)^2)*(($F$10+273+O44)+($F$10+273)),3.86*(【事例3】危険部品判断シート!$O$36/K44)^0.5+0.0000000567*$F$9*(($F$10+273+O44)^2+($F$10+273)^2)*(($F$10+273+O44)+($F$10+273)))","v":23.193801367622815},13.35458272044799,32.783256164114739,4.8400000000000027E-4,1.7640000000000008E-3,178.03378347434798,0.3430307794322171,149.30739648716795,0.27739163932387439,1.2097187908597355,14.564301511307725,2.4548319367492]
[null,null,null,null,null,null,96.000000000000028,2.6531517840803032,2.4000000000000007E-2,9.600000000000003E-2,4.4000000000000011E-2,3.8720000000000022E-3,{"$f":"IF(【事例3】危険部品判断シート!$O$36=0,2.51*0.56*(O45/K45)^0.25+0.0000000567*$F$9*(($F$10+273+O45)^2+($F$10+273)^2)*(($F$10+273+O45)+($F$10+273)),3.86*(【事例3】危険部品判断シート!$O$36/K45)^0.5+0.0000000567*$F$9*(($F$10+273+O45)^2+($F$10+273)^2)*(($F$10+273+O45)+($F$10+273)))","v":22.840494008955766},12.340364195342893,32.740859281074691,5.7600000000000034E-4,1.9360000000000011E-3,168.21957568556911,0.3001519320031899,143.07371734249841,0.26283496157015451,1.1144409752781803,13.454805170621073,2.6531517840803032]
[null,null,null,null,null,null,104.00000000000004,2.8579313933506154,2.6000000000000009E-2,0.10400000000000004,4.6000000000000013E-2,4.2320000000000023E-3,{"$f":"IF(【事例3】危険部品判断シート!$O$36=0,2.51*0.56*(O46/K46)^0.25+0.0000000567*$F$9*(($F$10+273+O46)^2+($F$10+273)^2)*(($F$10+273+O46)+($F$10+273)),3.86*(【事例3】危険部品判断シート!$O$36/K46)^0.5+0.0000000567*$F$9*(($F$10+273+O46)^2+($F$10+273)^2)*(($F$10+273+O46)+($F$10+273)))","v":22.510486715111956},11.442282513113355,32.701258405813434,6.7600000000000049E-4,2.1160000000000011E-3,159.51214708831469,0.26501709046435495,137.49030917802881,0.24981870072966736,1.0326991332013198,12.474981646314674,2.8579313933506154]
[null,null,null,null,null,null,112.00000000000004,3.0691113282379536,2.8000000000000011E-2,0.11200000000000004,4.8000000000000015E-2,4.6080000000000027E-3,{"$f":"IF(【事例3】危険部品判断シート!$O$36=0,2.51*0.56*(O47/K47)^0.25+0.0000000567*$F$9*(($F$10+273+O47)^2+($F$10+273)^2)*(($F$10+273+O47)+($F$10+273)),3.86*(【事例3】危険部品判断シート!$O$36/K47)^0.5+0.0000000567*$F$9*(($F$10+273+O47)^2+($F$10+273)^2)*(($F$10+273+O47)+($F$10+273)))","v":22.201326159128705},10.642872038743761,32.664159139095439,7.8400000000000063E-4,2.3040000000000014E-3,151.72111898161293,0.23583366085964921,132.44554366688828,0.23809512723711207,0.96178318392468765,11.604655222668448,3.0691113282379536]
[null,null,null,null,null,null,120.00000000000006,3.2866359098818436,3.0000000000000013E-2,0.12000000000000005,5.0000000000000017E-2,5.0000000000000036E-3,{"$f":"IF(【事例3】危険部品判断シート!$O$36=0,2.51*0.56*(O48/K48)^0.25+0.0000000567*$F$9*(($F$10+273+O48)^2+($F$10+273)^2)*(($F$10+273+O48)+($F$10+273)),3.86*(【事例3】危険部品判断シート!$O$36/K48)^0.5+0.0000000567*$F$9*(($F$10+273+O48)^2+($F$10+273)^2)*(($F$10+273+O48)+($F$10+273)))","v":21.91090606587894},9.9278744657416329,32.629308727905475,9.0000000000000073E-4,2.5000000000000018E-3,144.69989326996745,0.21130696013024569,127.85405142755009,0.22747003886988262,0.89966251688198129,10.827536982623615,3.2866359098818436]
[null,null,null,null,null,null,128.00000000000006,3.5104528368642476,3.2000000000000015E-2,0.12800000000000006,5.2000000000000018E-2,5.4080000000000039E-3,{"$f":"IF(【事例3】危険部品判断シート!$O$36=0,2.51*0.56*(O49/K49)^0.25+0.0000000567*$F$9*(($F$10+273+O49)^2+($F$10+273)^2)*(($F$10+273+O49)+($F$10+273)),3.86*(【事例3】危険部品判断シート!$O$36/K49)^0.5+0.0000000567*$F$9*(($F$10+273+O49)^2+($F$10+273)^2)*(($F$10+273+O49)+($F$10+273)))","v":21.63740653885753},9.2855509814454837,32.596488784662895,1.024000000000001E-3,2.704000000000002E-3,138.33323070830204,0.19048103377125508,123.64907842216296,0.21778836413070807,0.84478533497551944,10.130336316421003,3.5104528368642485]
[null,null,null,null,null,null,136.00000000000006,3.7405128569221784,3.4000000000000016E-2,0.13600000000000007,5.400000000000002E-2,5.8320000000000047E-3,{"$f":"IF(【事例3】危険部品判断シート!$O$36=0,2.51*0.56*(O50/K50)^0.25+0.0000000567*$F$9*(($F$10+273+O50)^2+($F$10+273)^2)*(($F$10+273+O50)+($F$10+273)),3.86*(【事例3】危険部品判断シート!$O$36/K50)^0.5+0.0000000567*$F$9*(($F$10+273+O50)^2+($F$10+273)^2)*(($F$10+273+O50)+($F$10+273)))","v":21.379245867182075},8.7061616280228105,32.565509504061843,1.1560000000000012E-3,2.9160000000000024E-3,132.52894983239543,0.172636405335168,119.77743255949474,0.20892433317177841,0.79594523770039494,9.5021068657232046,3.7405128569221788]
[null,null,null,null,null,null,144.00000000000009,3.9767694816742964,3.6000000000000018E-2,0.14400000000000007,5.6000000000000022E-2,6.272000000000005E-3,{"$f":"IF(【事例3】危険部品判断シート!$O$36=0,2.51*0.56*(O51/K51)^0.25+0.0000000567*$F$9*(($F$10+273+O51)^2+($F$10+273)^2)*(($F$10+273+O51)+($F$10+273)),3.86*(【事例3】危険部品判断シート!$O$36/K51)^0.5+0.0000000567*$F$9*(($F$10+273+O51)^2+($F$10+273)^2)*(($F$10+273+O51)+($F$10+273)))","v":21.135041888149942},8.1815667658160631,32.536205026577996,1.2960000000000014E-3,3.1360000000000025E-3,127.21220629262967,0.15722244057309942,116.19603684644984,0.20077457179325225,0.75219010854306545,8.933756874359128,3.9767694816742964]
[null,null,null,null,null,null,152.00000000000009,4.2191787373749117,3.800000000000002E-2,0.15200000000000008,5.8000000000000024E-2,6.7280000000000057E-3,{"$f":"IF(【事例3】危険部品判断シート!$O$36=0,2.51*0.56*(O52/K52)^0.25+0.0000000567*$F$9*(($F$10+273+O52)^2+($F$10+273)^2)*(($F$10+273+O52)+($F$10+273)),3.86*(【事例3】危険部品判断シート!$O$36/K52)^0.5+0.0000000567*$F$9*(($F$10+273+O52)^2+($F$10+273)^2)*(($F$10+273+O52)+($F$10+273)))","v":20.903580744029469},7.7049188272857165,32.508429689283531,1.4440000000000015E-3,3.3640000000000028E-3,122.32144459147224,0.14381145199426879,112.86951377441309,0.19325312753656981,0.71275842384298227,8.4176772511286995,4.2191787373749117]
[null,null,null,null,null,null,160.00000000000009,4.4676989460477712,4.0000000000000022E-2,0.16000000000000009,6.0000000000000026E-2,7.2000000000000059E-3,{"$f":"IF(【事例3】危険部品判断シート!$O$36=0,2.51*0.56*(O53/K53)^0.25+0.0000000567*$F$9*(($F$10+273+O53)^2+($F$10+273)^2)*(($F$10+273+O53)+($F$10+273)),3.86*(【事例3】危険部品判断シート!$O$36/K53)^0.5+0.0000000567*$F$9*(($F$10+273+O53)^2+($F$10+273)^2)*(($F$10+273+O53)+($F$10+273)))","v":20.683791416887811},7.2704216112773024,32.482054970026539,1.6000000000000018E-3,3.6000000000000029E-3,117.80546661386175,0.13206685008140354,109.76845179635495,0.18628780939122261,0.67703380536747348,7.9474554166447762,4.4676989460477712]
[null,null,null,null,null,null,168.00000000000009,4.7222905323979036,4.2000000000000023E-2,0.16800000000000009,6.2000000000000027E-2,7.6880000000000065E-3,{"$f":"IF(【事例3】危険部品判断シート!$O$36=0,2.51*0.56*(O54/K54)^0.25+0.0000000567*$F$9*(($F$10+273+O54)^2+($F$10+273)^2)*(($F$10+273+O54)+($F$10+273)),3.86*(【事例3】危険部品判断シート!$O$36/K54)^0.5+0.0000000567*$F$9*(($F$10+273+O54)^2+($F$10+273)^2)*(($F$10+273+O54)+($F$10+273)))","v":20.474724819623219},6.8731406413221388,32.456966978354792,1.7640000000000019E-3,3.8440000000000032E-3,113.62126569390615,0.12172059915336729,106.86813503079283,0.17981744300926975,0.64451199288822569,7.5176526342103642,4.7222905323979036]
[null,null,null,null,null,null,176.00000000000011,4.9829158527241697,4.4000000000000025E-2,0.1760000000000001,6.4000000000000029E-2,8.1920000000000083E-3,{"$f":"IF(【事例3】危険部品判断シート!$O$36=0,2.51*0.56*(O55/K55)^0.25+0.0000000567*$F$9*(($F$10+273+O55)^2+($F$10+273)^2)*(($F$10+273+O55)+($F$10+273)),3.86*(【事例3】危険部品判断シート!$O$36/K55)^0.5+0.0000000567*$F$9*(($F$10+273+O55)^2+($F$10+273)^2)*(($F$10+273+O55)+($F$10+273)))","v":20.275536510108093},6.5088525152359828,32.433064381212965,1.9360000000000022E-3,4.0960000000000042E-3,109.73239767776813,0.11255697450119617,104.14759500820595,0.17378977806974827,0.61477644684120158,7.1236289620771842,4.9829158527241706]
[null,null,null,null,null,null,184.00000000000011,5.249539042710464,4.6000000000000027E-2,0.18400000000000011,6.6000000000000031E-2,8.7120000000000079E-3,{"$f":"IF(【事例3】危険部品判断シート!$O$36=0,2.51*0.56*(O56/K56)^0.25+0.0000000567*$F$9*(($F$10+273+O56)^2+($F$10+273)^2)*(($F$10+273+O56)+($F$10+273)),3.86*(【事例3】危険部品判断シート!$O$36/K56)^0.5+0.0000000567*$F$9*(($F$10+273+O56)^2+($F$10+273)^2)*(($F$10+273+O56)+($F$10+273)))","v":20.085472309115623},6.1739243033345783,32.410256677093869,2.1160000000000024E-3,4.356000000000004E-3,106.1077364473842,0.10440067200110949,101.58889103114642,0.16815986928356499,0.58748005858642338,6.7614043619210014,5.249539042710464]
[null,null,null,null,null,null,192.00000000000011,5.5221258814985914,4.8000000000000029E-2,0.19200000000000012,6.8000000000000033E-2,9.2480000000000097E-3,{"$f":"IF(【事例3】危険部品判断シート!$O$36=0,2.51*0.56*(O57/K57)^0.25+0.0000000567*$F$9*(($F$10+273+O57)^2+($F$10+273)^2)*(($F$10+273+O57)+($F$10+273)),3.86*(【事例3】危険部品判断シート!$O$36/K57)^0.5+0.0000000567*$F$9*(($F$10+273+O57)^2+($F$10+273)^2)*(($F$10+273+O57)+($F$10+273)))","v":19.90385626261024},5.8652163037478005,32.388462751513231,2.3040000000000027E-3,4.6240000000000048E-3,102.72050975732901,9.7107978001031992E-2,99.176555891965407,0.16288880738207773,0.56233125513670101,6.4275475588845019,5.5221258814985914]
[null,null,null,null,null,null,200.00000000000011,5.8006436698695358,5.0000000000000031E-2,0.20000000000000012,7.0000000000000034E-2,9.8000000000000101E-3,{"$f":"IF(【事例3】危険部品判断シート!$O$36=0,2.51*0.56*(O58/K58)^0.25+0.0000000567*$F$9*(($F$10+273+O58)^2+($F$10+273)^2)*(($F$10+273+O58)+($F$10+273)),3.86*(【事例3】危険部品判断シート!$O$36/K58)^0.5+0.0000000567*$F$9*(($F$10+273+O58)^2+($F$10+273)^2)*(($F$10+273+O58)+($F$10+273)))","v":19.730080509760306},5.5800031002247765,32.367609661171237,2.5000000000000031E-3,4.900000000000005E-3,99.547542811881499,9.0560125770105263E-2,96.897163229654524,0.15794271274300262,0.5390833135034887,6.1190864137282652,5.8006436698695358]
[]
[null,null,null,null,null,null,null,null,null,null,"隙間",{"$f":"L32+E33","v":15}]
[null,null,null,null,null,null,null,"発熱量","部品L","周長","周囲幅","P表面積","熱伝達率","熱抵抗R0","温度上昇","As","Ap","λ","AC","BC","CC","Rc","Rt","ERR"]
[null,null,null,null,null,null,{"$f":"J62*1000","v":8},{"$f":"X62","v":1.5625353464934058},2E-3,{"$f":"I62*4","v":8.0000000000000002E-3},{"$f":"I62+$L$60/1000*2","v":3.2000000000000001E-2},{"$f":"K62^2*2","v":2.0479999999999999E-3},{"$f":"IF(【事例3】危険部品判断シート!$O$36=0,2.51*0.56*(O62/K62)^0.25+0.0000000567*$F$9*(($F$10+273+O62)^2+($F$10+273)^2)*(($F$10+273+O62)+($F$10+273)),3.86*(【事例3】危険部品判断シート!$O$36/K62)^0.5+0.0000000567*$F$9*(($F$10+273+O62)^2+($F$10+273)^2)*(($F$10+273+O62)+($F$10+273)))","v":25.431890405166111},{"$f":"1/L62/M62+$F$8/$M$3/L62","v":21.152690672114289},{"$f":"H62*N62","v":33.051826848619932},{"$f":"I62^2","v":3.9999999999999998E-6},{"$f":"K62^2","v":1.024E-3},{"$f":"(PI()^1.5)/((Q62)^0.5)+1/(P62)^0.5","v":674.01024990099086},{"$f":"$F$6*(Q62^0.5-P62^0.5)/($L$3*(PI()*Q62*P62)^0.5)","v":7.4287603170789538},{"$f":"R62*$L$3*Q62*N62/$F$6","v":519.73513175577386},{"$f":"TANH(R62*$F$8/$F$6)","v":0.79261110432189874},{"$f":"S62*(T62+U62)/(1+T62*U62)","v":9.3640782106129592},{"$f":"N62+V62","v":30.516768882727249},{"$f":"L62*M62*$Q$3","v":1.5625353464934058}]
[null,null,null,null,null,null,{"$f":"J63*1000","v":16},{"$f":"X63","v":1.727497493768577},{"$f":"I62+0.002","v":4.0000000000000001E-3},1.6E-2,{"$f":"I63+$L$60/1000*2","v":3.4000000000000002E-2},{"$f":"K63^2*2","v":2.3120000000000003E-3},{"$f":"IF(【事例3】危険部品判断シート!$O$36=0,2.51*0.56*(O63/K63)^0.25+0.0000000567*$F$9*(($F$10+273+O63)^2+($F$10+273)^2)*(($F$10+273+O63)+($F$10+273)),3.86*(【事例3】危険部品判断シート!$O$36/K63)^0.5+0.0000000567*$F$9*(($F$10+273+O63)^2+($F$10+273)^2)*(($F$10+273+O63)+($F$10+273)))","v":24.906249910158259},19.096265035530237,32.988749989218988,{"$f":"I63^2","v":1.5999999999999999E-5},{"$f":"K63^2","v":1.1560000000000001E-3},{"$f":"(PI()^1.5)/((Q63)^0.5)+1/(P63)^0.5","v":413.77435284799139},3.4958872080371548,325.1770102494786,0.57971873515809735,{"$f":"S63*(T63+U63)/(1+T63*U63)","v":6.0091897008555595},{"$f":"N63+V63","v":25.105454736385795},{"$f":"L63*M63*$Q$3","v":1.727497493768577}]
[null,null,null,null,null,null,24,{"$f":"X64","v":1.8992915436605931},{"$f":"I63+0.002","v":6.0000000000000001E-3},2.4E-2,3.5999999999999997E-2,2.5919999999999997E-3,{"$f":"IF(【事例3】危険部品判断シート!$O$36=0,2.51*0.56*(O64/K64)^0.25+0.0000000567*$F$9*(($F$10+273+O64)^2+($F$10+273)^2)*(($F$10+273+O64)+($F$10+273)),3.86*(【事例3】危険部品判断シート!$O$36/K64)^0.5+0.0000000567*$F$9*(($F$10+273+O64)^2+($F$10+273)^2)*(($F$10+273+O64)+($F$10+273)))","v":24.425045571766891},17.338573205639911,32.931005468612021,3.6000000000000001E-5,1.2959999999999998E-3,321.34244435643632,2.2011141680233934,257.06115163804179,0.4731707440047504,4.6223991269478688,21.960972332587779,1.8992915436605931]
[null,null,null,null,null,null,32,2.077830793574277,8.0000000000000002E-3,3.2000000000000001E-2,3.7999999999999999E-2,2.8879999999999999E-3,{"$f":"IF(【事例3】危険部品判断シート!$O$36=0,2.51*0.56*(O65/K65)^0.25+0.0000000567*$F$9*(($F$10+273+O65)^2+($F$10+273)^2)*(($F$10+273+O65)+($F$10+273)),3.86*(【事例3】危険部品判断シート!$O$36/K65)^0.5+0.0000000567*$F$9*(($F$10+273+O65)^2+($F$10+273)^2)*(($F$10+273+O65)+($F$10+273)))","v":23.982349879666174},15.823175827038122,32.877881985559938,6.3999999999999997E-5,1.444E-3,271.53494728504495,1.5639495404376744,220.86992189291729,0.4090384445860526,3.7886235795820089,19.611799406620133,2.077830793574277]
[null,null,null,null,null,null,40,2.263035487872664,0.01,0.04,0.04,3.2000000000000002E-3,{"$f":"IF(【事例3】危険部品判断シート!$O$36=0,2.51*0.56*(O66/K66)^0.25+0.0000000567*$F$9*(($F$10+273+O66)^2+($F$10+273)^2)*(($F$10+273+O66)+($F$10+273)),3.86*(【事例3】危険部品判断シート!$O$36/K66)^0.5+0.0000000567*$F$9*(($F$10+273+O66)^2+($F$10+273)^2)*(($F$10+273+O66)+($F$10+273)))","v":23.573286332006919},14.506530956216286,32.828794359840828,1E-4,1.6000000000000001E-3,239.20819992079271,1.1886016507326325,197.65582271022473,0.36507867066847427,3.2171707426576077,17.723701698873896,2.2630354878726644]
[null,null,null,null,null,null,48,2.4548319367491986,1.2E-2,4.8000000000000001E-2,4.1999999999999996E-2,{"$f":"K67^2*2","v":3.5279999999999995E-3},{"$f":"IF(【事例3】危険部品判断シート!$O$36=0,2.51*0.56*(O67/K67)^0.25+0.0000000567*$F$9*(($F$10+273+O67)^2+($F$10+273)^2)*(($F$10+273+O67)+($F$10+273)),3.86*(【事例3】危険部品判断シート!$O$36/K67)^0.5+0.0000000567*$F$9*(($F$10+273+O67)^2+($F$10+273)^2)*(($F$10+273+O67)+($F$10+273)))","v":23.193801367622818},13.354582720447997,32.783256164114739,1.44E-4,1.7639999999999997E-3,215.91257135313595,0.94333464343859719,181.07430662019004,0.33234320970289677,2.7971639172640375,16.151746637712034,2.4548319367491986]
[null,null,null,null,null,null,56,2.6531517840803018,1.4E-2,5.6000000000000001E-2,4.3999999999999997E-2,3.8719999999999996E-3,{"$f":"IF(【事例3】危険部品判断シート!$O$36=0,2.51*0.56*(O68/K68)^0.25+0.0000000567*$F$9*(($F$10+273+O68)^2+($F$10+273)^2)*(($F$10+273+O68)+($F$10+273)),3.86*(【事例3】危険部品判断シート!$O$36/K68)^0.5+0.0000000567*$F$9*(($F$10+273+O68)^2+($F$10+273)^2)*(($F$10+273+O68)+($F$10+273)))","v":22.840494008955766},12.340364195342902,32.740859281074698,1.9600000000000002E-4,1.9359999999999998E-3,197.98148044747393,0.77181925372248861,168.386742489098,0.30658375914367086,2.4741405533645096,14.814504748707412,2.6531517840803018]
[null,null,null,null,null,null,64,2.8579313933506141,1.6E-2,6.4000000000000001E-2,4.5999999999999999E-2,4.2319999999999997E-3,{"$f":"IF(【事例3】危険部品判断シート!$O$36=0,2.51*0.56*(O69/K69)^0.25+0.0000000567*$F$9*(($F$10+273+O69)^2+($F$10+273)^2)*(($F$10+273+O69)+($F$10+273)),3.86*(【事例3】危険部品判断シート!$O$36/K69)^0.5+0.0000000567*$F$9*(($F$10+273+O69)^2+($F$10+273)^2)*(($F$10+273+O69)+($F$10+273)))","v":22.510486715111959},11.442282513113362,32.701258405813434,2.5599999999999999E-4,2.1159999999999998E-3,183.5506086267763,0.64597915800686545,158.21008237033232,0.28551925063531575,2.2174651673308303,13.659747680444193,2.8579313933506141]
[null,null,null,null,null,null,72.000000000000014,3.0691113282379527,1.8000000000000002E-2,7.2000000000000008E-2,4.8000000000000001E-2,4.6080000000000001E-3,{"$f":"IF(【事例3】危険部品判断シート!$O$36=0,2.51*0.56*(O70/K70)^0.25+0.0000000567*$F$9*(($F$10+273+O70)^2+($F$10+273)^2)*(($F$10+273+O70)+($F$10+273)),3.86*(【事例3】危険部品判断シート!$O$36/K70)^0.5+0.0000000567*$F$9*(($F$10+273+O70)^2+($F$10+273)^2)*(($F$10+273+O70)+($F$10+273)))","v":22.201326159128708},10.642872038743764,32.664159139095446,3.2400000000000007E-4,2.3040000000000001E-3,171.56238882288281,0.55027854200584836,149.76605770479816,0.26780693939903272,2.0083592962944281,12.651231335038192,3.0691113282379527]
[null,null,null,null,null,null,80.000000000000014,3.2866359098818423,2.0000000000000004E-2,8.0000000000000016E-2,0.05,5.000000000000001E-3,{"$f":"IF(【事例3】危険部品判断シート!$O$36=0,2.51*0.56*(O71/K71)^0.25+0.0000000567*$F$9*(($F$10+273+O71)^2+($F$10+273)^2)*(($F$10+273+O71)+($F$10+273)),3.86*(【事例3】危険部品判断シート!$O$36/K71)^0.5+0.0000000567*$F$9*(($F$10+273+O71)^2+($F$10+273)^2)*(($F$10+273+O71)+($F$10+273)))","v":21.910906065878944},9.9278744657416382,32.629308727905475,4.0000000000000018E-4,2.5000000000000005E-3,161.36655993663416,0.47544066029305287,142.58039855173357,0.25259852023238644,1.8345945677104198,11.762469033452058,3.2866359098818423]
[null,null,null,null,null,null,88.000000000000028,3.5104528368642458,2.2000000000000006E-2,8.8000000000000023E-2,5.2000000000000005E-2,5.4080000000000013E-3,{"$f":"IF(【事例3】危険部品判断シート!$O$36=0,2.51*0.56*(O72/K72)^0.25+0.0000000567*$F$9*(($F$10+273+O72)^2+($F$10+273)^2)*(($F$10+273+O72)+($F$10+273)),3.86*(【事例3】危険部品判断シート!$O$36/K72)^0.5+0.0000000567*$F$9*(($F$10+273+O72)^2+($F$10+273)^2)*(($F$10+273+O72)+($F$10+273)))","v":21.637406538857533},9.2855509814454873,32.596488784662895,4.8400000000000027E-4,2.7040000000000007E-3,152.53777616284754,0.41559498277364759,136.34580317779222,0.23932732153638372,1.6878364996961903,10.973387481141678,3.5104528368642471]
[null,null,null,null,null,null,96.000000000000028,3.7405128569221757,2.4000000000000007E-2,9.600000000000003E-2,5.4000000000000006E-2,5.8320000000000012E-3,{"$f":"IF(【事例3】危険部品判断シート!$O$36=0,2.51*0.56*(O73/K73)^0.25+0.0000000567*$F$9*(($F$10+273+O73)^2+($F$10+273)^2)*(($F$10+273+O73)+($F$10+273)),3.86*(【事例3】危険部品判断シート!$O$36/K73)^0.5+0.0000000567*$F$9*(($F$10+273+O73)^2+($F$10+273)^2)*(($F$10+273+O73)+($F$10+273)))","v":21.379245867182078},8.706161628022814,32.565509504061836,5.7600000000000034E-4,2.9160000000000006E-3,144.78385179317976,0.36685236133723215,130.85320653180352,0.22759741783980311,1.5621965363121106,10.268358164334925,3.7405128569221771]
[null,null,null,null,null,null,104.00000000000004,3.9767694816742938,2.6000000000000009E-2,0.10400000000000004,5.6000000000000008E-2,6.2720000000000015E-3,{"$f":"IF(【事例3】危険部品判断シート!$O$36=0,2.51*0.56*(O74/K74)^0.25+0.0000000567*$F$9*(($F$10+273+O74)^2+($F$10+273)^2)*(($F$10+273+O74)+($F$10+273)),3.86*(【事例3】危険部品判断シート!$O$36/K74)^0.5+0.0000000567*$F$9*(($F$10+273+O74)^2+($F$10+273)^2)*(($F$10+273+O74)+($F$10+273)))","v":21.135041888149942},8.1815667658160685,32.536205026577996,6.7600000000000049E-4,3.1360000000000008E-3,137.89596697639038,0.32653891503643734,125.95461808835728,0.21712182501765526,1.453390530931935,9.6349572967480039,3.9767694816742938]
[null,null,null,null,null,null,112.00000000000004,4.219178737374909,2.8000000000000011E-2,0.11200000000000004,5.800000000000001E-2,6.7280000000000022E-3,{"$f":"IF(【事例3】危険部品判断シート!$O$36=0,2.51*0.56*(O75/K75)^0.25+0.0000000567*$F$9*(($F$10+273+O75)^2+($F$10+273)^2)*(($F$10+273+O75)+($F$10+273)),3.86*(【事例3】危険部品判断シート!$O$36/K75)^0.5+0.0000000567*$F$9*(($F$10+273+O75)^2+($F$10+273)^2)*(($F$10+273+O75)+($F$10+273)))","v":20.903580744029469},7.704918827285721,32.508429689283531,7.8400000000000063E-4,3.3640000000000011E-3,131.71994083207377,0.29275902727404729,121.54177647070651,0.20768608497974433,1.3582244724270225,9.0631432997127437,4.219178737374909]
[null,null,null,null,null,null,120.00000000000006,4.4676989460477685,3.0000000000000013E-2,0.12000000000000005,6.0000000000000012E-2,7.2000000000000024E-3,{"$f":"IF(【事例3】危険部品判断シート!$O$36=0,2.51*0.56*(O76/K76)^0.25+0.0000000567*$F$9*(($F$10+273+O76)^2+($F$10+273)^2)*(($F$10+273+O76)+($F$10+273)),3.86*(【事例3】危険部品判断シート!$O$36/K76)^0.5+0.0000000567*$F$9*(($F$10+273+O76)^2+($F$10+273)^2)*(($F$10+273+O76)+($F$10+273)))","v":20.683791416887811},7.270421611277305,32.482054970026532,9.0000000000000073E-4,3.6000000000000012E-3,126.13879994719511,0.26413370016280707,117.5332620771991,0.19912578587866675,1.2742671124553659,8.544688723732671,4.4676989460477685]
[null,null,null,null,null,null,128.00000000000006,4.7222905323979019,3.2000000000000015E-2,0.12800000000000006,6.2000000000000013E-2,7.688000000000003E-3,{"$f":"IF(【事例3】危険部品判断シート!$O$36=0,2.51*0.56*(O77/K77)^0.25+0.0000000567*$F$9*(($F$10+273+O77)^2+($F$10+273)^2)*(($F$10+273+O77)+($F$10+273)),3.86*(【事例3】危険部品判断シート!$O$36/K77)^0.5+0.0000000567*$F$9*(($F$10+273+O77)^2+($F$10+273)^2)*(($F$10+273+O77)+($F$10+273)))","v":20.474724819623223},6.8731406413221414,32.456966978354792,1.024000000000001E-3,3.8440000000000015E-3,121.06174188438237,0.23963742958319192,113.86638319640763,0.19131212312621915,1.1996343711062016,8.0727750124283428,4.7222905323979019]
[null,null,null,null,null,null,136.00000000000006,4.9829158527241662,3.4000000000000016E-2,0.13600000000000007,6.4000000000000015E-2,8.1920000000000031E-3,{"$f":"IF(【事例3】危険部品判断シート!$O$36=0,2.51*0.56*(O78/K78)^0.25+0.0000000567*$F$9*(($F$10+273+O78)^2+($F$10+273)^2)*(($F$10+273+O78)+($F$10+273)),3.86*(【事例3】危険部品判断シート!$O$36/K78)^0.5+0.0000000567*$F$9*(($F$10+273+O78)^2+($F$10+273)^2)*(($F$10+273+O78)+($F$10+273)))","v":20.275536510108093},6.5088525152359882,32.433064381212965,1.1560000000000012E-3,4.0960000000000015E-3,116.41688965637776,0.21849295050232201,110.49188145557014,0.18414230259364817,1.13284320379642,7.6416957190324082,4.982915852724167]
[null,null,null,null,null,null,144.00000000000009,5.2495390427104622,3.6000000000000018E-2,0.14400000000000007,6.6000000000000017E-2,8.7120000000000045E-3,{"$f":"IF(【事例3】危険部品判断シート!$O$36=0,2.51*0.56*(O79/K79)^0.25+0.0000000567*$F$9*(($F$10+273+O79)^2+($F$10+273)^2)*(($F$10+273+O79)+($F$10+273)),3.86*(【事例3】危険部品判断シート!$O$36/K79)^0.5+0.0000000567*$F$9*(($F$10+273+O79)^2+($F$10+273)^2)*(($F$10+273+O79)+($F$10+273)))","v":20.085472309115623},6.1739243033345819,32.410256677093876,1.2960000000000014E-3,4.3560000000000022E-3,112.14638379037939,0.20010128800212654,107.37036849398213,0.17753296969025451,1.0727100587301994,7.2466343620647811,5.2495390427104622]
[null,null,null,null,null,null,152.00000000000009,5.5221258814985879,3.800000000000002E-2,0.15200000000000008,6.8000000000000019E-2,9.2480000000000045E-3,{"$f":"IF(【事例3】危険部品判断シート!$O$36=0,2.51*0.56*(O80/K80)^0.25+0.0000000567*$F$9*(($F$10+273+O80)^2+($F$10+273)^2)*(($F$10+273+O80)+($F$10+273)),3.86*(【事例3】危険部品判断シート!$O$36/K80)^0.5+0.0000000567*$F$9*(($F$10+273+O80)^2+($F$10+273)^2)*(($F$10+273+O80)+($F$10+273)))","v":19.90385626261024},5.865216303747804,32.388462751513231,1.4440000000000015E-3,4.6240000000000022E-3,108.20296589767989,0.18399406358090273,104.46986215683198,0.17141559147636184,1.0182787722824318,6.8834950760302362,5.5221258814985879]
[null,null,null,null,null,null,160.00000000000009,5.8006436698695323,4.0000000000000022E-2,0.16000000000000009,7.0000000000000021E-2,9.8000000000000049E-3,{"$f":"IF(【事例3】危険部品判断シート!$O$36=0,2.51*0.56*(O81/K81)^0.25+0.0000000567*$F$9*(($F$10+273+O81)^2+($F$10+273)^2)*(($F$10+273+O81)+($F$10+273)),3.86*(【事例3】危険部品判断シート!$O$36/K81)^0.5+0.0000000567*$F$9*(($F$10+273+O81)^2+($F$10+273)^2)*(($F$10+273+O81)+($F$10+273)))","v":19.730080509760306},5.5800031002247792,32.36760966117123,1.6000000000000018E-3,4.9000000000000024E-3,104.54754281188151,0.16980023581894735,101.76404193367058,0.16573313581951751,0.96876837972465035,6.5487714799494299,5.8006436698695323]
[null,null,null,null,null,null,168.00000000000009,6.0850611207043341,4.2000000000000023E-2,0.16800000000000009,7.2000000000000022E-2,1.0368000000000006E-2,{"$f":"IF(【事例3】危険部品判断シート!$O$36=0,2.51*0.56*(O82/K82)^0.25+0.0000000567*$F$9*(($F$10+273+O82)^2+($F$10+273)^2)*(($F$10+273+O82)+($F$10+273)),3.86*(【事例3】危険部品判断シート!$O$36/K82)^0.5+0.0000000567*$F$9*(($F$10+273+O82)^2+($F$10+273)^2)*(($F$10+273+O82)+($F$10+273)))","v":19.563596710083374},5.3159090703538929,32.347631605209997,1.7640000000000019E-3,5.1840000000000028E-3,101.14741265440861,0.15722244057309942,99.230987323305627,0.16043763403361952,0.92353469272607736,6.2394437630799704,6.0850611207043359]
[null,null,null,null,null,null,176.00000000000011,6.3753482601773239,4.4000000000000025E-2,0.1760000000000001,7.4000000000000024E-2,1.0952000000000007E-2,{"$f":"IF(【事例3】危険部品判断シート!$O$36=0,2.51*0.56*(O83/K83)^0.25+0.0000000567*$F$9*(($F$10+273+O83)^2+($F$10+273)^2)*(($F$10+273+O83)+($F$10+273)),3.86*(【事例3】危険部品判断シート!$O$36/K83)^0.5+0.0000000567*$F$9*(($F$10+273+O83)^2+($F$10+273)^2)*(($F$10+273+O83)+($F$10+273)))","v":19.403908753887634},5.0708553840739237,32.328469050466502,1.9360000000000022E-3,5.4760000000000034E-3,97.974948360133624,0.1460198588123626,96.852248073672811,0.1554883590761664,0.8820415776908952,5.9528969617648189,6.3753482601773257]
[null,null,null,null,null,null,184.00000000000011,6.6714763383664444,4.6000000000000027E-2,0.18400000000000011,7.6000000000000026E-2,1.1552000000000008E-2,{"$f":"IF(【事例3】危険部品判断シート!$O$36=0,2.51*0.56*(O84/K84)^0.25+0.0000000567*$F$9*(($F$10+273+O84)^2+($F$10+273)^2)*(($F$10+273+O84)+($F$10+273)),3.86*(【事例3】危険部品判断シート!$O$36/K84)^0.5+0.0000000567*$F$9*(($F$10+273+O84)^2+($F$10+273)^2)*(($F$10+273+O84)+($F$10+273)))","v":19.250566534990881},4.8430161999360761,32.310067984198902,2.1160000000000024E-3,5.7760000000000042E-3,95.006604077305056,0.13599561221197157,94.612147290464975,0.15085044143511225,0.84383918845520511,5.6868553883912814,6.6714763383664444]
[null,null,null,null,null,null,192.00000000000011,6.9734177481570541,4.8000000000000029E-2,0.19200000000000012,7.8000000000000028E-2,1.2168000000000009E-2,{"$f":"IF(【事例3】危険部品判断シート!$O$36=0,2.51*0.56*(O85/K85)^0.25+0.0000000567*$F$9*(($F$10+273+O85)^2+($F$10+273)^2)*(($F$10+273+O85)+($F$10+273)),3.86*(【事例3】危険部品判断シート!$O$36/K85)^0.5+0.0000000567*$F$9*(($F$10+273+O85)^2+($F$10+273)^2)*(($F$10+273+O85)+($F$10+273)))","v":19.103160607486984},4.6307822704917854,32.292379272898437,2.3040000000000027E-3,6.0840000000000043E-3,92.222153805534703,0.12698735584750337,92.497251040486745,0.14649380199203793,0.80854726244692188,5.4393295329387072,6.9734177481570541]
[null,null,null,null,null,null,200.00000000000011,7.2811459514753789,5.0000000000000031E-2,0.20000000000000012,8.0000000000000029E-2,1.2800000000000009E-2,{"$f":"IF(【事例3】危険部品判断シート!$O$36=0,2.51*0.56*(O86/K86)^0.25+0.0000000567*$F$9*(($F$10+273+O86)^2+($F$10+273)^2)*(($F$10+273+O86)+($F$10+273)),3.86*(【事例3】危険部品判断シート!$O$36/K86)^0.5+0.0000000567*$F$9*(($F$10+273+O86)^2+($F$10+273)^2)*(($F$10+273+O86)+($F$10+273)))","v":18.961317581967123},4.4327305516099553,32.275358109836048,2.5000000000000031E-3,6.4000000000000046E-3,89.604099960396326,0.11886016507326314,90.49595903619219,0.14239231828545371,0.77584215586765526,5.2085727074776109,7.2811459514753807]
[]
[null,null,null,null,null,null,null,null,null,null,"隙間",{"$f":"L60+E33","v":20}]
[null,null,null,null,null,null,null,"発熱量","部品L","周長","周囲幅","P表面積","熱伝達率","熱抵抗R0","温度上昇","As","Ap","λ","AC","BC","CC","Rc","Rt","ERR"]
[null,null,null,null,null,null,{"$f":"J90*1000","v":8},{"$f":"X90","v":2.4548319367491991},2E-3,{"$f":"I90*4","v":8.0000000000000002E-3},{"$f":"I90+$L$88/1000*2","v":4.2000000000000003E-2},{"$f":"K90^2*2","v":3.5280000000000003E-3},{"$f":"IF(【事例3】危険部品判断シート!$O$36=0,2.51*0.56*(O90/K90)^0.25+0.0000000567*$F$9*(($F$10+273+O90)^2+($F$10+273)^2)*(($F$10+273+O90)+($F$10+273)),3.86*(【事例3】危険部品判断シート!$O$36/K90)^0.5+0.0000000567*$F$9*(($F$10+273+O90)^2+($F$10+273)^2)*(($F$10+273+O90)+($F$10+273)))","v":23.193801367622818},{"$f":"1/L90/M90+$F$8/$M$3/L90","v":13.354582720447992},{"$f":"H90*N90","v":32.783256164114732},{"$f":"I90^2","v":3.9999999999999998E-6},{"$f":"K90^2","v":1.7640000000000002E-3},{"$f":"(PI()^1.5)/((Q90)^0.5)+1/(P90)^0.5","v":632.57923801980257},{"$f":"$F$6*(Q90^0.5-P90^0.5)/($L$3*(PI()*Q90*P90)^0.5)","v":7.5466771475087784},{"$f":"R90*$L$3*Q90*N90/$F$6","v":530.51031808343225},{"$f":"TANH(R90*$F$8/$F$6)","v":0.76664024133959741},{"$f":"S90*(T90+U90)/(1+T90*U90)","v":9.8338774870509642},{"$f":"N90+V90","v":23.188460207498956},{"$f":"L90*M90*$Q$3","v":2.4548319367491991}]
[null,null,null,null,null,null,{"$f":"J91*1000","v":16},{"$f":"X91","v":2.6531517840803018},{"$f":"I90+0.002","v":4.0000000000000001E-3},1.6E-2,{"$f":"I91+$L$88/1000*2","v":4.3999999999999997E-2},{"$f":"K91^2*2","v":3.8719999999999996E-3},{"$f":"IF(【事例3】危険部品判断シート!$O$36=0,2.51*0.56*(O91/K91)^0.25+0.0000000567*$F$9*(($F$10+273+O91)^2+($F$10+273)^2)*(($F$10+273+O91)+($F$10+273)),3.86*(【事例3】危険部品判断シート!$O$36/K91)^0.5+0.0000000567*$F$9*(($F$10+273+O91)^2+($F$10+273)^2)*(($F$10+273+O91)+($F$10+273)))","v":22.840494008955766},12.340364195342902,32.740859281074698,{"$f":"I91^2","v":1.5999999999999999E-5},{"$f":"K91^2","v":1.9359999999999998E-3},{"$f":"(PI()^1.5)/((Q91)^0.5)+1/(P91)^0.5","v":376.55290901890248},3.6018231840382802,320.26489336869537,0.53881523213205573,{"$f":"S91*(T91+U91)/(1+T91*U91)","v":6.657376408969693},{"$f":"N91+V91","v":18.997740604312597},{"$f":"L91*M91*$Q$3","v":2.6531517840803018}]
[null,null,null,null,null,null,24,{"$f":"X92","v":2.8579313933506141},{"$f":"I91+0.002","v":6.0000000000000001E-3},2.4E-2,4.5999999999999999E-2,4.2319999999999997E-3,{"$f":"IF(【事例3】危険部品判断シート!$O$36=0,2.51*0.56*(O92/K92)^0.25+0.0000000567*$F$9*(($F$10+273+O92)^2+($F$10+273)^2)*(($F$10+273+O92)+($F$10+273)),3.86*(【事例3】危険部品判断シート!$O$36/K92)^0.5+0.0000000567*$F$9*(($F$10+273+O92)^2+($F$10+273)^2)*(($F$10+273+O92)+($F$10+273)))","v":22.510486715111959},11.442282513113362,32.701258405813434,3.6000000000000001E-5,2.1159999999999998E-3,287.71727529344292,2.2968147840244106,247.99576620364729,0.43036750560140707,5.2965044274379904,16.738786940551353,2.8579313933506141]
[null,null,null,null,null,null,32,3.0691113282379527,8.0000000000000002E-3,3.2000000000000001E-2,4.8000000000000001E-2,4.6080000000000001E-3,{"$f":"IF(【事例3】危険部品判断シート!$O$36=0,2.51*0.56*(O93/K93)^0.25+0.0000000567*$F$9*(($F$10+273+O93)^2+($F$10+273)^2)*(($F$10+273+O93)+($F$10+273)),3.86*(【事例3】危険部品判断シート!$O$36/K93)^0.5+0.0000000567*$F$9*(($F$10+273+O93)^2+($F$10+273)^2)*(($F$10+273+O93)+($F$10+273)))","v":22.201326159128708},10.642872038743764,32.664159139095446,6.3999999999999997E-5,2.3040000000000001E-3,241.00683326732727,1.6508356260175454,210.38785683748264,0.3675702973974575,4.4416217459934995,15.084493784737264,3.0691113282379527]
[null,null,null,null,null,null,40,3.2866359098818423,0.01,0.04,0.05,5.000000000000001E-3,{"$f":"IF(【事例3】危険部品判断シート!$O$36=0,2.51*0.56*(O94/K94)^0.25+0.0000000567*$F$9*(($F$10+273+O94)^2+($F$10+273)^2)*(($F$10+273+O94)+($F$10+273)),3.86*(【事例3】危険部品判断シート!$O$36/K94)^0.5+0.0000000567*$F$9*(($F$10+273+O94)^2+($F$10+273)^2)*(($F$10+273+O94)+($F$10+273)))","v":21.910906065878944},9.9278744657416382,32.629308727905475,1E-4,2.5000000000000005E-3,211.36655993663419,1.2678417607814747,186.7594399242839,0.32585741320471845,3.8345660514821542,13.762440517223792,3.2866359098818423]
[null,null,null,null,null,null,48,3.5104528368642458,1.2E-2,4.8000000000000001E-2,5.2000000000000005E-2,{"$f":"K95^2*2","v":5.4080000000000013E-3},{"$f":"IF(【事例3】危険部品判断シート!$O$36=0,2.51*0.56*(O95/K95)^0.25+0.0000000567*$F$9*(($F$10+273+O95)^2+($F$10+273)^2)*(($F$10+273+O95)+($F$10+273)),3.86*(【事例3】危険部品判断シート!$O$36/K95)^0.5+0.0000000567*$F$9*(($F$10+273+O95)^2+($F$10+273)^2)*(($F$10+273+O95)+($F$10+273)))","v":21.637406538857533},9.2855509814454873,32.596488784662895,1.44E-4,2.7040000000000007E-3,190.41656404163541,1.0158988467800278,170.20373585947021,0.2955772729586848,3.3758644551971755,12.661415436642663,3.5104528368642471]
[null,null,null,null,null,null,56,3.7405128569221753,1.4E-2,5.6000000000000001E-2,5.3999999999999999E-2,5.8319999999999995E-3,{"$f":"IF(【事例3】危険部品判断シート!$O$36=0,2.51*0.56*(O96/K96)^0.25+0.0000000567*$F$9*(($F$10+273+O96)^2+($F$10+273)^2)*(($F$10+273+O96)+($F$10+273)),3.86*(【事例3】危険部品判断シート!$O$36/K96)^0.5+0.0000000567*$F$9*(($F$10+273+O96)^2+($F$10+273)^2)*(($F$10+273+O96)+($F$10+273)))","v":21.379245867182078},8.7061616280228158,32.565509504061836,1.9600000000000002E-4,2.9159999999999998E-3,174.54575655508455,0.83851968305653102,157.75151475026775,0.27223228696026064,3.0152657762217667,11.721427404244583,3.7405128569221762]
[null,null,null,null,null,null,64,3.9767694816742947,1.6E-2,6.4000000000000001E-2,5.6000000000000001E-2,6.2720000000000007E-3,{"$f":"IF(【事例3】危険部品判断シート!$O$36=0,2.51*0.56*(O97/K97)^0.25+0.0000000567*$F$9*(($F$10+273+O97)^2+($F$10+273)^2)*(($F$10+273+O97)+($F$10+273)),3.86*(【事例3】危険部品判断シート!$O$36/K97)^0.5+0.0000000567*$F$9*(($F$10+273+O97)^2+($F$10+273)^2)*(($F$10+273+O97)+($F$10+273)))","v":21.135041888149946},8.1815667658160685,32.536205026578003,2.5599999999999999E-4,3.1360000000000003E-3,161.93442851485196,0.707500982578948,147.91142588264893,0.25344894105748683,2.7236232112436949,10.905189977059763,3.9767694816742947]
[null,null,null,null,null,null,72.000000000000014,4.2191787373749081,1.8000000000000002E-2,7.2000000000000008E-2,5.8000000000000003E-2,6.7280000000000005E-3,{"$f":"IF(【事例3】危険部品判断シート!$O$36=0,2.51*0.56*(O98/K98)^0.25+0.0000000567*$F$9*(($F$10+273+O98)^2+($F$10+273)^2)*(($F$10+273+O98)+($F$10+273)),3.86*(【事例3】危険部品判断シート!$O$36/K98)^0.5+0.0000000567*$F$9*(($F$10+273+O98)^2+($F$10+273)^2)*(($F$10+273+O98)+($F$10+273)))","v":20.903580744029469},7.7049188272857227,32.508429689283531,3.2400000000000007E-4,3.3640000000000002E-3,151.56121067334362,0.60720390842024641,139.84988660732586,0.23785376338732289,2.482555036473729,10.187473863759452,4.2191787373749081]
[null,null,null,null,null,null,80.000000000000014,4.4676989460477694,2.0000000000000004E-2,8.0000000000000016E-2,6.0000000000000005E-2,7.2000000000000015E-3,{"$f":"IF(【事例3】危険部品判断シート!$O$36=0,2.51*0.56*(O99/K99)^0.25+0.0000000567*$F$9*(($F$10+273+O99)^2+($F$10+273)^2)*(($F$10+273+O99)+($F$10+273)),3.86*(【事例3】危険部品判断シート!$O$36/K99)^0.5+0.0000000567*$F$9*(($F$10+273+O99)^2+($F$10+273)^2)*(($F$10+273+O99)+($F$10+273)))","v":20.683791416887814},7.270421611277305,32.482054970026539,4.0000000000000018E-4,3.6000000000000008E-3,142.8054666138618,0.52826740032561426,133.06288263888743,0.22459381808382831,2.2797862635983854,9.5502078748756905,4.4676989460477694]
[null,null,null,null,null,null,88.000000000000028,4.722290532397901,2.2000000000000006E-2,8.8000000000000023E-2,6.2000000000000006E-2,7.6880000000000013E-3,{"$f":"IF(【事例3】危険部品判断シート!$O$36=0,2.51*0.56*(O100/K100)^0.25+0.0000000567*$F$9*(($F$10+273+O100)^2+($F$10+273)^2)*(($F$10+273+O100)+($F$10+273)),3.86*(【事例3】危険部品判断シート!$O$36/K100)^0.5+0.0000000567*$F$9*(($F$10+273+O100)^2+($F$10+273)^2)*(($F$10+273+O100)+($F$10+273)))","v":20.474724819623223},6.8731406413221423,32.456966978354792,4.8400000000000027E-4,3.8440000000000006E-3,135.26628733892784,0.46475137858558441,127.22667514894495,0.21310904434811101,2.1067651446664977,8.97990578598864,4.722290532397901]
[null,null,null,null,null,null,96.000000000000028,4.9829158527241653,2.4000000000000007E-2,9.600000000000003E-2,6.4000000000000001E-2,8.1919999999999996E-3,{"$f":"IF(【事例3】危険部品判断シート!$O$36=0,2.51*0.56*(O101/K101)^0.25+0.0000000567*$F$9*(($F$10+273+O101)^2+($F$10+273)^2)*(($F$10+273+O101)+($F$10+273)),3.86*(【事例3】危険部品判断シート!$O$36/K101)^0.5+0.0000000567*$F$9*(($F$10+273+O101)^2+($F$10+273)^2)*(($F$10+273+O101)+($F$10+273)))","v":20.275536510108093},6.50885251523599,32.433064381212972,5.7600000000000034E-4,4.0959999999999998E-3,128.67179161716211,0.41270890650438607,122.12307327573774,0.20301471547384281,1.9573331802788869,8.4661856955148771,4.9829158527241653]
[null,null,null,null,null,null,104.00000000000004,5.2495390427104613,2.6000000000000009E-2,0.10400000000000004,6.6000000000000003E-2,8.712000000000001E-3,{"$f":"IF(【事例3】危険部品判断シート!$O$36=0,2.51*0.56*(O102/K102)^0.25+0.0000000567*$F$9*(($F$10+273+O102)^2+($F$10+273)^2)*(($F$10+273+O102)+($F$10+273)),3.86*(【事例3】危険部品判断シート!$O$36/K102)^0.5+0.0000000567*$F$9*(($F$10+273+O102)^2+($F$10+273)^2)*(($F$10+273+O102)+($F$10+273)))","v":20.085472309115627},6.1739243033345828,32.410256677093876,6.7600000000000049E-4,4.3560000000000005E-3,122.8301444741401,0.36941776246546448,117.59913631284522,0.19403652667591154,1.8269344954905409,8.0008587988251243,5.2495390427104613]
[null,null,null,null,null,null,112.00000000000004,5.5221258814985852,2.8000000000000011E-2,0.11200000000000004,6.8000000000000005E-2,9.248000000000001E-3,{"$f":"IF(【事例3】危険部品判断シート!$O$36=0,2.51*0.56*(O103/K103)^0.25+0.0000000567*$F$9*(($F$10+273+O103)^2+($F$10+273)^2)*(($F$10+273+O103)+($F$10+273)),3.86*(【事例3】危険部品判断シート!$O$36/K103)^0.5+0.0000000567*$F$9*(($F$10+273+O103)^2+($F$10+273)^2)*(($F$10+273+O103)+($F$10+273)))","v":19.90385626261024},5.8652163037478058,32.388462751513224,7.8400000000000063E-4,4.6240000000000005E-3,117.60146213828142,0.33294163886068118,113.54410146803183,0.18597271043767025,1.712122386649342,7.5773386903971476,5.5221258814985852]
[null,null,null,null,null,null,120.00000000000006,5.8006436698695314,3.0000000000000013E-2,0.12000000000000005,7.0000000000000007E-2,9.8000000000000014E-3,{"$f":"IF(【事例3】危険部品判断シート!$O$36=0,2.51*0.56*(O104/K104)^0.25+0.0000000567*$F$9*(($F$10+273+O104)^2+($F$10+273)^2)*(($F$10+273+O104)+($F$10+273)),3.86*(【事例3】危険部品判断シート!$O$36/K104)^0.5+0.0000000567*$F$9*(($F$10+273+O104)^2+($F$10+273)^2)*(($F$10+273+O104)+($F$10+273)))","v":19.73008050976031},5.580003100224781,32.367609661171237,9.0000000000000073E-4,4.9000000000000007E-3,112.88087614521487,0.30186708590035094,109.87550644036402,0.17867088001114831,1.6102390891608387,7.1902421893856197,5.8006436698695314]
[null,null,null,null,null,null,128.00000000000006,6.0850611207043332,3.2000000000000015E-2,0.12800000000000006,7.2000000000000008E-2,1.0368000000000002E-2,{"$f":"IF(【事例3】危険部品判断シート!$O$36=0,2.51*0.56*(O105/K105)^0.25+0.0000000567*$F$9*(($F$10+273+O105)^2+($F$10+273)^2)*(($F$10+273+O105)+($F$10+273)),3.86*(【事例3】危険部品判断シート!$O$36/K105)^0.5+0.0000000567*$F$9*(($F$10+273+O105)^2+($F$10+273)^2)*(($F$10+273+O105)+($F$10+273)))","v":19.56359671008337},5.3159090703538956,32.347631605210005,1.024000000000001E-3,5.1840000000000011E-3,108.58788884488482,0.27513927100292396,106.53048989248305,0.17201330852143265,1.5192011589756385,6.8351102293295343,6.0850611207043332]
[null,null,null,null,null,null,136.00000000000006,6.375348260177323,3.4000000000000016E-2,0.13600000000000007,7.400000000000001E-2,1.0952000000000003E-2,{"$f":"IF(【事例3】危険部品判断シート!$O$36=0,2.51*0.56*(O106/K106)^0.25+0.0000000567*$F$9*(($F$10+273+O106)^2+($F$10+273)^2)*(($F$10+273+O106)+($F$10+273)),3.86*(【事例3】危険部品判断シート!$O$36/K106)^0.5+0.0000000567*$F$9*(($F$10+273+O106)^2+($F$10+273)^2)*(($F$10+273+O106)+($F$10+273)))","v":19.403908753887634},5.0708553840739254,32.328469050466509,1.1560000000000012E-3,5.4760000000000017E-3,104.65944033874325,0.25195583481348843,103.46014209346909,0.16590724902676049,1.4373516720863653,6.5082070561602912,6.375348260177323]
[null,null,null,null,null,null,144.00000000000009,6.6714763383664417,3.6000000000000018E-2,0.14400000000000007,7.6000000000000012E-2,1.1552000000000003E-2,{"$f":"IF(【事例3】危険部品判断シート!$O$36=0,2.51*0.56*(O107/K107)^0.25+0.0000000567*$F$9*(($F$10+273+O107)^2+($F$10+273)^2)*(($F$10+273+O107)+($F$10+273)),3.86*(【事例3】危険部品判断シート!$O$36/K107)^0.5+0.0000000567*$F$9*(($F$10+273+O107)^2+($F$10+273)^2)*(($F$10+273+O107)+($F$10+273)))","v":19.250566534990881},4.8430161999360779,32.310067984198902,1.2960000000000014E-3,5.7760000000000016E-3,101.04525142030025,0.2316962282129886,100.62572284554699,0.16027837933062242,1.3633560331269292,6.2063722330630071,6.6714763383664417]
[null,null,null,null,null,null,152.00000000000009,6.9734177481570505,3.800000000000002E-2,0.15200000000000008,7.8000000000000014E-2,1.2168000000000003E-2,{"$f":"IF(【事例3】危険部品判断シート!$O$36=0,2.51*0.56*(O108/K108)^0.25+0.0000000567*$F$9*(($F$10+273+O108)^2+($F$10+273)^2)*(($F$10+273+O108)+($F$10+273)),3.86*(【事例3】危険部品判断シート!$O$36/K108)^0.5+0.0000000567*$F$9*(($F$10+273+O108)^2+($F$10+273)^2)*(($F$10+273+O108)+($F$10+273)))","v":19.103160607486984},4.630782270491788,32.292379272898437,1.4440000000000015E-3,6.0840000000000017E-3,97.704609945885579,0.21387344142737411,97.996061261313116,0.15506624664527685,1.2961270148946884,5.9269092853864764,6.9734177481570505]
[null,null,null,null,null,null,160.00000000000009,7.2811459514753789,4.0000000000000022E-2,0.16000000000000009,8.0000000000000016E-2,1.2800000000000006E-2,{"$f":"IF(【事例3】危険部品判断シート!$O$36=0,2.51*0.56*(O109/K109)^0.25+0.0000000567*$F$9*(($F$10+273+O109)^2+($F$10+273)^2)*(($F$10+273+O109)+($F$10+273)),3.86*(【事例3】危険部品判断シート!$O$36/K109)^0.5+0.0000000567*$F$9*(($F$10+273+O109)^2+($F$10+273)^2)*(($F$10+273+O109)+($F$10+273)))","v":18.961317581967123},4.4327305516099571,32.275358109836063,1.6000000000000018E-3,6.4000000000000029E-3,94.604099960396326,0.19810027512210523,95.545725680586273,0.15022102870941192,1.2347698510575269,5.6675004026674838,7.2811459514753789]
[null,null,null,null,null,null,168.00000000000009,7.594635412021141,4.2000000000000023E-2,0.16800000000000009,8.2000000000000017E-2,1.3448000000000005E-2,{"$f":"IF(【事例3】危険部品判断シート!$O$36=0,2.51*0.56*(O110/K110)^0.25+0.0000000567*$F$9*(($F$10+273+O110)^2+($F$10+273)^2)*(($F$10+273+O110)+($F$10+273)),3.86*(【事例3】危険部品判断シート!$O$36/K110)^0.5+0.0000000567*$F$9*(($F$10+273+O110)^2+($F$10+273)^2)*(($F$10+273+O110)+($F$10+273)))","v":18.824696143221143},4.2475987044915353,32.258963537186538,1.7640000000000019E-3,6.7240000000000025E-3,91.715962795276326,0.18406529628070176,93.253708518566484,0.14570118343383223,1.178541369741936,5.4261400742334711,7.594635412021141]
[null,null,null,null,null,null,176.00000000000011,7.9138615337811915,4.4000000000000025E-2,0.1760000000000001,8.4000000000000019E-2,1.4112000000000006E-2,{"$f":"IF(【事例3】危険部品判断シート!$O$36=0,2.51*0.56*(O111/K111)^0.25+0.0000000567*$F$9*(($F$10+273+O111)^2+($F$10+273)^2)*(($F$10+273+O111)+($F$10+273)),3.86*(【事例3】危険部品判断シート!$O$36/K111)^0.5+0.0000000567*$F$9*(($F$10+273+O111)^2+($F$10+273)^2)*(($F$10+273+O111)+($F$10+273)))","v":18.692983592642641},4.0742636061401418,32.243158031117112,1.9360000000000022E-3,7.0560000000000032E-3,89.016891737173992,0.17151538971610844,91.102463381918142,0.14147171181078483,1.126819138446431,5.2010827445865733,7.9138615337811915]
[null,null,null,null,null,null,184.00000000000011,8.2388006047005806,4.6000000000000027E-2,0.18400000000000011,8.6000000000000021E-2,1.4792000000000007E-2,{"$f":"IF(【事例3】危険部品判断シート!$O$36=0,2.51*0.56*(O112/K112)^0.25+0.0000000567*$F$9*(($F$10+273+O112)^2+($F$10+273)^2)*(($F$10+273+O112)+($F$10+273)),3.86*(【事例3】危険部品判断シート!$O$36/K112)^0.5+0.0000000567*$F$9*(($F$10+273+O112)^2+($F$10+273)^2)*(($F$10+273+O112)+($F$10+273)))","v":18.565892835543032},3.91172316051414,32.227907140265167,2.1160000000000024E-3,7.3960000000000033E-3,86.487130397941982,0.16024289190867969,89.077188170254203,0.1375028527025047,1.0790778643017935,4.9908010248159336,8.2388006047005806]
[null,null,null,null,null,null,192.00000000000011,8.5694297449678078,4.8000000000000029E-2,0.19200000000000012,8.8000000000000023E-2,1.5488000000000009E-2,{"$f":"IF(【事例3】危険部品判断シート!$O$36=0,2.51*0.56*(O113/K113)^0.25+0.0000000567*$F$9*(($F$10+273+O113)^2+($F$10+273)^2)*(($F$10+273+O113)+($F$10+273)),3.86*(【事例3】危険部品判断シート!$O$36/K113)^0.5+0.0000000567*$F$9*(($F$10+273+O113)^2+($F$10+273)^2)*(($F$10+273+O113)+($F$10+273)))","v":18.443159747261973},3.7590808406577878,32.213179169671442,2.3040000000000027E-3,7.7440000000000044E-3,84.109787842784542,0.15007596600159487,87.165283155393823,0.13376908736075438,1.0348711302163489,4.7939519708741365,8.5694297449678078]
[null,null,null,null,null,null,200.00000000000011,8.9057268594394063,5.0000000000000031E-2,0.20000000000000012,9.0000000000000024E-2,1.620000000000001E-2,{"$f":"IF(【事例3】危険部品判断シート!$O$36=0,2.51*0.56*(O114/K114)^0.25+0.0000000567*$F$9*(($F$10+273+O114)^2+($F$10+273)^2)*(($F$10+273+O114)+($F$10+273)),3.86*(【事例3】危険部品判断シート!$O$36/K114)^0.5+0.0000000567*$F$9*(($F$10+273+O114)^2+($F$10+273)^2)*(($F$10+273+O114)+($F$10+273)))","v":18.324540863044035},3.6155325008016388,32.198944903565284,2.5000000000000031E-3,8.1000000000000048E-3,81.87031107590785,0.14087130675349704,85.355935634553845,0.13024836978377824,0.99381710797437539,4.6093496087760144,8.9057268594394063]